PDS_VERSION_ID = PDS3
/* FILE DATA ELEMENTS */
RECORD_TYPE = UNDEFINED
/* POINTERS TO DATA OBJECTS */
^IMAGE = ("HK883_0000_P24.TIF")
/* IDENTIFICATION DATA ELEMENTS */
DATA_SET_ID = "MEX-M-HRSC-4-REFDR-MAPPROJECT-EXT7-V4.0"
DATA_SET_NAME = "MARS EXPRESS HRSC MAP PROJECTED REFDR EXTENSION7 V4.0"
DETECTOR_ID = MEX_HRSC_P2
EVENT_TYPE = "MARS-DUST-VARIABLE-Eo-At"
INSTRUMENT_HOST_ID = MEX
INSTRUMENT_HOST_NAME = "MARS EXPRESS"
INSTRUMENT_ID = HRSC
INSTRUMENT_NAME = "HIGH RESOLUTION STEREO CAMERA"
MISSION_NAME = "MARS EXPRESS"
MISSION_PHASE_NAME = ME_Phase_43
PROCESSING_LEVEL_ID = 4
PRODUCT_CREATION_TIME = 2023-01-29T07:12:14.000Z
PRODUCT_ID = "HK883_0000_P24.TIF"
RELEASE_ID = 0004
REVISION_ID = 0000
/* QUALITY DATA ELEMENTS */
DATA_QUALITY_ID = 1
DATA_QUALITY_DESC = "Data calculated based on original SPICE kernels"
/* TIME DATA ELEMENTS */
SPACECRAFT_CLOCK_START_COUNT = "1/0542330330.23964"
SPACECRAFT_CLOCK_STOP_COUNT = "1/0542330971.30142"
START_TIME = 2020-07-08T23:20:16.229Z
STOP_TIME = 2020-07-08T23:28:50.493Z
/* ORBITAL DATA ELEMENTS */
ASCENDING_NODE_LONGITUDE = 183.41
MAXIMUM_RESOLUTION = 0.0401
FOOTPRINT_POINT_LATITUDE = (-67.0499,-67.0165,-66.9818,-66.9147, -66.7816,-66.6776,-66.6714,-66.5939, -65.9375,-65.2883,-64.6437,-64.0073, -63.3774,-62.7548,-62.1407,-61.5338, -60.9329,-60.3391,-59.7525,-59.1728, -58.5986,-58.0311,-57.4709,-56.9137, -56.3523,-55.7881,-55.2334,-54.7315, -54.2245,-53.7146,-53.2021,-52.6921, -52.1876,-51.6887,-51.1939,-50.7048, -50.2202,-49.7394,-49.2645,-48.7933, -48.326,-47.8631,-47.4085,-46.2827, -45.6008,-44.947,-44.3011,-43.4543, -42.6218,-42.0063,-41.1954,-40.994, -40.9439,-40.9681,-40.9838,-40.9837, -40.9843,-42.0002,-42.8242,-43.4486, -44.2996,-45.1631,-46.2874,-47.188, -47.6456,-48.107,-48.5738,-49.0446, -49.522,-50.0027,-50.4881,-50.979, -51.4749,-51.9756,-52.4821,-52.9938, -53.7692,-54.2852,-54.7988,-55.309, -55.8631,-56.4365,-57.0061,-57.5694, -58.1382,-58.7145,-59.2997,-59.8872, -60.4855,-61.0894,-61.7,-62.3193, -62.9452,-63.5804,-64.2253,-64.879, -65.5428,-66.5533,-66.8938,-67.0499)
FOOTPRINT_POINT_LONGITUDE = (53.2309,51.4393,50.2518,48.5629, 46.1355,44.6392,44.5563,44.4852,44.8496 ,45.1869,45.4983,45.7877,46.057,46.3078 ,46.5432,46.7635,46.9696,47.1625, 47.3438,47.5149,47.675,47.8263,47.9696, 48.1039,48.2323,48.3569,48.4739,48.5763 ,48.6744,48.7695,48.8619,48.9497, 49.0332,49.113,49.1884,49.261,49.3296, 49.3946,49.4575,49.517,49.5742,49.6287, 49.6822,49.8033,49.8725,49.9355,49.9946 ,50.0689,50.1379,50.1859,50.2453, 50.2597,50.2632,51.2494,52.499,52.521, 52.529,52.5469,52.5634,52.5774,52.5935, 52.6115,52.6334,52.6521,52.6618,52.6716 ,52.681,52.691,52.7005,52.7112,52.7221, 52.733,52.7444,52.7564,52.7683,52.7807, 52.801,52.8144,52.8275,52.8409,52.856, 52.8717,52.8873,52.9056,52.9248,52.9434 ,52.9618,52.9852,53.0063,53.0307, 53.0574,53.0843,53.1142,53.1443,53.1751 ,53.2069,53.2391,53.2945,53.3151, 53.2309)
ORBIT_NUMBER = 20883
ORBITAL_ECCENTRICITY = 0.578
ORBITAL_INCLINATION = 86.97
ORBITAL_SEMIMAJOR_AXIS = 8843.61
PERIAPSIS_ALTITUDE = 341.63
PERIAPSIS_ARGUMENT_ANGLE = 341.87
PERIAPSIS_TIME = 2020-07-08T23:35:21.000Z
SPACECRAFT_ORIENTATION = (0.0,1.0,0.0)
^MEX_ORIENTATION_DESC = "MEX_ORIENTATION_DESC.TXT"
SPACECRAFT_POINTING_MODE = NADIR
^MEX_POINTING_DESC = "MEX_POINTING_DESC.TXT"
RIGHT_ASCENSION = -1e+32
DECLINATION = -1e+32
OFFSET_ANGLE = -1e+32
SPACECRAFT_SOLAR_DISTANCE = 2.07345e+08
TARGET_NAME = MARS
/* CAMERA DATA ELEMENTS */
DETECTOR_TEMPERATURE = 18.3705
FOCAL_PLANE_TEMPERATURE = 7.5638
INST_CMPRS_NAME = "DISCRETE COSINE TRANSFORMATION (DCT)"
INST_CMPRS_RATIO = 8.82429
INST_CMPRS_QUALITY = 0
INST_CMPRS_QUANTZ_TBL_ID = 0
INSTRUMENT_TEMPERATURE = 10.4184
LENS_TEMPERATURE = 8.1755
MACROPIXEL_SIZE = 2
MISSING_FRAMES = 4
PIXEL_SUBSAMPLING_FLAG = N
SIGNAL_CHAIN_ID = 3
/* RADIOMETRIC DATA ELEMENTS */
BANDWIDTH = 177.0
CENTER_FILTER_WAVELENGTH = 676.5
RADIANCE_OFFSET = 4.00875
RADIANCE_SCALING_FACTOR = 0.00940603
REFLECTANCE_SCALING_FACTOR = 0.000214414
MEX:REFLECTANCE_OFFSET = 0.0913807
/* IMAGE OBJECT DEFINITIONS */
OBJECT = IMAGE
  INTERCHANGE_FORMAT = BINARY
  LINES = 61562
  LINE_SAMPLES = 8378
  SAMPLE_TYPE = UNSIGNED_INTEGER
  SAMPLE_BITS = 8
  BANDS = 1
  BAND_STORAGE_TYPE = BAND_SEQUENTIAL
  MAXIMUM = 255
  MEAN = 94.7025
  MINIMUM = 1
  STANDARD_DEVIATION = 38.9951
END_OBJECT = IMAGE
/* MAP OBJECT DEFINITIONS */
OBJECT = IMAGE_MAP_PROJECTION
  ^DATA_SET_MAP_PROJECTION_CATALOG= "DSMAP.CAT"
  A_AXIS_RADIUS = 3396.0
  B_AXIS_RADIUS = 3396.0
  C_AXIS_RADIUS = 3396.0
  CENTER_LATITUDE = 0.0
  CENTER_LONGITUDE = 51.0
  COORDINATE_SYSTEM_NAME = PLANETOGRAPHIC
  COORDINATE_SYSTEM_TYPE = "BODY-FIXED ROTATING"
  EASTERNMOST_LONGITUDE = 53.3151
  FIRST_STANDARD_PARALLEL = "N/A"
  LINE_FIRST_PIXEL = 1
  LINE_LAST_PIXEL = 61562
  LINE_PROJECTION_OFFSET = -97149.75
  MAP_PROJECTION_ROTATION = 0.0
  MAP_PROJECTION_TYPE = SINUSOIDAL
  MAP_RESOLUTION = 2370.85521546667
  MAP_SCALE = 0.025
  MAXIMUM_LATITUDE = -40.9439
  MINIMUM_LATITUDE = -67.04989999999999
  POSITIVE_LONGITUDE_DIRECTION = EAST
  REFERENCE_LATITUDE = "N/A"
  REFERENCE_LONGITUDE = "N/A"
  SAMPLE_FIRST_PIXEL = 1
  SAMPLE_LAST_PIXEL = 8378
  SAMPLE_PROJECTION_OFFSET = 5734.75
  SECOND_STANDARD_PARALLEL = "N/A"
  WESTERNMOST_LONGITUDE = 44.4852
END_OBJECT = IMAGE_MAP_PROJECTION
END
