PDS_VERSION_ID = PDS3
/* FILE DATA ELEMENTS */
RECORD_TYPE = UNDEFINED
/* POINTERS TO DATA OBJECTS */
^IMAGE = ("HK883_0000_P14.TIF")
/* IDENTIFICATION DATA ELEMENTS */
DATA_SET_ID = "MEX-M-HRSC-4-REFDR-MAPPROJECT-EXT7-V4.0"
DATA_SET_NAME = "MARS EXPRESS HRSC MAP PROJECTED REFDR EXTENSION7 V4.0"
DETECTOR_ID = MEX_HRSC_P1
EVENT_TYPE = "MARS-DUST-VARIABLE-Eo-At"
INSTRUMENT_HOST_ID = MEX
INSTRUMENT_HOST_NAME = "MARS EXPRESS"
INSTRUMENT_ID = HRSC
INSTRUMENT_NAME = "HIGH RESOLUTION STEREO CAMERA"
MISSION_NAME = "MARS EXPRESS"
MISSION_PHASE_NAME = ME_Phase_43
PROCESSING_LEVEL_ID = 4
PRODUCT_CREATION_TIME = 2023-01-29T07:12:14.000Z
PRODUCT_ID = "HK883_0000_P14.TIF"
RELEASE_ID = 0004
REVISION_ID = 0000
/* QUALITY DATA ELEMENTS */
DATA_QUALITY_ID = 1
DATA_QUALITY_DESC = "Data calculated based on original SPICE kernels"
/* TIME DATA ELEMENTS */
SPACECRAFT_CLOCK_START_COUNT = "1/0542330330.23964"
SPACECRAFT_CLOCK_STOP_COUNT = "1/0542330971.30142"
START_TIME = 2020-07-08T23:22:39.170Z
STOP_TIME = 2020-07-08T23:29:48.503Z
/* ORBITAL DATA ELEMENTS */
ASCENDING_NODE_LONGITUDE = 183.41
MAXIMUM_RESOLUTION = 0.037
FOOTPRINT_POINT_LATITUDE = (-66.8306,-66.7994,-66.7516,-66.6897, -66.5685,-66.5645,-66.6198,-65.9419, -65.273,-64.6161,-63.9662,-63.3255, -62.6934,-62.0578,-61.4206,-60.778, -60.2105,-59.642,-58.7838,-58.2109, -57.6433,-57.0835,-56.5303,-55.9833, -55.4429,-54.9099,-54.3825,-53.862, -53.3459,-52.8352,-52.3307,-51.8329, -51.3399,-50.8512,-50.3686,-49.8711, -49.3979,-48.9331,-48.2385,-47.7825, -47.3327,-46.6629,-46.2195,-45.3496, -44.4939,-43.6518,-43.0328,-42.2159, -41.2143,-41.0158,-41.0013,-41.0142, -41.027,-41.0277,-41.0283,-41.6239, -42.2316,-43.0544,-43.6758,-44.3069, -44.95,-45.8162,-46.2536,-46.6989, -47.1446,-47.5981,-48.2836,-48.7445, -49.2132,-49.6846,-50.4246,-50.9093, -51.4006,-51.8962,-52.3965,-52.9035, -53.4174,-53.9372,-54.4627,-54.993, -55.5304,-56.0743,-56.6253,-57.183, -57.7499,-58.3234,-58.9029,-59.7684, -60.3455,-61.2451,-61.8957,-62.5441, -63.1885,-63.8368,-64.4954,-65.1609, -65.8365,-66.5229,-66.87,-66.8306)
FOOTPRINT_POINT_LONGITUDE = (52.4606,51.0022,49.4117,47.8296, 45.4342,45.3659,45.2472,45.5746,45.8763 ,46.1518,46.4087,46.6476,46.8687, 47.0814,47.2813,47.4739,47.634,47.7872, 48.0056,48.1412,48.2709,48.3922,48.5068 ,48.6154,48.7183,48.8151,48.9075, 48.9941,49.0779,49.157,49.2323,49.3038, 49.3719,49.4369,49.4992,49.56,49.6161, 49.6681,49.7459,49.7937,49.8382,49.9045 ,49.9467,50.0245,50.0967,50.1639, 50.2104,50.2693,50.3358,50.3486,50.3495 ,51.1196,52.4159,52.4365,52.4438, 52.4499,52.4565,52.4677,52.4744,52.4791 ,52.4878,52.4963,52.5,52.5047,52.5086, 52.5129,52.5187,52.5221,52.5255,52.5289 ,52.5346,52.538,52.5414,52.5446,52.5477 ,52.5503,52.5533,52.5568,52.5599, 52.5618,52.5641,52.5657,52.5669,52.5679 ,52.5705,52.5725,52.5729,52.5722, 52.5736,52.5741,52.5742,52.5742,52.5724 ,52.5689,52.5646,52.5572,52.5477, 52.5373,52.5319,52.4606)
ORBIT_NUMBER = 20883
ORBITAL_ECCENTRICITY = 0.578
ORBITAL_INCLINATION = 86.97
ORBITAL_SEMIMAJOR_AXIS = 8843.61
PERIAPSIS_ALTITUDE = 341.63
PERIAPSIS_ARGUMENT_ANGLE = 341.87
PERIAPSIS_TIME = 2020-07-08T23:35:21.000Z
SPACECRAFT_ORIENTATION = (0.0,1.0,0.0)
^MEX_ORIENTATION_DESC = "MEX_ORIENTATION_DESC.TXT"
SPACECRAFT_POINTING_MODE = NADIR
^MEX_POINTING_DESC = "MEX_POINTING_DESC.TXT"
RIGHT_ASCENSION = -1e+32
DECLINATION = -1e+32
OFFSET_ANGLE = -1e+32
SPACECRAFT_SOLAR_DISTANCE = 2.07345e+08
TARGET_NAME = MARS
/* CAMERA DATA ELEMENTS */
DETECTOR_TEMPERATURE = 17.1471
FOCAL_PLANE_TEMPERATURE = 7.5638
INST_CMPRS_NAME = "DISCRETE COSINE TRANSFORMATION (DCT)"
INST_CMPRS_RATIO = 11.7146
INST_CMPRS_QUALITY = 0
INST_CMPRS_QUANTZ_TBL_ID = 0
INSTRUMENT_TEMPERATURE = 10.4184
LENS_TEMPERATURE = 8.1755
MACROPIXEL_SIZE = 2
PIXEL_SUBSAMPLING_FLAG = N
SIGNAL_CHAIN_ID = 3
/* RADIOMETRIC DATA ELEMENTS */
BANDWIDTH = 174.0
CENTER_FILTER_WAVELENGTH = 675.0
RADIANCE_OFFSET = 4.10326
RADIANCE_SCALING_FACTOR = 0.00710695
REFLECTANCE_SCALING_FACTOR = 0.000164345
MEX:REFLECTANCE_OFFSET = 0.0948862
/* IMAGE OBJECT DEFINITIONS */
OBJECT = IMAGE
  INTERCHANGE_FORMAT = BINARY
  LINES = 61562
  LINE_SAMPLES = 8378
  SAMPLE_TYPE = UNSIGNED_INTEGER
  SAMPLE_BITS = 8
  BANDS = 1
  BAND_STORAGE_TYPE = BAND_SEQUENTIAL
  MAXIMUM = 255
  MEAN = 123.448
  MINIMUM = 1
  STANDARD_DEVIATION = 45.8089
END_OBJECT = IMAGE
/* MAP OBJECT DEFINITIONS */
OBJECT = IMAGE_MAP_PROJECTION
  ^DATA_SET_MAP_PROJECTION_CATALOG= "DSMAP.CAT"
  A_AXIS_RADIUS = 3396.0
  B_AXIS_RADIUS = 3396.0
  C_AXIS_RADIUS = 3396.0
  CENTER_LATITUDE = 0.0
  CENTER_LONGITUDE = 51.0
  COORDINATE_SYSTEM_NAME = PLANETOGRAPHIC
  COORDINATE_SYSTEM_TYPE = "BODY-FIXED ROTATING"
  EASTERNMOST_LONGITUDE = 52.5742
  FIRST_STANDARD_PARALLEL = "N/A"
  LINE_FIRST_PIXEL = 1
  LINE_LAST_PIXEL = 61562
  LINE_PROJECTION_OFFSET = -97149.75
  MAP_PROJECTION_ROTATION = 0.0
  MAP_PROJECTION_TYPE = SINUSOIDAL
  MAP_RESOLUTION = 2370.85521546667
  MAP_SCALE = 0.025
  MAXIMUM_LATITUDE = -41.0013
  MINIMUM_LATITUDE = -66.87
  POSITIVE_LONGITUDE_DIRECTION = EAST
  REFERENCE_LATITUDE = "N/A"
  REFERENCE_LONGITUDE = "N/A"
  SAMPLE_FIRST_PIXEL = 1
  SAMPLE_LAST_PIXEL = 8378
  SAMPLE_PROJECTION_OFFSET = 5734.75
  SECOND_STANDARD_PARALLEL = "N/A"
  WESTERNMOST_LONGITUDE = 45.2472
END_OBJECT = IMAGE_MAP_PROJECTION
END
