PDS_VERSION_ID = PDS3
/* FILE DATA ELEMENTS */
RECORD_TYPE = UNDEFINED
/* POINTERS TO DATA OBJECTS */
^IMAGE = ("HK828_0000_BL4.TIF")
/* IDENTIFICATION DATA ELEMENTS */
DATA_SET_ID = "MEX-M-HRSC-4-REFDR-MAPPROJECT-EXT7-V4.0"
DATA_SET_NAME = "MARS EXPRESS HRSC MAP PROJECTED REFDR EXTENSION7 V4.0"
DETECTOR_ID = MEX_HRSC_BLUE
EVENT_TYPE = "MARS-TERMINATOR-CALIBRATION-Tc"
INSTRUMENT_HOST_ID = MEX
INSTRUMENT_HOST_NAME = "MARS EXPRESS"
INSTRUMENT_ID = HRSC
INSTRUMENT_NAME = "HIGH RESOLUTION STEREO CAMERA"
MISSION_NAME = "MARS EXPRESS"
MISSION_PHASE_NAME = ME_Phase_42
PROCESSING_LEVEL_ID = 4
PRODUCT_CREATION_TIME = 2023-01-29T07:12:14.000Z
PRODUCT_ID = "HK828_0000_BL4.TIF"
RELEASE_ID = 0004
REVISION_ID = 0000
/* QUALITY DATA ELEMENTS */
DATA_QUALITY_ID = 1
DATA_QUALITY_DESC = "Data calculated based on original SPICE kernels"
/* TIME DATA ELEMENTS */
SPACECRAFT_CLOCK_START_COUNT = "1/0540942794.23988"
SPACECRAFT_CLOCK_STOP_COUNT = "1/0540943294.20997"
START_TIME = 2020-06-22T21:56:02.097Z
STOP_TIME = 2020-06-22T22:00:34.090Z
/* ORBITAL DATA ELEMENTS */
ASCENDING_NODE_LONGITUDE = 184.41
MAXIMUM_RESOLUTION = 0.5761
FOOTPRINT_POINT_LATITUDE = (-75.1465,-75.1036,-75.6349,-78.709, -79.7527,-79.7855,-78.6915,-75.9804, -75.5177,-71.9486,-70.2475,-68.3905, -68.6951,-69.6203,-70.5287,-70.2506, -69.4967,-67.9934,-66.4915,-64.1381, -61.9486,-59.3904,-55.8563,-52.046, -49.6252,-44.728,-41.315,-37.5738, -33.7172,-30.2158,-26.8332,-21.1446, -18.3287,-14.8034,-12.0291,-8.75025, -4.62813,-2.09444,1.5777,6.33086, 9.57142,14.2936,19.7704,23.213,24.6729, 27.2988,26.8362,30.1029,31.475,32.5475, 32.2011,34.4533,34.6243,35.2277,34.8192 ,31.0524,29.5091,28.9224,29.2344, 30.1746,30.246,30.2814,25.8325,22.4748, 17.4577,13.425,9.10705,5.90514,0.937932 ,-2.25955,-6.25626,-10.8456,-13.4625, -16.9176,-22.0208,-26.3671,-28.8781, -31.3395,-35.0718,-39.4574,-42.475, -47.5042,-51.8145,-54.4449,-58.2917, -61.6175,-64.1356,-66.364,-69.1641, -72.6193,-74.0136,-74.6379,-74.8159, -74.1771,-71.8605,-73.9049,-80.795, -72.3336,-75.1465)
FOOTPRINT_POINT_LONGITUDE = (336.77,336.569,334.526,316.344,287.927 ,273.598,261.589,253.256,239.747, 237.514,225.915,230.63,223.896,216.865, 205.856,188.87,181.454,172.961,167.3, 161.017,156.725,152.927,149.046,146.059 ,144.578,142.344,141.267,140.425, 139.846,139.531,139.426,139.577,139.8, 140.21,140.627,141.255,142.215,142.907, 144.035,145.778,147.164,149.515,152.889 ,155.447,153.243,153.271,150.268, 148.755,146.117,143.09,139.551,138.163, 134.943,134.821,134.454,130.505,127.338 ,124.582,119.682,117.077,116.923, 116.781,116.38,116.078,115.62,115.241, 114.82,114.493,113.952,113.576,113.075, 112.438,112.041,111.471,110.519,109.579 ,108.971,108.319,107.219,105.702, 104.486,102.059,99.4417,97.507,94.0466, 90.1802,86.4666,82.3407,75.3858,61.0618 ,50.0625,40.5103,30.075,14.9422,357.9, 347.018,359.971,0.0334684,336.77)
ORBIT_NUMBER = 20828
ORBITAL_ECCENTRICITY = 0.578
ORBITAL_INCLINATION = 86.96
ORBITAL_SEMIMAJOR_AXIS = 8857.25
PERIAPSIS_ALTITUDE = 345.62
PERIAPSIS_ARGUMENT_ANGLE = 351.33
PERIAPSIS_TIME = 2020-06-22T23:31:07.000Z
SPACECRAFT_ORIENTATION = (0.0,1.0,0.0)
^MEX_ORIENTATION_DESC = "MEX_ORIENTATION_DESC.TXT"
SPACECRAFT_POINTING_MODE = FIXED
^MEX_POINTING_DESC = "MEX_POINTING_DESC.TXT"
RIGHT_ASCENSION = -1e+32
DECLINATION = -1e+32
OFFSET_ANGLE = -1e+32
SPACECRAFT_SOLAR_DISTANCE = 2.08471e+08
TARGET_NAME = MARS
/* CAMERA DATA ELEMENTS */
DETECTOR_TEMPERATURE = 17.9627
FOCAL_PLANE_TEMPERATURE = 7.9716
INST_CMPRS_NAME = "DISCRETE COSINE TRANSFORMATION (DCT)"
INST_CMPRS_RATIO = 11.0903
INST_CMPRS_QUALITY = 0
INST_CMPRS_QUANTZ_TBL_ID = 0
INSTRUMENT_TEMPERATURE = 10.6223
LENS_TEMPERATURE = 8.3794
MACROPIXEL_SIZE = 2
MISSING_FRAMES = 0
PIXEL_SUBSAMPLING_FLAG = N
SIGNAL_CHAIN_ID = 2
/* RADIOMETRIC DATA ELEMENTS */
BANDWIDTH = 76.0
CENTER_FILTER_WAVELENGTH = 444.0
RADIANCE_OFFSET = 0.0
RADIANCE_SCALING_FACTOR = 0.00325245
REFLECTANCE_SCALING_FACTOR = 0.000145238
MEX:REFLECTANCE_OFFSET = 0.0
/* IMAGE OBJECT DEFINITIONS */
OBJECT = IMAGE
  INTERCHANGE_FORMAT = BINARY
  LINES = 18531
  LINE_SAMPLES = 12462
  SAMPLE_TYPE = UNSIGNED_INTEGER
  SAMPLE_BITS = 8
  BANDS = 1
  BAND_STORAGE_TYPE = BAND_SEQUENTIAL
  MAXIMUM = 255
  MEAN = 249.266
  MINIMUM = 67
  STANDARD_DEVIATION = 18.0022
END_OBJECT = IMAGE
/* MAP OBJECT DEFINITIONS */
OBJECT = IMAGE_MAP_PROJECTION
  ^DATA_SET_MAP_PROJECTION_CATALOG= "DSMAP.CAT"
  A_AXIS_RADIUS = 3396.0
  B_AXIS_RADIUS = 3396.0
  C_AXIS_RADIUS = 3396.0
  CENTER_LATITUDE = 0.0
  CENTER_LONGITUDE = 123.0
  COORDINATE_SYSTEM_NAME = PLANETOGRAPHIC
  COORDINATE_SYSTEM_TYPE = "BODY-FIXED ROTATING"
  EASTERNMOST_LONGITUDE = 360.0
  FIRST_STANDARD_PARALLEL = "N/A"
  LINE_FIRST_PIXEL = 1
  LINE_LAST_PIXEL = 18531
  LINE_PROJECTION_OFFSET = 5346.0
  MAP_PROJECTION_ROTATION = 0.0
  MAP_PROJECTION_TYPE = SINUSOIDAL
  MAP_RESOLUTION = 148.178450966667
  MAP_SCALE = 0.4
  MAXIMUM_LATITUDE = 35.2277
  MINIMUM_LATITUDE = -90.0
  POSITIVE_LONGITUDE_DIRECTION = EAST
  REFERENCE_LATITUDE = "N/A"
  REFERENCE_LONGITUDE = "N/A"
  SAMPLE_FIRST_PIXEL = 1
  SAMPLE_LAST_PIXEL = 12462
  SAMPLE_PROJECTION_OFFSET = 6422.0
  SECOND_STANDARD_PARALLEL = "N/A"
  WESTERNMOST_LONGITUDE = 0.0
END_OBJECT = IMAGE_MAP_PROJECTION
END
