PDS_VERSION_ID = PDS3
/* FILE DATA ELEMENTS */
RECORD_TYPE = UNDEFINED
/* POINTERS TO DATA OBJECTS */
^IMAGE = ("HK780_0001_GR4.TIF")
/* IDENTIFICATION DATA ELEMENTS */
DATA_SET_ID = "MEX-M-HRSC-4-REFDR-MAPPROJECT-EXT7-V4.0"
DATA_SET_NAME = "MARS EXPRESS HRSC MAP PROJECTED REFDR EXTENSION7 V4.0"
DETECTOR_ID = MEX_HRSC_GREEN
EVENT_TYPE = "MARS-TERMINATOR-CALIBRATION-Tc"
INSTRUMENT_HOST_ID = MEX
INSTRUMENT_HOST_NAME = "MARS EXPRESS"
INSTRUMENT_ID = HRSC
INSTRUMENT_NAME = "HIGH RESOLUTION STEREO CAMERA"
MISSION_NAME = "MARS EXPRESS"
MISSION_PHASE_NAME = ME_Phase_42
PROCESSING_LEVEL_ID = 4
PRODUCT_CREATION_TIME = 2023-01-29T07:12:14.000Z
PRODUCT_ID = "HK780_0001_GR4.TIF"
RELEASE_ID = 0004
REVISION_ID = 0000
/* QUALITY DATA ELEMENTS */
DATA_QUALITY_ID = 1
DATA_QUALITY_DESC = "Data calculated based on original SPICE kernels"
/* TIME DATA ELEMENTS */
SPACECRAFT_CLOCK_START_COUNT = "1/0539732759.25693"
SPACECRAFT_CLOCK_STOP_COUNT = "1/0539733168.22380"
START_TIME = 2020-06-08T21:48:36.022Z
STOP_TIME = 2020-06-08T21:51:57.018Z
/* ORBITAL DATA ELEMENTS */
ASCENDING_NODE_LONGITUDE = 185.3
MAXIMUM_RESOLUTION = 0.7723
FOOTPRINT_POINT_LATITUDE = (56.4265,56.4865,50.1266,55.5341, 53.8545,50.9429,49.3801,47.1326,44.7361 ,41.9108,40.0284,37.7457,35.6942, 32.7355,30.5605,27.0739,22.7087,18.7305 ,13.8461,10.9718,8.26732,3.76654, -0.555685,-3.90779,-6.40924,-11.3286, -16.6016,-20.3152,-25.0155,-28.8895, -31.919,-34.8112,-38.9061,-44.2996, -46.9579,-50.6589,-54.0944,-58.292, -65.2082,-69.5413,-71.7757,-73.3553, -74.9806,-75.6547,-76.7944,-80.4801, -83.6296,-86.8607,-88.498,-83.5567, -81.0929,-78.5217,-74.1379,-71.1949, -66.6135,-63.5921,-59.8656,-59.9576, -59.9505,-59.4752,-58.4389,-56.0339, -54.3899,-51.832,-50.1149,-47.0067, -43.4524,-40.757,-36.1094,-33.8813, -31.0161,-27.2501,-24.9247,-20.2846, -17.2834,-12.0688,-8.6673,-3.57244, 0.420629,5.52352,8.5617,11.53,15.0608, 17.7739,20.4755,24.28,29.8414,32.4696, 35.4619,41.1502,45.207,48.0954,52.8487, 54.7423,57.1577,56.9207,56.8661,49.2115 ,56.4265)
FOOTPRINT_POINT_LONGITUDE = (5.56398,5.63004,359.962,7.20137, 13.7454,19.2614,26.2701,29.5554,34.116, 31.486,29.3235,26.983,25.112,22.7261, 21.1777,18.9789,16.636,14.8065,12.8917, 11.9197,11.0839,9.86058,8.87308,8.20576 ,7.77308,7.06624,6.51797,6.26776,6.1084 ,6.13795,6.26342,6.47971,6.96993, 8.02318,8.73671,10.0337,11.653,14.2916, 21.5534,29.8487,36.6293,43.6046,55.5033 ,65.6699,83.8219,86.9806,93.9387, 91.4152,173.024,235.11,241.748,248.279, 252.525,254.711,255.348,260.844,257.642 ,263.265,269.057,276.424,283.837, 293.648,298.206,303.653,306.618,311.033 ,315.053,317.548,321.084,322.517, 324.116,325.939,326.932,328.627,329.556 ,330.925,331.635,332.525,333.077, 333.572,333.78,333.904,333.975,333.956, 333.875,333.653,333.078,332.685,332.129 ,330.692,329.28,328.018,326.755,332.354 ,337.401,347.683,0.189883,359.963, 5.56398)
ORBIT_NUMBER = 20780
ORBITAL_ECCENTRICITY = 0.577
ORBITAL_INCLINATION = 86.96
ORBITAL_SEMIMAJOR_AXIS = 8850.86
PERIAPSIS_ALTITUDE = 350.02
PERIAPSIS_ARGUMENT_ANGLE = 359.62
PERIAPSIS_TIME = 2020-06-09T00:19:39.000Z
SPACECRAFT_ORIENTATION = (0.0,1.0,0.0)
^MEX_ORIENTATION_DESC = "MEX_ORIENTATION_DESC.TXT"
SPACECRAFT_POINTING_MODE = FIXED
^MEX_POINTING_DESC = "MEX_POINTING_DESC.TXT"
RIGHT_ASCENSION = -1e+32
DECLINATION = -1e+32
OFFSET_ANGLE = -1e+32
SPACECRAFT_SOLAR_DISTANCE = 2.09855e+08
TARGET_NAME = MARS
/* CAMERA DATA ELEMENTS */
DETECTOR_TEMPERATURE = 21.2251
FOCAL_PLANE_TEMPERATURE = 8.9911
INST_CMPRS_NAME = "DISCRETE COSINE TRANSFORMATION (DCT)"
INST_CMPRS_RATIO = 12.0243
INST_CMPRS_QUALITY = 0
INST_CMPRS_QUANTZ_TBL_ID = 0
INSTRUMENT_TEMPERATURE = 15.7198
LENS_TEMPERATURE = 9.6028
MACROPIXEL_SIZE = 2
MISSING_FRAMES = 0
PIXEL_SUBSAMPLING_FLAG = N
SIGNAL_CHAIN_ID = 2
/* RADIOMETRIC DATA ELEMENTS */
BANDWIDTH = 88.0
CENTER_FILTER_WAVELENGTH = 538.0
RADIANCE_OFFSET = 0.0
RADIANCE_SCALING_FACTOR = 0.00678677
REFLECTANCE_SCALING_FACTOR = 0.000257359
MEX:REFLECTANCE_OFFSET = 0.0
/* IMAGE OBJECT DEFINITIONS */
OBJECT = IMAGE
  INTERCHANGE_FORMAT = BINARY
  LINES = 10974
  LINE_SAMPLES = 5884
  SAMPLE_TYPE = UNSIGNED_INTEGER
  SAMPLE_BITS = 8
  BANDS = 1
  BAND_STORAGE_TYPE = BAND_SEQUENTIAL
  MAXIMUM = 255
  MEAN = 201.19
  MINIMUM = 1
  STANDARD_DEVIATION = 76.9749
END_OBJECT = IMAGE
/* MAP OBJECT DEFINITIONS */
OBJECT = IMAGE_MAP_PROJECTION
  ^DATA_SET_MAP_PROJECTION_CATALOG= "DSMAP.CAT"
  A_AXIS_RADIUS = 3396.0
  B_AXIS_RADIUS = 3396.0
  C_AXIS_RADIUS = 3396.0
  CENTER_LATITUDE = 0.0
  CENTER_LONGITUDE = 348.0
  COORDINATE_SYSTEM_NAME = PLANETOGRAPHIC
  COORDINATE_SYSTEM_TYPE = "BODY-FIXED ROTATING"
  EASTERNMOST_LONGITUDE = 360.0
  FIRST_STANDARD_PARALLEL = "N/A"
  LINE_FIRST_PIXEL = 1
  LINE_LAST_PIXEL = 10974
  LINE_PROJECTION_OFFSET = 4307.0
  MAP_PROJECTION_ROTATION = 0.0
  MAP_PROJECTION_TYPE = SINUSOIDAL
  MAP_RESOLUTION = 74.08922548333329
  MAP_SCALE = 0.8
  MAXIMUM_LATITUDE = 57.1577
  MINIMUM_LATITUDE = -90.0
  POSITIVE_LONGITUDE_DIRECTION = EAST
  REFERENCE_LATITUDE = "N/A"
  REFERENCE_LONGITUDE = "N/A"
  SAMPLE_FIRST_PIXEL = 1
  SAMPLE_LAST_PIXEL = 5884
  SAMPLE_PROJECTION_OFFSET = 3400.0
  SECOND_STANDARD_PARALLEL = "N/A"
  WESTERNMOST_LONGITUDE = 0.0
END_OBJECT = IMAGE_MAP_PROJECTION
END
