PDS_VERSION_ID = PDS3
/* FILE DATA ELEMENTS */
RECORD_TYPE = UNDEFINED
/* POINTERS TO DATA OBJECTS */
^IMAGE = ("HK780_0000_BL4.TIF")
/* IDENTIFICATION DATA ELEMENTS */
DATA_SET_ID = "MEX-M-HRSC-4-REFDR-MAPPROJECT-EXT7-V4.0"
DATA_SET_NAME = "MARS EXPRESS HRSC MAP PROJECTED REFDR EXTENSION7 V4.0"
DETECTOR_ID = MEX_HRSC_BLUE
EVENT_TYPE = "MARS-TERMINATOR-CALIBRATION-Tc"
INSTRUMENT_HOST_ID = MEX
INSTRUMENT_HOST_NAME = "MARS EXPRESS"
INSTRUMENT_ID = HRSC
INSTRUMENT_NAME = "HIGH RESOLUTION STEREO CAMERA"
MISSION_NAME = "MARS EXPRESS"
MISSION_PHASE_NAME = ME_Phase_42
PROCESSING_LEVEL_ID = 4
PRODUCT_CREATION_TIME = 2023-01-29T07:12:14.000Z
PRODUCT_ID = "HK780_0000_BL4.TIF"
RELEASE_ID = 0004
REVISION_ID = 0000
/* QUALITY DATA ELEMENTS */
DATA_QUALITY_ID = 1
DATA_QUALITY_DESC = "Data calculated based on original SPICE kernels"
/* TIME DATA ELEMENTS */
SPACECRAFT_CLOCK_START_COUNT = "1/0539730927.25675"
SPACECRAFT_CLOCK_STOP_COUNT = "1/0539731352.25458"
START_TIME = 2020-06-08T21:18:13.016Z
STOP_TIME = 2020-06-08T21:21:36.079Z
/* ORBITAL DATA ELEMENTS */
ASCENDING_NODE_LONGITUDE = 185.3
MAXIMUM_RESOLUTION = 0.8268
FOOTPRINT_POINT_LATITUDE = (-82.8158,-81.5128,-81.7996,-81.2465, -77.3885,-76.0953,-72.262,-67.1524, -62.7837,-59.3125,-56.1475,-52.5861, -49.4168,-47.269,-43.2821,-41.5936, -39.1082,-37.6932,-35.2231,-32.5576, -32.4275,-31.8718,-31.1895,-30.6533, -27.3045,-24.5666,-23.7634,-22.3439, -21.1803,-20.8922,-19.5169,-19.1805, -17.2112,-16.8406,-11.2349,-8.37397, -8.6906,-5.27862,-5.61262,-4.29951, -4.57315,-3.26483,-3.55589,-2.36959, -1.90357,-0.581801,-0.950963,0.806432, 0.456459,2.78406,6.29713,9.25698, 12.1138,13.5453,13.8997,17.0253,20.0341 ,24.3591,26.8293,32.5817,34.6258, 37.3845,41.3946,43.4193,46.8353,50.188, 53.5277,55.6589,56.1521,55.5142,50.3782 ,46.4735,40.8327,37.0163,33.9324, 30.8468,25.3353,20.5516,16.6081,10.0707 ,2.43319,-1.44146,-8.29545,-13.5282, -17.2247,-22.5717,-25.997,-31.5555, -36.6325,-43.0438,-47.1763,-53.3045, -57.3358,-61.298,-66.6995,-70.3037, -75.5703,-79.017,-81.3242,-82.8158)
FOOTPRINT_POINT_LONGITUDE = (335.416,343.076,369.64,394.724,396.034 ,412.922,419.616,424.63,421.319,427.286 ,425.131,431.298,426.242,430.821, 432.283,427.487,432.517,427.685,431.952 ,428.136,432.484,427.674,431.765, 427.716,427.665,431.532,427.744,430.957 ,427.566,431.179,427.295,431.357, 427.279,431.19,426.824,430.978,426.599, 430.414,426.414,429.759,426.375,429.551 ,426.159,429.269,425.715,429.569, 425.933,428.884,425.533,428.433,424.562 ,427.613,423.508,426.86,422.733,425.118 ,422.146,423.182,418.811,419.571, 415.573,417.798,415.27,409.239,410.541, 403.986,403.833,397.562,396.943,394.986 ,388.239,384.399,380.084,377.734, 376.076,374.602,372.32,370.621,369.37, 367.537,365.679,364.821,363.405,362.388 ,361.692,360.711,360.09,359.087,358.162 ,356.955,356.134,354.82,353.861,352.797 ,351.048,349.551,346.408,343.023, 339.404,335.416)
ORBIT_NUMBER = 20780
ORBITAL_ECCENTRICITY = 0.577
ORBITAL_INCLINATION = 86.96
ORBITAL_SEMIMAJOR_AXIS = 8850.86
PERIAPSIS_ALTITUDE = 350.02
PERIAPSIS_ARGUMENT_ANGLE = 359.62
PERIAPSIS_TIME = 2020-06-09T00:19:39.000Z
SPACECRAFT_ORIENTATION = (0.0,1.0,0.0)
^MEX_ORIENTATION_DESC = "MEX_ORIENTATION_DESC.TXT"
SPACECRAFT_POINTING_MODE = FIXED
^MEX_POINTING_DESC = "MEX_POINTING_DESC.TXT"
RIGHT_ASCENSION = -1e+32
DECLINATION = -1e+32
OFFSET_ANGLE = -1e+32
SPACECRAFT_SOLAR_DISTANCE = 2.09855e+08
TARGET_NAME = MARS
/* CAMERA DATA ELEMENTS */
DETECTOR_TEMPERATURE = 18.3705
FOCAL_PLANE_TEMPERATURE = 7.9716
INST_CMPRS_NAME = "DISCRETE COSINE TRANSFORMATION (DCT)"
INST_CMPRS_RATIO = 10.3068
INST_CMPRS_QUALITY = 0
INST_CMPRS_QUANTZ_TBL_ID = 0
INSTRUMENT_TEMPERATURE = 11.234
LENS_TEMPERATURE = 8.7872
MACROPIXEL_SIZE = 2
MISSING_FRAMES = 0
PIXEL_SUBSAMPLING_FLAG = N
SIGNAL_CHAIN_ID = 2
/* RADIOMETRIC DATA ELEMENTS */
BANDWIDTH = 76.0
CENTER_FILTER_WAVELENGTH = 444.0
RADIANCE_OFFSET = 0.0
RADIANCE_SCALING_FACTOR = 0.00407495
REFLECTANCE_SCALING_FACTOR = 0.000184406
MEX:REFLECTANCE_OFFSET = 0.0
/* IMAGE OBJECT DEFINITIONS */
OBJECT = IMAGE
  INTERCHANGE_FORMAT = BINARY
  LINES = 10444
  LINE_SAMPLES = 5064
  SAMPLE_TYPE = UNSIGNED_INTEGER
  SAMPLE_BITS = 8
  BANDS = 1
  BAND_STORAGE_TYPE = BAND_SEQUENTIAL
  MAXIMUM = 255
  MEAN = 253.461
  MINIMUM = 163
  STANDARD_DEVIATION = 6.97735
END_OBJECT = IMAGE
/* MAP OBJECT DEFINITIONS */
OBJECT = IMAGE_MAP_PROJECTION
  ^DATA_SET_MAP_PROJECTION_CATALOG= "DSMAP.CAT"
  A_AXIS_RADIUS = 3396.0
  B_AXIS_RADIUS = 3396.0
  C_AXIS_RADIUS = 3396.0
  CENTER_LATITUDE = 0.0
  CENTER_LONGITUDE = 23.0
  COORDINATE_SYSTEM_NAME = PLANETOGRAPHIC
  COORDINATE_SYSTEM_TYPE = "BODY-FIXED ROTATING"
  EASTERNMOST_LONGITUDE = 72.517
  FIRST_STANDARD_PARALLEL = "N/A"
  LINE_FIRST_PIXEL = 1
  LINE_LAST_PIXEL = 10444
  LINE_PROJECTION_OFFSET = 4277.0
  MAP_PROJECTION_ROTATION = 0.0
  MAP_PROJECTION_TYPE = SINUSOIDAL
  MAP_RESOLUTION = 74.08922548333329
  MAP_SCALE = 0.8
  MAXIMUM_LATITUDE = 56.1521
  MINIMUM_LATITUDE = -82.8158
  POSITIVE_LONGITUDE_DIRECTION = EAST
  REFERENCE_LATITUDE = "N/A"
  REFERENCE_LONGITUDE = "N/A"
  SAMPLE_FIRST_PIXEL = 1
  SAMPLE_LAST_PIXEL = 5064
  SAMPLE_PROJECTION_OFFSET = 1530.0
  SECOND_STANDARD_PARALLEL = "N/A"
  WESTERNMOST_LONGITUDE = -24.584
END_OBJECT = IMAGE_MAP_PROJECTION
END
