PDS_VERSION_ID = PDS3
/* FILE DATA ELEMENTS */
RECORD_TYPE = UNDEFINED
/* POINTERS TO DATA OBJECTS */
^IMAGE = ("HK768_0001_IR4.TIF")
/* IDENTIFICATION DATA ELEMENTS */
DATA_SET_ID = "MEX-M-HRSC-4-REFDR-MAPPROJECT-EXT7-V4.0"
DATA_SET_NAME = "MARS EXPRESS HRSC MAP PROJECTED REFDR EXTENSION7 V4.0"
DETECTOR_ID = MEX_HRSC_IR
EVENT_TYPE = "MARS-TERMINATOR-CALIBRATION-Tc"
INSTRUMENT_HOST_ID = MEX
INSTRUMENT_HOST_NAME = "MARS EXPRESS"
INSTRUMENT_ID = HRSC
INSTRUMENT_NAME = "HIGH RESOLUTION STEREO CAMERA"
MISSION_NAME = "MARS EXPRESS"
MISSION_PHASE_NAME = ME_Phase_42
PROCESSING_LEVEL_ID = 4
PRODUCT_CREATION_TIME = 2023-01-29T07:12:14.000Z
PRODUCT_ID = "HK768_0001_IR4.TIF"
RELEASE_ID = 0004
REVISION_ID = 0000
/* QUALITY DATA ELEMENTS */
DATA_QUALITY_ID = 1
DATA_QUALITY_DESC = "Data calculated based on original SPICE kernels"
/* TIME DATA ELEMENTS */
SPACECRAFT_CLOCK_START_COUNT = "1/0539431019.25679"
SPACECRAFT_CLOCK_STOP_COUNT = "1/0539431428.22473"
START_TIME = 2020-06-05T10:00:56.992Z
STOP_TIME = 2020-06-05T10:04:18.986Z
/* ORBITAL DATA ELEMENTS */
ASCENDING_NODE_LONGITUDE = 185.52
MAXIMUM_RESOLUTION = 0.7746
FOOTPRINT_POINT_LATITUDE = (54.8998,54.9681,54.3725,51.8768, 49.6934,48.8699,45.5236,46.1176,42.4422 ,38.6431,35.5891,31.2958,28.1719, 25.3543,22.8754,18.6869,14.0543,10.7471 ,5.7854,3.01718,0.451924,-2.16592, -5.51473,-9.11856,-13.4558,-16.5884, -21.9611,-26.9449,-29.8978,-33.7868, -39.1346,-43.3765,-46.0798,-49.484, -54.4323,-57.525,-63.631,-67.8737, -70.3956,-72.9767,-74.2612,-74.4996, -75.4221,-77.689,-80.6329,-83.0377, -85.2702,-84.9295,-83.9357,-80.7589, -76.3358,-73.8714,-69.4186,-65.9243, -62.8071,-63.1854,-62.5749,-61.8579, -60.2627,-58.9253,-57.4568,-54.5226, -52.4231,-49.3752,-44.9207,-41.2894, -38.7522,-35.6288,-33.0389,-28.8442, -24.1491,-20.1891,-17.5773,-14.7537, -10.9415,-8.44485,-2.8511,1.39847, 4.35725,7.65383,10.8285,15.9828,19.5335 ,22.6014,27.2248,29.6434,32.545,35.968, 40.3338,43.2518,47.6744,50.6107,53.5934 ,53.7785,54.7569,54.8899,54.988,54.3283 ,54.8998)
FOOTPRINT_POINT_LONGITUDE = (147.068,147.126,149.551,157.082,164.43 ,169.032,169.641,174.411,173.648, 169.972,167.504,164.591,162.79,161.355, 160.221,158.535,156.959,155.99,154.745, 154.149,153.65,153.2,152.71,152.263, 151.861,151.661,151.526,151.62,151.789, 152.167,153.013,154.013,154.841,156.16, 158.748,160.949,167.534,175.264,182.53, 195.009,207.995,225.242,236.55,231.592, 244.65,259.589,276.074,348.523,357.008, 15.0905,30.3696,32.7072,38.4214,37.362, 41.2635,50.8382,62.7062,68.1741,75.9688 ,80.6058,84.7109,90.9644,94.4098, 98.5066,103.088,106.026,107.747,109.59, 110.911,112.742,114.415,115.578,116.239 ,116.868,117.584,117.979,118.68,119.045 ,119.219,119.333,119.357,119.249, 119.055,118.799,118.246,117.866,117.32, 116.528,115.242,114.173,112.139,110.457 ,112.222,117.82,125.901,131.306,138.282 ,141.309,147.068)
ORBIT_NUMBER = 20768
ORBITAL_ECCENTRICITY = 0.577
ORBITAL_INCLINATION = 86.97
ORBITAL_SEMIMAJOR_AXIS = 8857.27
PERIAPSIS_ALTITUDE = 350.54
PERIAPSIS_ARGUMENT_ANGLE = 1.7
PERIAPSIS_TIME = 2020-06-05T12:32:04.000Z
SPACECRAFT_ORIENTATION = (0.0,1.0,0.0)
^MEX_ORIENTATION_DESC = "MEX_ORIENTATION_DESC.TXT"
SPACECRAFT_POINTING_MODE = FIXED
^MEX_POINTING_DESC = "MEX_POINTING_DESC.TXT"
RIGHT_ASCENSION = -1e+32
DECLINATION = -1e+32
OFFSET_ANGLE = -1e+32
SPACECRAFT_SOLAR_DISTANCE = 2.10255e+08
TARGET_NAME = MARS
/* CAMERA DATA ELEMENTS */
DETECTOR_TEMPERATURE = 21.429
FOCAL_PLANE_TEMPERATURE = 7.9716
INST_CMPRS_NAME = "DISCRETE COSINE TRANSFORMATION (DCT)"
INST_CMPRS_RATIO = 8.41787
INST_CMPRS_QUALITY = 0
INST_CMPRS_QUANTZ_TBL_ID = 0
INSTRUMENT_TEMPERATURE = 15.5159
LENS_TEMPERATURE = 9.3989
MACROPIXEL_SIZE = 2
MISSING_FRAMES = 0
PIXEL_SUBSAMPLING_FLAG = N
SIGNAL_CHAIN_ID = 1
/* RADIOMETRIC DATA ELEMENTS */
BANDWIDTH = 81.0
CENTER_FILTER_WAVELENGTH = 955.5
RADIANCE_OFFSET = 0.0
RADIANCE_SCALING_FACTOR = 0.011923
REFLECTANCE_SCALING_FACTOR = 0.00113725
MEX:REFLECTANCE_OFFSET = 0.0
/* IMAGE OBJECT DEFINITIONS */
OBJECT = IMAGE
  INTERCHANGE_FORMAT = BINARY
  LINES = 10860
  LINE_SAMPLES = 5667
  SAMPLE_TYPE = UNSIGNED_INTEGER
  SAMPLE_BITS = 8
  BANDS = 1
  BAND_STORAGE_TYPE = BAND_SEQUENTIAL
  MAXIMUM = 255
  MEAN = 106.483
  MINIMUM = 1
  STANDARD_DEVIATION = 58.2329
END_OBJECT = IMAGE
/* MAP OBJECT DEFINITIONS */
OBJECT = IMAGE_MAP_PROJECTION
  ^DATA_SET_MAP_PROJECTION_CATALOG= "DSMAP.CAT"
  A_AXIS_RADIUS = 3396.0
  B_AXIS_RADIUS = 3396.0
  C_AXIS_RADIUS = 3396.0
  CENTER_LATITUDE = 0.0
  CENTER_LONGITUDE = 134.0
  COORDINATE_SYSTEM_NAME = PLANETOGRAPHIC
  COORDINATE_SYSTEM_TYPE = "BODY-FIXED ROTATING"
  EASTERNMOST_LONGITUDE = 360.0
  FIRST_STANDARD_PARALLEL = "N/A"
  LINE_FIRST_PIXEL = 1
  LINE_LAST_PIXEL = 10860
  LINE_PROJECTION_OFFSET = 4192.0
  MAP_PROJECTION_ROTATION = 0.0
  MAP_PROJECTION_TYPE = SINUSOIDAL
  MAP_RESOLUTION = 74.08922548333329
  MAP_SCALE = 0.8
  MAXIMUM_LATITUDE = 54.988
  MINIMUM_LATITUDE = -90.0
  POSITIVE_LONGITUDE_DIRECTION = EAST
  REFERENCE_LATITUDE = "N/A"
  REFERENCE_LONGITUDE = "N/A"
  SAMPLE_FIRST_PIXEL = 1
  SAMPLE_LAST_PIXEL = 5667
  SAMPLE_PROJECTION_OFFSET = 3365.0
  SECOND_STANDARD_PARALLEL = "N/A"
  WESTERNMOST_LONGITUDE = 0.0
END_OBJECT = IMAGE_MAP_PROJECTION
END
