PDS_VERSION_ID = PDS3
/* FILE DATA ELEMENTS */
RECORD_TYPE = UNDEFINED
/* POINTERS TO DATA OBJECTS */
^IMAGE = ("HK768_0001_GR4.TIF")
/* IDENTIFICATION DATA ELEMENTS */
DATA_SET_ID = "MEX-M-HRSC-4-REFDR-MAPPROJECT-EXT7-V4.0"
DATA_SET_NAME = "MARS EXPRESS HRSC MAP PROJECTED REFDR EXTENSION7 V4.0"
DETECTOR_ID = MEX_HRSC_GREEN
EVENT_TYPE = "MARS-TERMINATOR-CALIBRATION-Tc"
INSTRUMENT_HOST_ID = MEX
INSTRUMENT_HOST_NAME = "MARS EXPRESS"
INSTRUMENT_ID = HRSC
INSTRUMENT_NAME = "HIGH RESOLUTION STEREO CAMERA"
MISSION_NAME = "MARS EXPRESS"
MISSION_PHASE_NAME = ME_Phase_42
PROCESSING_LEVEL_ID = 4
PRODUCT_CREATION_TIME = 2023-01-29T07:12:14.000Z
PRODUCT_ID = "HK768_0001_GR4.TIF"
RELEASE_ID = 0004
REVISION_ID = 0000
/* QUALITY DATA ELEMENTS */
DATA_QUALITY_ID = 1
DATA_QUALITY_DESC = "Data calculated based on original SPICE kernels"
/* TIME DATA ELEMENTS */
SPACECRAFT_CLOCK_START_COUNT = "1/0539431019.25679"
SPACECRAFT_CLOCK_STOP_COUNT = "1/0539431428.22473"
START_TIME = 2020-06-05T09:59:36.011Z
STOP_TIME = 2020-06-05T10:02:57.007Z
/* ORBITAL DATA ELEMENTS */
ASCENDING_NODE_LONGITUDE = 185.52
MAXIMUM_RESOLUTION = 0.7751
FOOTPRINT_POINT_LATITUDE = (55.3965,55.4319,54.7556,53.8317, 51.6366,48.2739,48.2275,44.5665,44.1505 ,40.3522,37.4637,34.7723,30.9786, 28.5102,25.6789,23.1912,20.5404,16.5859 ,13.0716,10.3469,7.41954,4.57485, 2.12043,-2.90654,-8.35927,-13.3611, -16.9886,-22.5212,-26.2072,-31.0264, -35.6582,-39.5089,-42.3029,-46.0252, -50.1111,-52.8331,-56.6224,-59.4984, -63.8627,-66.693,-69.483,-72.2832, -73.8273,-74.0401,-75.8318,-80.4938, -83.8838,-86.1672,-84.849,-83.7634, -80.9916,-75.6036,-73.0281,-70.5349, -66.8659,-61.6805,-61.9135,-61.8708, -61.3637,-59.6804,-57.4366,-53.8198, -51.2197,-47.5307,-44.8795,-42.3494, -38.4228,-34.5821,-31.6415,-28.0765, -22.8949,-17.712,-14.1341,-9.12183, -3.63291,-0.733626,4.53043,8.00239, 11.4692,14.3896,18.5388,22.3556,25.5734 ,30.4218,33.4055,36.965,41.6364,44.9723 ,47.3962,50.5376,53.4077,51.29,53.8605, 53.0736,54.1492,56.1774,55.4764,54.698, 55.3965)
FOOTPRINT_POINT_LONGITUDE = (147.535,147.581,149.943,154.529,159.45 ,166.727,171.637,172.628,176.814, 172.624,169.985,167.859,165.288,163.831 ,162.338,161.16,160.027,158.538,157.39, 156.601,155.839,155.177,154.665,153.775 ,153.042,152.564,152.347,152.256, 152.334,152.65,153.224,153.939,154.615, 155.767,157.452,158.886,161.464,164.032 ,169.496,174.628,182.01,194.68,210.515, 221.006,238.221,242.906,245.348,307.197 ,353.828,4.29918,18.7494,32.6185, 32.2286,35.4172,41.4766,43.7465,49.1068 ,55.0028,62.4527,73.1032,81.1827, 89.6291,94.0177,98.8017,101.564,103.795 ,106.722,109.028,110.523,112.084, 113.937,115.399,116.217,117.132,117.867 ,118.154,118.5,118.602,118.597,118.528, 118.308,117.97,117.572,116.753,116.098, 115.137,113.516,112.045,110.766,109.49, 109.22,111.383,113.612,117.815,125.372, 130.723,139.146,142.294,147.535)
ORBIT_NUMBER = 20768
ORBITAL_ECCENTRICITY = 0.577
ORBITAL_INCLINATION = 86.97
ORBITAL_SEMIMAJOR_AXIS = 8857.27
PERIAPSIS_ALTITUDE = 350.54
PERIAPSIS_ARGUMENT_ANGLE = 1.7
PERIAPSIS_TIME = 2020-06-05T12:32:04.000Z
SPACECRAFT_ORIENTATION = (0.0,1.0,0.0)
^MEX_ORIENTATION_DESC = "MEX_ORIENTATION_DESC.TXT"
SPACECRAFT_POINTING_MODE = FIXED
^MEX_POINTING_DESC = "MEX_POINTING_DESC.TXT"
RIGHT_ASCENSION = -1e+32
DECLINATION = -1e+32
OFFSET_ANGLE = -1e+32
SPACECRAFT_SOLAR_DISTANCE = 2.10255e+08
TARGET_NAME = MARS
/* CAMERA DATA ELEMENTS */
DETECTOR_TEMPERATURE = 20.8173
FOCAL_PLANE_TEMPERATURE = 7.9716
INST_CMPRS_NAME = "DISCRETE COSINE TRANSFORMATION (DCT)"
INST_CMPRS_RATIO = 9.28958
INST_CMPRS_QUALITY = 0
INST_CMPRS_QUANTZ_TBL_ID = 0
INSTRUMENT_TEMPERATURE = 15.5159
LENS_TEMPERATURE = 9.3989
MACROPIXEL_SIZE = 2
MISSING_FRAMES = 1
PIXEL_SUBSAMPLING_FLAG = N
SIGNAL_CHAIN_ID = 2
/* RADIOMETRIC DATA ELEMENTS */
BANDWIDTH = 88.0
CENTER_FILTER_WAVELENGTH = 538.0
RADIANCE_OFFSET = 0.0
RADIANCE_SCALING_FACTOR = 0.0140337
REFLECTANCE_SCALING_FACTOR = 0.000534202
MEX:REFLECTANCE_OFFSET = 0.0
/* IMAGE OBJECT DEFINITIONS */
OBJECT = IMAGE
  INTERCHANGE_FORMAT = BINARY
  LINES = 10860
  LINE_SAMPLES = 5667
  SAMPLE_TYPE = UNSIGNED_INTEGER
  SAMPLE_BITS = 8
  BANDS = 1
  BAND_STORAGE_TYPE = BAND_SEQUENTIAL
  MAXIMUM = 255
  MEAN = 139.843
  MINIMUM = 1
  STANDARD_DEVIATION = 69.2699
END_OBJECT = IMAGE
/* MAP OBJECT DEFINITIONS */
OBJECT = IMAGE_MAP_PROJECTION
  ^DATA_SET_MAP_PROJECTION_CATALOG= "DSMAP.CAT"
  A_AXIS_RADIUS = 3396.0
  B_AXIS_RADIUS = 3396.0
  C_AXIS_RADIUS = 3396.0
  CENTER_LATITUDE = 0.0
  CENTER_LONGITUDE = 134.0
  COORDINATE_SYSTEM_NAME = PLANETOGRAPHIC
  COORDINATE_SYSTEM_TYPE = "BODY-FIXED ROTATING"
  EASTERNMOST_LONGITUDE = 360.0
  FIRST_STANDARD_PARALLEL = "N/A"
  LINE_FIRST_PIXEL = 1
  LINE_LAST_PIXEL = 10860
  LINE_PROJECTION_OFFSET = 4192.0
  MAP_PROJECTION_ROTATION = 0.0
  MAP_PROJECTION_TYPE = SINUSOIDAL
  MAP_RESOLUTION = 74.08922548333329
  MAP_SCALE = 0.8
  MAXIMUM_LATITUDE = 56.1774
  MINIMUM_LATITUDE = -90.0
  POSITIVE_LONGITUDE_DIRECTION = EAST
  REFERENCE_LATITUDE = "N/A"
  REFERENCE_LONGITUDE = "N/A"
  SAMPLE_FIRST_PIXEL = 1
  SAMPLE_LAST_PIXEL = 5667
  SAMPLE_PROJECTION_OFFSET = 3365.0
  SECOND_STANDARD_PARALLEL = "N/A"
  WESTERNMOST_LONGITUDE = 0.0
END_OBJECT = IMAGE_MAP_PROJECTION
END
