PDS_VERSION_ID = PDS3
/* FILE DATA ELEMENTS */
RECORD_TYPE = UNDEFINED
/* POINTERS TO DATA OBJECTS */
^IMAGE = ("HK733_0001_IR4.TIF")
/* IDENTIFICATION DATA ELEMENTS */
DATA_SET_ID = "MEX-M-HRSC-4-REFDR-MAPPROJECT-EXT7-V4.0"
DATA_SET_NAME = "MARS EXPRESS HRSC MAP PROJECTED REFDR EXTENSION7 V4.0"
DETECTOR_ID = MEX_HRSC_IR
EVENT_TYPE = "MARS-TERMINATOR-CALIBRATION-Tc"
INSTRUMENT_HOST_ID = MEX
INSTRUMENT_HOST_NAME = "MARS EXPRESS"
INSTRUMENT_ID = HRSC
INSTRUMENT_NAME = "HIGH RESOLUTION STEREO CAMERA"
MISSION_NAME = "MARS EXPRESS"
MISSION_PHASE_NAME = ME_Phase_42
PROCESSING_LEVEL_ID = 4
PRODUCT_CREATION_TIME = 2023-01-29T07:12:14.000Z
PRODUCT_ID = "HK733_0001_IR4.TIF"
RELEASE_ID = 0004
REVISION_ID = 0000
/* QUALITY DATA ELEMENTS */
DATA_QUALITY_ID = 1
DATA_QUALITY_DESC = "Data calculated based on original SPICE kernels"
/* TIME DATA ELEMENTS */
SPACECRAFT_CLOCK_START_COUNT = "1/0538550042.23923"
SPACECRAFT_CLOCK_STOP_COUNT = "1/0538550445.22121"
START_TIME = 2020-05-26T05:18:00.910Z
STOP_TIME = 2020-05-26T05:21:15.919Z
/* ORBITAL DATA ELEMENTS */
ASCENDING_NODE_LONGITUDE = 186.17
MAXIMUM_RESOLUTION = 0.8103
FOOTPRINT_POINT_LATITUDE = (55.9024,55.9903,55.4349,53.7157, 53.4041,52.1278,48.7728,49.4999,47.8013 ,44.9045,41.2401,36.5437,33.4461, 30.0902,25.6212,22.1986,17.9585,14.6206 ,11.6364,7.28234,2.86899,-0.494068, -5.77787,-9.25615,-11.7695,-15.9251, -21.3284,-23.9757,-26.9702,-30.7877, -33.444,-38.4319,-41.4365,-43.9264, -48.6732,-53.7373,-56.9003,-59.866, -63.7385,-65.7412,-68.3681,-69.7766, -70.106,-70.1885,-71.4929,-73.6327, -76.6966,-79.001,-82.4206,-85.1327, -84.9844,-83.6791,-80.4314,-76.4796, -73.1469,-70.1226,-65.3182,-66.0004, -65.7182,-64.5505,-62.849,-59.9463, -57.0344,-55.0371,-50.7668,-48.0728, -43.3518,-39.7223,-36.9661,-34.5773, -30.731,-28.0881,-23.8111,-20.4962, -16.3831,-11.9558,-8.6472,-3.9217, -0.538303,1.94342,8.14856,12.1033, 17.2384,20.0616,23.9106,28.5404,31.3334 ,33.8996,36.9319,40.8418,45.4335, 49.4208,50.1352,52.8455,54.4007,54.301, 55.2209,56.1046,55.9024)
FOOTPRINT_POINT_LONGITUDE = (118.198,118.245,120.604,127.607, 132.777,138.74,142.149,146.298,149.265, 148.384,145.188,141.914,140.14,138.483, 136.634,135.442,134.198,133.367,132.725 ,131.946,131.316,130.949,130.536, 130.404,130.358,130.425,130.724,130.98, 131.369,132.022,132.594,134.003,135.084 ,136.157,138.756,142.635,145.912, 149.906,157.315,162.852,174.129,186.479 ,197.063,206.243,214.978,208.908, 213.954,223.625,240.939,284.477,306.226 ,333.721,357.195,8.7476,7.14317,16.0325 ,14.1484,23.9141,37.1747,47.1797, 55.2538,64.0228,69.9526,73.1261,78.3514 ,80.9255,84.4933,86.6515,88.0228, 89.0649,90.4975,91.3182,92.4464,93.1442 ,93.8321,94.3819,94.671,94.9284,95.007, 94.9958,94.7484,94.4413,93.8366,93.3946 ,92.6528,91.5155,90.6802,89.7963, 88.5865,86.7085,83.9078,80.7886,85.7352 ,89.9808,96.2804,101.991,111.018, 113.353,118.198)
ORBIT_NUMBER = 20733
ORBITAL_ECCENTRICITY = 0.577
ORBITAL_INCLINATION = 86.96
ORBITAL_SEMIMAJOR_AXIS = 8862.16
PERIAPSIS_ALTITUDE = 353.53
PERIAPSIS_ARGUMENT_ANGLE = 7.75
PERIAPSIS_TIME = 2020-05-26T08:07:58.000Z
SPACECRAFT_ORIENTATION = (0.0,1.0,0.0)
^MEX_ORIENTATION_DESC = "MEX_ORIENTATION_DESC.TXT"
SPACECRAFT_POINTING_MODE = FIXED
^MEX_POINTING_DESC = "MEX_POINTING_DESC.TXT"
RIGHT_ASCENSION = -1e+32
DECLINATION = -1e+32
OFFSET_ANGLE = -1e+32
SPACECRAFT_SOLAR_DISTANCE = 2.11536e+08
TARGET_NAME = MARS
/* CAMERA DATA ELEMENTS */
DETECTOR_TEMPERATURE = 21.0212
FOCAL_PLANE_TEMPERATURE = 8.5833
INST_CMPRS_NAME = "DISCRETE COSINE TRANSFORMATION (DCT)"
INST_CMPRS_RATIO = 6.11326
INST_CMPRS_QUALITY = 0
INST_CMPRS_QUANTZ_TBL_ID = 0
INSTRUMENT_TEMPERATURE = 16.9432
LENS_TEMPERATURE = 9.6028
MACROPIXEL_SIZE = 2
MISSING_FRAMES = 0
PIXEL_SUBSAMPLING_FLAG = N
SIGNAL_CHAIN_ID = 1
/* RADIOMETRIC DATA ELEMENTS */
BANDWIDTH = 81.0
CENTER_FILTER_WAVELENGTH = 955.5
RADIANCE_OFFSET = 0.0
RADIANCE_SCALING_FACTOR = 0.0109786
REFLECTANCE_SCALING_FACTOR = 0.00106001
MEX:REFLECTANCE_OFFSET = 0.0
/* IMAGE OBJECT DEFINITIONS */
OBJECT = IMAGE
  INTERCHANGE_FORMAT = BINARY
  LINES = 10877
  LINE_SAMPLES = 5831
  SAMPLE_TYPE = UNSIGNED_INTEGER
  SAMPLE_BITS = 8
  BANDS = 1
  BAND_STORAGE_TYPE = BAND_SEQUENTIAL
  MAXIMUM = 255
  MEAN = 130.603
  MINIMUM = 1
  STANDARD_DEVIATION = 60.5305
END_OBJECT = IMAGE
/* MAP OBJECT DEFINITIONS */
OBJECT = IMAGE_MAP_PROJECTION
  ^DATA_SET_MAP_PROJECTION_CATALOG= "DSMAP.CAT"
  A_AXIS_RADIUS = 3396.0
  B_AXIS_RADIUS = 3396.0
  C_AXIS_RADIUS = 3396.0
  CENTER_LATITUDE = 0.0
  CENTER_LONGITUDE = 112.0
  COORDINATE_SYSTEM_NAME = PLANETOGRAPHIC
  COORDINATE_SYSTEM_TYPE = "BODY-FIXED ROTATING"
  EASTERNMOST_LONGITUDE = 360.0
  FIRST_STANDARD_PARALLEL = "N/A"
  LINE_FIRST_PIXEL = 1
  LINE_LAST_PIXEL = 10877
  LINE_PROJECTION_OFFSET = 4209.0
  MAP_PROJECTION_ROTATION = 0.0
  MAP_PROJECTION_TYPE = SINUSOIDAL
  MAP_RESOLUTION = 74.08922548333329
  MAP_SCALE = 0.8
  MAXIMUM_LATITUDE = 56.1046
  MINIMUM_LATITUDE = -90.0
  POSITIVE_LONGITUDE_DIRECTION = EAST
  REFERENCE_LATITUDE = "N/A"
  REFERENCE_LONGITUDE = "N/A"
  SAMPLE_FIRST_PIXEL = 1
  SAMPLE_LAST_PIXEL = 5831
  SAMPLE_PROJECTION_OFFSET = 3136.0
  SECOND_STANDARD_PARALLEL = "N/A"
  WESTERNMOST_LONGITUDE = 0.0
END_OBJECT = IMAGE_MAP_PROJECTION
END
