PDS_VERSION_ID = PDS3
/* FILE DATA ELEMENTS */
RECORD_TYPE = UNDEFINED
/* POINTERS TO DATA OBJECTS */
^IMAGE = ("HK713_0000_ND4.TIF")
/* IDENTIFICATION DATA ELEMENTS */
DATA_SET_ID = "MEX-M-HRSC-4-REFDR-MAPPROJECT-EXT7-V4.0"
DATA_SET_NAME = "MARS EXPRESS HRSC MAP PROJECTED REFDR EXTENSION7 V4.0"
DETECTOR_ID = MEX_HRSC_NADIR
EVENT_TYPE = "MARS-TERMINATOR-CALIBRATION-Tc"
INSTRUMENT_HOST_ID = MEX
INSTRUMENT_HOST_NAME = "MARS EXPRESS"
INSTRUMENT_ID = HRSC
INSTRUMENT_NAME = "HIGH RESOLUTION STEREO CAMERA"
MISSION_NAME = "MARS EXPRESS"
MISSION_PHASE_NAME = ME_Phase_42
PROCESSING_LEVEL_ID = 4
PRODUCT_CREATION_TIME = 2023-01-29T07:12:14.000Z
PRODUCT_ID = "HK713_0000_ND4.TIF"
RELEASE_ID = 0004
REVISION_ID = 0000
/* QUALITY DATA ELEMENTS */
DATA_QUALITY_ID = 1
DATA_QUALITY_DESC = "Data calculated based on original SPICE kernels"
/* TIME DATA ELEMENTS */
SPACECRAFT_CLOCK_START_COUNT = "1/0538045205.24898"
SPACECRAFT_CLOCK_STOP_COUNT = "1/0538045603.21958"
START_TIME = 2020-05-20T09:02:20.951Z
STOP_TIME = 2020-05-20T09:05:30.859Z
/* ORBITAL DATA ELEMENTS */
ASCENDING_NODE_LONGITUDE = 186.53
MAXIMUM_RESOLUTION = 0.8377
FOOTPRINT_POINT_LATITUDE = (62.913,62.9708,58.2749,62.5172,60.1125 ,58.2509,56.5239,52.599,52.1814,48.8965 ,45.0714,42.3646,37.6873,34.4213, 29.1741,24.6447,21.4381,18.0955,13.893, 8.87903,5.001,-0.137613,-4.46985, -7.4971,-12.2817,-18.3479,-21.6488, -26.1899,-29.6869,-34.7411,-39.0003, -41.5054,-45.734,-49.7846,-52.2982, -55.1651,-58.3378,-60.3865,-62.6185, -64.9304,-67.5211,-68.9274,-69.7174, -71.3991,-73.1556,-77.6899,-79.965, -82.9828,-86.3445,-87.5589,-82.3978, -84.3149,-79.9223,-77.13,-73.2806, -69.822,-68.4113,-63.0669,-61.6631, -61.0555,-60.0603,-57.9223,-56.3174, -53.6286,-51.5027,-49.4053,-45.6845, -42.3946,-37.8917,-34.8087,-29.879, -24.9281,-21.9292,-16.9675,-10.631, -7.90085,-4.52269,0.910047,7.00353, 12.1275,16.3384,21.5912,24.7281,27.8968 ,33.0666,37.1554,41.7265,45.0755,49.426 ,52.8888,55.4805,56.6359,60.2063, 60.7507,62.053,62.95,62.6783,58.122, 58.9149,62.913)
FOOTPRINT_POINT_LONGITUDE = (372.913,372.976,359.995,374.292, 384.137,389.822,398.964,403.206,407.771 ,407.777,402.745,399.874,395.902, 393.662,390.738,388.722,387.508,386.412 ,385.242,384.113,383.424,382.719, 382.299,382.104,381.969,382.091,382.311 ,382.803,383.361,384.47,385.762,386.704 ,388.703,391.212,393.188,395.9,399.759, 402.926,407.261,413.257,423.609,433.795 ,445.573,438.007,445.335,440.953, 430.963,431.166,421.069,303.584,359.968 ,288.062,283.871,281.789,280.73,278.293 ,284.374,279.054,287.444,293.142, 299.075,307.32,311.674,317.347,320.869, 323.777,327.946,330.893,334.068,335.844 ,338.165,339.987,340.895,342.125, 343.275,343.645,344.002,344.36,344.462, 344.29,343.96,343.313,342.775,342.095, 340.668,339.198,337.09,335.142,331.919, 328.569,325.93,333.662,336.858,342.317, 348.623,358.984,368.656,360.041,359.978 ,372.913)
ORBIT_NUMBER = 20713
ORBITAL_ECCENTRICITY = 0.576
ORBITAL_INCLINATION = 86.97
ORBITAL_SEMIMAJOR_AXIS = 8846.8
PERIAPSIS_ALTITUDE = 356.22
PERIAPSIS_ARGUMENT_ANGLE = 11.21
PERIAPSIS_TIME = 2020-05-20T12:28:03.000Z
SPACECRAFT_ORIENTATION = (0.0,1.0,0.0)
^MEX_ORIENTATION_DESC = "MEX_ORIENTATION_DESC.TXT"
SPACECRAFT_POINTING_MODE = FIXED
^MEX_POINTING_DESC = "MEX_POINTING_DESC.TXT"
RIGHT_ASCENSION = -1e+32
DECLINATION = -1e+32
OFFSET_ANGLE = -1e+32
SPACECRAFT_SOLAR_DISTANCE = 2.1234e+08
TARGET_NAME = MARS
/* CAMERA DATA ELEMENTS */
DETECTOR_TEMPERATURE = 21.0212
FOCAL_PLANE_TEMPERATURE = 8.9911
INST_CMPRS_NAME = "DISCRETE COSINE TRANSFORMATION (DCT)"
INST_CMPRS_RATIO = 9.52163
INST_CMPRS_QUALITY = 0
INST_CMPRS_QUANTZ_TBL_ID = 0
INSTRUMENT_TEMPERATURE = 15.7198
LENS_TEMPERATURE = 9.8067
MACROPIXEL_SIZE = 2
MISSING_FRAMES = 0
PIXEL_SUBSAMPLING_FLAG = N
SIGNAL_CHAIN_ID = 0
/* RADIOMETRIC DATA ELEMENTS */
BANDWIDTH = 177.0
CENTER_FILTER_WAVELENGTH = 677.5
RADIANCE_OFFSET = 0.0
RADIANCE_SCALING_FACTOR = 0.0628291
REFLECTANCE_SCALING_FACTOR = 0.00150519
MEX:REFLECTANCE_OFFSET = 0.0
/* IMAGE OBJECT DEFINITIONS */
OBJECT = IMAGE
  INTERCHANGE_FORMAT = BINARY
  LINES = 11292
  LINE_SAMPLES = 5184
  SAMPLE_TYPE = UNSIGNED_INTEGER
  SAMPLE_BITS = 8
  BANDS = 1
  BAND_STORAGE_TYPE = BAND_SEQUENTIAL
  MAXIMUM = 255
  MEAN = 95.9421
  MINIMUM = 1
  STANDARD_DEVIATION = 48.8268
END_OBJECT = IMAGE
/* MAP OBJECT DEFINITIONS */
OBJECT = IMAGE_MAP_PROJECTION
  ^DATA_SET_MAP_PROJECTION_CATALOG= "DSMAP.CAT"
  A_AXIS_RADIUS = 3396.0
  B_AXIS_RADIUS = 3396.0
  C_AXIS_RADIUS = 3396.0
  CENTER_LATITUDE = 0.0
  CENTER_LONGITUDE = 3.0
  COORDINATE_SYSTEM_NAME = PLANETOGRAPHIC
  COORDINATE_SYSTEM_TYPE = "BODY-FIXED ROTATING"
  EASTERNMOST_LONGITUDE = 85.57299999999999
  FIRST_STANDARD_PARALLEL = "N/A"
  LINE_FIRST_PIXEL = 1
  LINE_LAST_PIXEL = 11292
  LINE_PROJECTION_OFFSET = 4700.0
  MAP_PROJECTION_ROTATION = 0.0
  MAP_PROJECTION_TYPE = SINUSOIDAL
  MAP_RESOLUTION = 74.08922548333329
  MAP_SCALE = 0.8
  MAXIMUM_LATITUDE = 62.9708
  MINIMUM_LATITUDE = -87.55889999999999
  POSITIVE_LONGITUDE_DIRECTION = EAST
  REFERENCE_LATITUDE = "N/A"
  REFERENCE_LONGITUDE = "N/A"
  SAMPLE_FIRST_PIXEL = 1
  SAMPLE_LAST_PIXEL = 5184
  SAMPLE_PROJECTION_OFFSET = 2944.0
  SECOND_STANDARD_PARALLEL = "N/A"
  WESTERNMOST_LONGITUDE = -81.70699999999999
END_OBJECT = IMAGE_MAP_PROJECTION
END
