PDS_VERSION_ID = PDS3
/* FILE DATA ELEMENTS */
RECORD_TYPE = UNDEFINED
/* POINTERS TO DATA OBJECTS */
^IMAGE = ("HK682_0000_BL4.TIF")
/* IDENTIFICATION DATA ELEMENTS */
DATA_SET_ID = "MEX-M-HRSC-4-REFDR-MAPPROJECT-EXT7-V4.0"
DATA_SET_NAME = "MARS EXPRESS HRSC MAP PROJECTED REFDR EXTENSION7 V4.0"
DETECTOR_ID = MEX_HRSC_BLUE
EVENT_TYPE = "MARS-TERMINATOR-CALIBRATION-Tc"
INSTRUMENT_HOST_ID = MEX
INSTRUMENT_HOST_NAME = "MARS EXPRESS"
INSTRUMENT_ID = HRSC
INSTRUMENT_NAME = "HIGH RESOLUTION STEREO CAMERA"
MISSION_NAME = "MARS EXPRESS"
MISSION_PHASE_NAME = ME_Phase_42
PROCESSING_LEVEL_ID = 4
PRODUCT_CREATION_TIME = 2023-01-29T07:12:14.000Z
PRODUCT_ID = "HK682_0000_BL4.TIF"
RELEASE_ID = 0004
REVISION_ID = 0000
/* QUALITY DATA ELEMENTS */
DATA_QUALITY_ID = 1
DATA_QUALITY_DESC = "Data calculated based on original SPICE kernels"
/* TIME DATA ELEMENTS */
SPACECRAFT_CLOCK_START_COUNT = "1/0537284311.25696"
SPACECRAFT_CLOCK_STOP_COUNT = "1/0537284793.24676"
START_TIME = 2020-05-11T13:41:20.860Z
STOP_TIME = 2020-05-11T13:45:35.830Z
/* ORBITAL DATA ELEMENTS */
ASCENDING_NODE_LONGITUDE = 187.11
MAXIMUM_RESOLUTION = 0.6234
FOOTPRINT_POINT_LATITUDE = (-44.4314,-43.7875,-45.4157,-47.1668, -47.8989,-47.1456,-50.6303,-49.643, -44.7221,-39.6676,-36.2011,-33.3653, -30.9754,-28.8481,-25.1439,-21.9644, -19.1032,-16.5569,-14.1765,-11.9538, -9.86063,-7.87141,-5.9696,-4.14772, -0.673058,2.60777,5.76058,8.10586, 11.0969,14.0527,16.9855,19.889,22.1048, 25.0942,28.1549,29.7195,31.3134,32.9413 ,34.6068,36.3144,38.0668,39.8818,41.789 ,43.7822,44.8109,45.843,46.8824,47.9221 ,48.9221,49.6664,52.5111,56.921,64.6004 ,80.2619,85.6101,81.7186,76.5062,72.887 ,69.9786,67.4869,65.2826,61.4526, 58.1523,55.2109,52.5326,50.0585,47.744, 45.5583,43.4811,41.4922,39.5807,35.9414 ,32.4896,29.1726,25.9485,22.7811, 19.6379,14.8482,11.6257,8.30712,4.84403 ,3.03925,1.17678,-0.76072,-2.78786, -4.91881,-7.18093,-9.63707,-12.3, -15.2875,-16.9489,-18.7787,-20.8016, -23.1453,-26.025,-30.4687,-34.4177, -37.6452,-43.0105,-44.4314)
FOOTPRINT_POINT_LONGITUDE = (177.531,182.676,185.884,186.908, 186.977,182.487,197.885,205.063,208.571 ,209.375,209.975,210.487,210.944, 211.366,212.136,212.842,213.504,214.141 ,214.757,215.359,215.953,216.542, 217.129,217.718,218.906,220.128,221.391 ,222.402,223.797,225.263,226.757, 228.582,230.152,232.339,234.856,236.267 ,237.811,239.514,241.404,243.526, 245.931,248.742,252.176,256.459,259.058 ,262.016,265.52,269.893,275.8,286.953, 292.625,293.859,292.494,287.093,291.237 ,225.757,218.011,215.1,213.344,212.084, 211.096,209.573,208.391,207.406,206.549 ,205.778,205.072,204.413,203.791, 203.198,202.626,201.53,200.475,199.44, 198.406,197.359,196.286,194.567,193.347 ,192.027,190.573,189.781,188.938, 188.029,187.04,185.957,184.754,183.367, 181.776,179.855,178.715,177.391,175.842 ,173.91,171.306,166.626,166.152,169.662 ,174.712,177.531)
ORBIT_NUMBER = 20682
ORBITAL_ECCENTRICITY = 0.576
ORBITAL_INCLINATION = 87.0
ORBITAL_SEMIMAJOR_AXIS = 8845.43
PERIAPSIS_ALTITUDE = 358.25
PERIAPSIS_ARGUMENT_ANGLE = 16.59
PERIAPSIS_TIME = 2020-05-11T12:00:01.000Z
SPACECRAFT_ORIENTATION = (0.0,1.0,0.0)
^MEX_ORIENTATION_DESC = "MEX_ORIENTATION_DESC.TXT"
SPACECRAFT_POINTING_MODE = FIXED
^MEX_POINTING_DESC = "MEX_POINTING_DESC.TXT"
RIGHT_ASCENSION = -1e+32
DECLINATION = -1e+32
OFFSET_ANGLE = -1e+32
SPACECRAFT_SOLAR_DISTANCE = 2.13679e+08
TARGET_NAME = MARS
/* CAMERA DATA ELEMENTS */
DETECTOR_TEMPERATURE = 18.3705
FOCAL_PLANE_TEMPERATURE = 7.7677
INST_CMPRS_NAME = "DISCRETE COSINE TRANSFORMATION (DCT)"
INST_CMPRS_RATIO = 4.235
INST_CMPRS_QUALITY = 0
INST_CMPRS_QUANTZ_TBL_ID = 0
INSTRUMENT_TEMPERATURE = 9.8067
LENS_TEMPERATURE = 8.1755
MACROPIXEL_SIZE = 2
MISSING_FRAMES = 2
PIXEL_SUBSAMPLING_FLAG = N
SIGNAL_CHAIN_ID = 2
/* RADIOMETRIC DATA ELEMENTS */
BANDWIDTH = 76.0
CENTER_FILTER_WAVELENGTH = 444.0
RADIANCE_OFFSET = 0.0
RADIANCE_SCALING_FACTOR = 0.00813393
REFLECTANCE_SCALING_FACTOR = 0.000381536
MEX:REFLECTANCE_OFFSET = 0.0
/* IMAGE OBJECT DEFINITIONS */
OBJECT = IMAGE
  INTERCHANGE_FORMAT = BINARY
  LINES = 10406
  LINE_SAMPLES = 7018
  SAMPLE_TYPE = UNSIGNED_INTEGER
  SAMPLE_BITS = 8
  BANDS = 1
  BAND_STORAGE_TYPE = BAND_SEQUENTIAL
  MAXIMUM = 255
  MEAN = 143.115
  MINIMUM = 4
  STANDARD_DEVIATION = 56.2394
END_OBJECT = IMAGE
/* MAP OBJECT DEFINITIONS */
OBJECT = IMAGE_MAP_PROJECTION
  ^DATA_SET_MAP_PROJECTION_CATALOG= "DSMAP.CAT"
  A_AXIS_RADIUS = 3396.0
  B_AXIS_RADIUS = 3396.0
  C_AXIS_RADIUS = 3396.0
  CENTER_LATITUDE = 0.0
  CENTER_LONGITUDE = 211.0
  COORDINATE_SYSTEM_NAME = PLANETOGRAPHIC
  COORDINATE_SYSTEM_TYPE = "BODY-FIXED ROTATING"
  EASTERNMOST_LONGITUDE = 293.859
  FIRST_STANDARD_PARALLEL = "N/A"
  LINE_FIRST_PIXEL = 1
  LINE_LAST_PIXEL = 10406
  LINE_PROJECTION_OFFSET = 6497.0
  MAP_PROJECTION_ROTATION = 0.0
  MAP_PROJECTION_TYPE = SINUSOIDAL
  MAP_RESOLUTION = 74.08922548333329
  MAP_SCALE = 0.8
  MAXIMUM_LATITUDE = 85.6101
  MINIMUM_LATITUDE = -50.6303
  POSITIVE_LONGITUDE_DIRECTION = EAST
  REFERENCE_LATITUDE = "N/A"
  REFERENCE_LONGITUDE = "N/A"
  SAMPLE_FIRST_PIXEL = 1
  SAMPLE_LAST_PIXEL = 7018
  SAMPLE_PROJECTION_OFFSET = 3036.0
  SECOND_STANDARD_PARALLEL = "N/A"
  WESTERNMOST_LONGITUDE = 166.152
END_OBJECT = IMAGE_MAP_PROJECTION
END
