PDS_VERSION_ID = PDS3
/* FILE DATA ELEMENTS */
RECORD_TYPE = UNDEFINED
/* POINTERS TO DATA OBJECTS */
^IMAGE = ("HK677_0000_ND4.TIF")
/* IDENTIFICATION DATA ELEMENTS */
DATA_SET_ID = "MEX-M-HRSC-4-REFDR-MAPPROJECT-EXT7-V4.0"
DATA_SET_NAME = "MARS EXPRESS HRSC MAP PROJECTED REFDR EXTENSION7 V4.0"
DETECTOR_ID = MEX_HRSC_NADIR
EVENT_TYPE = "MARS-TERMINATOR-CALIBRATION-Tc"
INSTRUMENT_HOST_ID = MEX
INSTRUMENT_HOST_NAME = "MARS EXPRESS"
INSTRUMENT_ID = HRSC
INSTRUMENT_NAME = "HIGH RESOLUTION STEREO CAMERA"
MISSION_NAME = "MARS EXPRESS"
MISSION_PHASE_NAME = ME_Phase_42
PROCESSING_LEVEL_ID = 4
PRODUCT_CREATION_TIME = 2023-01-29T07:12:14.000Z
PRODUCT_ID = "HK677_0000_ND4.TIF"
RELEASE_ID = 0004
REVISION_ID = 0000
/* QUALITY DATA ELEMENTS */
DATA_QUALITY_ID = 1
DATA_QUALITY_DESC = "Data calculated based on original SPICE kernels"
/* TIME DATA ELEMENTS */
SPACECRAFT_CLOCK_START_COUNT = "1/0537162720.25074"
SPACECRAFT_CLOCK_STOP_COUNT = "1/0537163151.25726"
START_TIME = 2020-05-10T03:54:23.843Z
STOP_TIME = 2020-05-10T03:57:51.825Z
/* ORBITAL DATA ELEMENTS */
ASCENDING_NODE_LONGITUDE = 187.2
MAXIMUM_RESOLUTION = 0.8121
FOOTPRINT_POINT_LATITUDE = (-68.4784,-66.9866,-66.6537,-66.5612, -66.8976,-67.5672,-68.5874,-70.1089, -72.7082,-74.6218,-75.8981,-76.2499, -73.3261,-70.8741,-66.7865,-62.0841, -58.8754,-56.2199,-51.8023,-48.0754, -44.8148,-41.8306,-39.0777,-36.5192, -31.7815,-27.4354,-23.3643,-19.4877, -15.7342,-12.0802,-8.47152,-4.87613, -1.25963,2.41373,6.18427,10.1038, 14.2363,18.6671,21.0364,23.5421,26.2117 ,29.0963,32.2799,35.8582,40.1346, 42.7595,45.9232,50.7563,55.5458,56.4693 ,60.1607,63.7442,65.1746,62.9969, 63.4244,66.4161,67.6277,68.2894,65.6152 ,64.2157,60.5118,58.1139,51.9421, 48.2469,45.3164,40.5673,36.6564,33.2492 ,30.1825,27.3678,24.7445,22.28,17.6941, 13.4491,9.45271,5.64328,1.93681, -1.68791,-5.27011,-8.84807,-12.4498, -16.1169,-19.8867,-23.8177,-27.9706, -32.4451,-34.8494,-37.3801,-40.1303, -43.1022,-46.3618,-48.2019,-50.1667, -52.3474,-54.7908,-58.3028,-61.358, -65.0709,-68.4971,-68.4784)
FOOTPRINT_POINT_LONGITUDE = (289.347,304.25,310.883,321.225,330.066 ,338.492,347.195,357.09,370.81,379.921, 385.89,381.113,394.371,403.894,398.489, 386.897,381.965,378.854,374.943,372.479 ,370.785,369.501,368.512,367.744, 366.608,365.854,365.359,365.056,364.882 ,364.856,364.937,365.123,365.424, 365.843,366.4,367.126,368.068,369.301, 370.07,370.977,372.058,373.38,375.061, 377.27,380.508,382.924,386.386,393.469, 397.047,388.899,384.738,372.648,370.843 ,361.451,354.724,345.916,344.734, 344.252,326.819,316.474,313.228,309.791 ,316.617,319.434,321.228,323.528, 324.991,326.016,326.775,327.354,327.803 ,328.149,328.627,328.894,328.996, 328.947,328.805,328.549,328.183,327.664 ,327.059,326.279,325.309,324.075, 322.496,320.399,319.065,317.485,315.479 ,312.947,309.608,307.344,304.577,300.92 ,295.804,284.445,284.292,283.079, 291.385,289.347)
ORBIT_NUMBER = 20677
ORBITAL_ECCENTRICITY = 0.575
ORBITAL_INCLINATION = 86.98
ORBITAL_SEMIMAJOR_AXIS = 8840.11
PERIAPSIS_ALTITUDE = 359.53
PERIAPSIS_ARGUMENT_ANGLE = 17.43
PERIAPSIS_TIME = 2020-05-10T01:05:06.000Z
SPACECRAFT_ORIENTATION = (0.0,1.0,0.0)
^MEX_ORIENTATION_DESC = "MEX_ORIENTATION_DESC.TXT"
SPACECRAFT_POINTING_MODE = FIXED
^MEX_POINTING_DESC = "MEX_POINTING_DESC.TXT"
RIGHT_ASCENSION = -1e+32
DECLINATION = -1e+32
OFFSET_ANGLE = -1e+32
SPACECRAFT_SOLAR_DISTANCE = 2.13904e+08
TARGET_NAME = MARS
/* CAMERA DATA ELEMENTS */
DETECTOR_TEMPERATURE = 17.5549
FOCAL_PLANE_TEMPERATURE = 7.9716
INST_CMPRS_NAME = "DISCRETE COSINE TRANSFORMATION (DCT)"
INST_CMPRS_RATIO = 9.90731
INST_CMPRS_QUALITY = 0
INST_CMPRS_QUANTZ_TBL_ID = 0
INSTRUMENT_TEMPERATURE = 11.0301
LENS_TEMPERATURE = 8.5833
MACROPIXEL_SIZE = 2
MISSING_FRAMES = 0
PIXEL_SUBSAMPLING_FLAG = N
SIGNAL_CHAIN_ID = 0
/* RADIOMETRIC DATA ELEMENTS */
BANDWIDTH = 177.0
CENTER_FILTER_WAVELENGTH = 677.5
RADIANCE_OFFSET = 0.0
RADIANCE_SCALING_FACTOR = 0.05546
REFLECTANCE_SCALING_FACTOR = 0.00134781
MEX:REFLECTANCE_OFFSET = 0.0
/* IMAGE OBJECT DEFINITIONS */
OBJECT = IMAGE
  INTERCHANGE_FORMAT = BINARY
  LINES = 10864
  LINE_SAMPLES = 4949
  SAMPLE_TYPE = UNSIGNED_INTEGER
  SAMPLE_BITS = 8
  BANDS = 1
  BAND_STORAGE_TYPE = BAND_SEQUENTIAL
  MAXIMUM = 255
  MEAN = 109.119
  MINIMUM = 1
  STANDARD_DEVIATION = 47.5512
END_OBJECT = IMAGE
/* MAP OBJECT DEFINITIONS */
OBJECT = IMAGE_MAP_PROJECTION
  ^DATA_SET_MAP_PROJECTION_CATALOG= "DSMAP.CAT"
  A_AXIS_RADIUS = 3396.0
  B_AXIS_RADIUS = 3396.0
  C_AXIS_RADIUS = 3396.0
  CENTER_LATITUDE = 0.0
  CENTER_LONGITUDE = 347.0
  COORDINATE_SYSTEM_NAME = PLANETOGRAPHIC
  COORDINATE_SYSTEM_TYPE = "BODY-FIXED ROTATING"
  EASTERNMOST_LONGITUDE = 43.894
  FIRST_STANDARD_PARALLEL = "N/A"
  LINE_FIRST_PIXEL = 1
  LINE_LAST_PIXEL = 10864
  LINE_PROJECTION_OFFSET = 5102.0
  MAP_PROJECTION_ROTATION = 0.0
  MAP_PROJECTION_TYPE = SINUSOIDAL
  MAP_RESOLUTION = 74.08922548333329
  MAP_SCALE = 0.8
  MAXIMUM_LATITUDE = 68.2894
  MINIMUM_LATITUDE = -76.2499
  POSITIVE_LONGITUDE_DIRECTION = EAST
  REFERENCE_LATITUDE = "N/A"
  REFERENCE_LONGITUDE = "N/A"
  SAMPLE_FIRST_PIXEL = 1
  SAMPLE_LAST_PIXEL = 4949
  SAMPLE_PROJECTION_OFFSET = 2637.0
  SECOND_STANDARD_PARALLEL = "N/A"
  WESTERNMOST_LONGITUDE = -76.92100000000001
END_OBJECT = IMAGE_MAP_PROJECTION
END
