PDS_VERSION_ID = PDS3
/* FILE DATA ELEMENTS */
RECORD_TYPE = UNDEFINED
/* POINTERS TO DATA OBJECTS */
^IMAGE = ("HK674_0000_IR4.TIF")
/* IDENTIFICATION DATA ELEMENTS */
DATA_SET_ID = "MEX-M-HRSC-4-REFDR-MAPPROJECT-EXT7-V4.0"
DATA_SET_NAME = "MARS EXPRESS HRSC MAP PROJECTED REFDR EXTENSION7 V4.0"
DETECTOR_ID = MEX_HRSC_IR
EVENT_TYPE = "MARS-TERMINATOR-CALIBRATION-Tc"
INSTRUMENT_HOST_ID = MEX
INSTRUMENT_HOST_NAME = "MARS EXPRESS"
INSTRUMENT_ID = HRSC
INSTRUMENT_NAME = "HIGH RESOLUTION STEREO CAMERA"
MISSION_NAME = "MARS EXPRESS"
MISSION_PHASE_NAME = ME_Phase_42
PROCESSING_LEVEL_ID = 4
PRODUCT_CREATION_TIME = 2023-01-29T07:12:14.000Z
PRODUCT_ID = "HK674_0000_IR4.TIF"
RELEASE_ID = 0004
REVISION_ID = 0000
/* QUALITY DATA ELEMENTS */
DATA_QUALITY_ID = 1
DATA_QUALITY_DESC = "Data calculated based on original SPICE kernels"
/* TIME DATA ELEMENTS */
SPACECRAFT_CLOCK_START_COUNT = "1/0537084887.25694"
SPACECRAFT_CLOCK_STOP_COUNT = "1/0537085339.23099"
START_TIME = 2020-05-09T06:15:19.870Z
STOP_TIME = 2020-05-09T06:19:08.831Z
/* ORBITAL DATA ELEMENTS */
ASCENDING_NODE_LONGITUDE = 187.25
MAXIMUM_RESOLUTION = 0.7187
FOOTPRINT_POINT_LATITUDE = (-58.1788,-56.401,-56.313,-57.4337, -62.4413,-63.4313,-63.7486,-63.4928, -64.2182,-58.3683,-53.2261,-49.4295, -46.232,-43.7871,-39.4882,-35.8076, -32.642,-29.7597,-27.1188,-24.6473, -20.1116,-16.0264,-12.1651,-9.40291, -5.83119,-2.40536,0.95409,4.2735, 7.58949,10.932,14.3319,17.8229,21.4503, 25.2719,27.2802,29.3685,31.5545,33.8582 ,36.3106,38.9546,41.8557,45.1332, 46.9889,49.0801,51.5755,55.2319,59.1293 ,64.7105,64.4306,64.3334,64.784,66.1217 ,67.9101,70.3672,74.2074,76.9026, 78.2053,77.3248,78.7375,77.4135,71.7082 ,66.163,62.4591,59.4796,56.9286,52.6154 ,48.9377,45.6728,42.7508,40.0704, 37.5761,33.0048,28.8155,24.8948,21.1885 ,17.6177,14.1506,10.7435,7.36196, 3.97541,0.554239,-2.94585,-7.53396, -11.3627,-15.5091,-17.7261,-20.0699, -22.5727,-25.2836,-28.2755,-31.6769, -33.6164,-35.7715,-38.3456,-41.8679, -46.6317,-49.2457,-52.929,-59.2829, -58.1788)
FOOTPRINT_POINT_LONGITUDE = (263.005,269.233,275.738,280.797, 287.489,287.723,283.328,300.332,311.079 ,313.41,312.291,311.751,311.421,311.301 ,311.197,311.216,311.333,311.491, 311.686,311.903,312.395,312.975,313.587 ,314.08,314.764,315.538,316.377,317.307 ,318.348,319.49,320.789,322.277,324.023 ,326.126,327.359,328.75,330.341,332.191 ,334.393,337.098,340.568,345.365, 348.666,353.138,360.153,368.693,367.01, 365.229,361.546,355.607,347.97,340.83, 334.65,329.055,324.259,323.925,324.579, 324.053,295.889,277.335,278.581,283.942 ,286.05,287.252,288.029,288.954,289.464 ,289.755,289.892,289.934,289.908, 289.719,289.414,289.029,288.56,288.034, 287.436,286.769,286.03,285.208,284.292, 283.237,281.631,280.176,278.344,277.259 ,276.021,274.583,272.869,270.757, 268.016,266.251,264.091,261.147,256.263 ,250.417,254.085,257.729,265.048, 263.005)
ORBIT_NUMBER = 20674
ORBITAL_ECCENTRICITY = 0.575
ORBITAL_INCLINATION = 86.98
ORBITAL_SEMIMAJOR_AXIS = 8837.23
PERIAPSIS_ALTITUDE = 359.99
PERIAPSIS_ARGUMENT_ANGLE = 17.99
PERIAPSIS_TIME = 2020-05-09T04:08:19.000Z
SPACECRAFT_ORIENTATION = (0.0,1.0,0.0)
^MEX_ORIENTATION_DESC = "MEX_ORIENTATION_DESC.TXT"
SPACECRAFT_POINTING_MODE = FIXED
^MEX_POINTING_DESC = "MEX_POINTING_DESC.TXT"
RIGHT_ASCENSION = -1e+32
DECLINATION = -1e+32
OFFSET_ANGLE = -1e+32
SPACECRAFT_SOLAR_DISTANCE = 2.14041e+08
TARGET_NAME = MARS
/* CAMERA DATA ELEMENTS */
DETECTOR_TEMPERATURE = 17.5549
FOCAL_PLANE_TEMPERATURE = 7.9716
INST_CMPRS_NAME = "DISCRETE COSINE TRANSFORMATION (DCT)"
INST_CMPRS_RATIO = 9.51641
INST_CMPRS_QUALITY = 0
INST_CMPRS_QUANTZ_TBL_ID = 0
INSTRUMENT_TEMPERATURE = 11.234
LENS_TEMPERATURE = 8.7872
MACROPIXEL_SIZE = 2
MISSING_FRAMES = 0
PIXEL_SUBSAMPLING_FLAG = N
SIGNAL_CHAIN_ID = 1
/* RADIOMETRIC DATA ELEMENTS */
BANDWIDTH = 81.0
CENTER_FILTER_WAVELENGTH = 955.5
RADIANCE_OFFSET = 0.0
RADIANCE_SCALING_FACTOR = 0.0109205
REFLECTANCE_SCALING_FACTOR = 0.00107922
MEX:REFLECTANCE_OFFSET = 0.0
/* IMAGE OBJECT DEFINITIONS */
OBJECT = IMAGE
  INTERCHANGE_FORMAT = BINARY
  LINES = 10891
  LINE_SAMPLES = 6059
  SAMPLE_TYPE = UNSIGNED_INTEGER
  SAMPLE_BITS = 8
  BANDS = 1
  BAND_STORAGE_TYPE = BAND_SEQUENTIAL
  MAXIMUM = 255
  MEAN = 122.207
  MINIMUM = 1
  STANDARD_DEVIATION = 42.1123
END_OBJECT = IMAGE
/* MAP OBJECT DEFINITIONS */
OBJECT = IMAGE_MAP_PROJECTION
  ^DATA_SET_MAP_PROJECTION_CATALOG= "DSMAP.CAT"
  A_AXIS_RADIUS = 3396.0
  B_AXIS_RADIUS = 3396.0
  C_AXIS_RADIUS = 3396.0
  CENTER_LATITUDE = 0.0
  CENTER_LONGITUDE = 302.0
  COORDINATE_SYSTEM_NAME = PLANETOGRAPHIC
  COORDINATE_SYSTEM_TYPE = "BODY-FIXED ROTATING"
  EASTERNMOST_LONGITUDE = 8.693
  FIRST_STANDARD_PARALLEL = "N/A"
  LINE_FIRST_PIXEL = 1
  LINE_LAST_PIXEL = 10891
  LINE_PROJECTION_OFFSET = 5911.0
  MAP_PROJECTION_ROTATION = 0.0
  MAP_PROJECTION_TYPE = SINUSOIDAL
  MAP_RESOLUTION = 74.08922548333329
  MAP_SCALE = 0.8
  MAXIMUM_LATITUDE = 78.7375
  MINIMUM_LATITUDE = -64.2182
  POSITIVE_LONGITUDE_DIRECTION = EAST
  REFERENCE_LATITUDE = "N/A"
  REFERENCE_LONGITUDE = "N/A"
  SAMPLE_FIRST_PIXEL = 1
  SAMPLE_LAST_PIXEL = 6059
  SAMPLE_PROJECTION_OFFSET = 2869.0
  SECOND_STANDARD_PARALLEL = "N/A"
  WESTERNMOST_LONGITUDE = -109.583
END_OBJECT = IMAGE_MAP_PROJECTION
END
