PDS_VERSION_ID = PDS3
/* FILE DATA ELEMENTS */
RECORD_TYPE = UNDEFINED
/* POINTERS TO DATA OBJECTS */
^IMAGE = ("HK400_0000_RE4.TIF")
/* IDENTIFICATION DATA ELEMENTS */
DATA_SET_ID = "MEX-M-HRSC-4-REFDR-MAPPROJECT-EXT7-V4.0"
DATA_SET_NAME = "MARS EXPRESS HRSC MAP PROJECTED REFDR EXTENSION7 V4.0"
DETECTOR_ID = MEX_HRSC_RED
EVENT_TYPE = "MARS-TERMINATOR-CALIBRATION-Tc"
INSTRUMENT_HOST_ID = MEX
INSTRUMENT_HOST_NAME = "MARS EXPRESS"
INSTRUMENT_ID = HRSC
INSTRUMENT_NAME = "HIGH RESOLUTION STEREO CAMERA"
MISSION_NAME = "MARS EXPRESS"
MISSION_PHASE_NAME = ME_Phase_42
PROCESSING_LEVEL_ID = 4
PRODUCT_CREATION_TIME = 2023-01-28T19:11:08.000Z
PRODUCT_ID = "HK400_0000_RE4.TIF"
RELEASE_ID = 0003
REVISION_ID = 0000
/* QUALITY DATA ELEMENTS */
DATA_QUALITY_ID = 1
DATA_QUALITY_DESC = "Data calculated based on original SPICE kernels"
/* TIME DATA ELEMENTS */
SPACECRAFT_CLOCK_START_COUNT = "1/0530197494.23981"
SPACECRAFT_CLOCK_STOP_COUNT = "1/0530197926.23348"
START_TIME = 2020-02-19T13:09:02.660Z
STOP_TIME = 2020-02-19T13:12:36.653Z
/* ORBITAL DATA ELEMENTS */
ASCENDING_NODE_LONGITUDE = 192.25
MAXIMUM_RESOLUTION = 0.7565
FOOTPRINT_POINT_LATITUDE = (-14.3321,-14.2627,-13.2507,-11.656, -8.52337,-5.91438,-5.74975,-2.62548, -3.03413,-0.0120441,-0.799779,2.91019, 3.50779,7.15719,10.0105,9.45757,13.366, 10.7743,7.17729,5.09814,2.98118, -0.010513,-1.95177,-4.79535,-7.29467, -8.76262,-10.1366,-11.2128,-12.0292, -12.6915,-13.1647,-12.8865,-12.2058, -11.5932,-10.4357,-9.31682,-7.01062, -5.04694,-2.47435,-0.565879,1.90293, 5.2988,7.55338,10.6601,13.5354,12.2063, 10.4878,9.57169,4.9673,4.51826,1.81332, 1.05514,-1.57392,-3.7676,-7.0037, -7.92157,-7.83823,-9.79403,-10.095, -10.5069,-12.8442,-14.657,-16.8695, -20.1166,-23.9898,-28.0967,-31.0216, -33.9834,-35.7076,-37.9916,-39.7197, -41.9473,-43.3407,-45.1991,-46.1234, -46.8036,-47.658,-48.0447,-48.2686, -48.0846,-47.4219,-46.5478,-45.8315, -44.9176,-43.9727,-42.1475,-40.7863, -38.73,-37.146,-35.4289,-33.1104, -31.2078,-28.5303,-26.8593,-24.8004, -21.9605,-19.7162,-17.8055,-16.9135, -14.3321)
FOOTPRINT_POINT_LONGITUDE = (283.921,283.974,282.767,280.07,276.456 ,275.318,272.685,271.686,268.75,269.14, 266.606,265.415,261.542,259.958,257.447 ,253.663,251.175,249.185,246.194, 244.269,242.167,238.822,236.357,232.199 ,227.78,224.646,221.138,217.72,214.405, 210.527,204.61,198.216,193.613,190.821, 187.019,183.963,179.066,175.713,171.983 ,169.567,166.773,163.405,161.409, 158.907,156.256,153.232,150.386,146.298 ,143.279,138.855,139.179,135.857,134.75 ,131.593,127.264,126.425,125.841, 123.529,122.821,123.011,120.058,121.977 ,124.373,128.029,132.682,138.095, 142.367,147.182,150.281,154.825,158.705 ,164.494,168.757,175.724,180.105, 184.033,190.73,195.585,201.873,210.397, 218.17,224.341,228.222,232.366,236.036, 242.002,245.806,250.84,254.279,257.69, 261.875,265.028,269.12,271.506,274.302, 277.942,280.674,282.917,283.941, 283.921)
ORBIT_NUMBER = 20400
ORBITAL_ECCENTRICITY = 0.571
ORBITAL_INCLINATION = 87.01
ORBITAL_SEMIMAJOR_AXIS = 8771.32
PERIAPSIS_ALTITUDE = 386.14
PERIAPSIS_ARGUMENT_ANGLE = 65.33
PERIAPSIS_TIME = 2020-02-19T10:47:55.000Z
SPACECRAFT_ORIENTATION = (0.0,-1.0,0.0)
^MEX_ORIENTATION_DESC = "MEX_ORIENTATION_DESC.TXT"
SPACECRAFT_POINTING_MODE = FIXED
^MEX_POINTING_DESC = "MEX_POINTING_DESC.TXT"
RIGHT_ASCENSION = -1e+32
DECLINATION = -1e+32
OFFSET_ANGLE = -1e+32
SPACECRAFT_SOLAR_DISTANCE = 2.28812e+08
TARGET_NAME = MARS
/* CAMERA DATA ELEMENTS */
DETECTOR_TEMPERATURE = 18.3705
FOCAL_PLANE_TEMPERATURE = 8.7872
INST_CMPRS_NAME = "DISCRETE COSINE TRANSFORMATION (DCT)"
INST_CMPRS_RATIO = 9.14479
INST_CMPRS_QUALITY = 0
INST_CMPRS_QUANTZ_TBL_ID = 0
INSTRUMENT_TEMPERATURE = 11.0301
LENS_TEMPERATURE = 7.5638
MACROPIXEL_SIZE = 2
MISSING_FRAMES = 0
PIXEL_SUBSAMPLING_FLAG = N
SIGNAL_CHAIN_ID = 1
/* RADIOMETRIC DATA ELEMENTS */
BANDWIDTH = 48.0
CENTER_FILTER_WAVELENGTH = 748.0
RADIANCE_OFFSET = 0.0
RADIANCE_SCALING_FACTOR = 0.0130317
REFLECTANCE_SCALING_FACTOR = 0.00155674
MEX:REFLECTANCE_OFFSET = 0.0
/* IMAGE OBJECT DEFINITIONS */
OBJECT = IMAGE
  INTERCHANGE_FORMAT = BINARY
  LINES = 4815
  LINE_SAMPLES = 11737
  SAMPLE_TYPE = UNSIGNED_INTEGER
  SAMPLE_BITS = 8
  BANDS = 1
  BAND_STORAGE_TYPE = BAND_SEQUENTIAL
  MAXIMUM = 255
  MEAN = 147.814
  MINIMUM = 36
  STANDARD_DEVIATION = 54.9055
END_OBJECT = IMAGE
/* MAP OBJECT DEFINITIONS */
OBJECT = IMAGE_MAP_PROJECTION
  ^DATA_SET_MAP_PROJECTION_CATALOG= "DSMAP.CAT"
  A_AXIS_RADIUS = 3396.0
  B_AXIS_RADIUS = 3396.0
  C_AXIS_RADIUS = 3396.0
  CENTER_LATITUDE = 0.0
  CENTER_LONGITUDE = 203.0
  COORDINATE_SYSTEM_NAME = PLANETOGRAPHIC
  COORDINATE_SYSTEM_TYPE = "BODY-FIXED ROTATING"
  EASTERNMOST_LONGITUDE = 283.974
  FIRST_STANDARD_PARALLEL = "N/A"
  LINE_FIRST_PIXEL = 1
  LINE_LAST_PIXEL = 4815
  LINE_PROJECTION_OFFSET = 1353.0
  MAP_PROJECTION_ROTATION = 0.0
  MAP_PROJECTION_TYPE = SINUSOIDAL
  MAP_RESOLUTION = 74.08922548333329
  MAP_SCALE = 0.8
  MAXIMUM_LATITUDE = 13.5354
  MINIMUM_LATITUDE = -48.2686
  POSITIVE_LONGITUDE_DIRECTION = EAST
  REFERENCE_LATITUDE = "N/A"
  REFERENCE_LONGITUDE = "N/A"
  SAMPLE_FIRST_PIXEL = 1
  SAMPLE_LAST_PIXEL = 11737
  SAMPLE_PROJECTION_OFFSET = 5900.0
  SECOND_STANDARD_PARALLEL = "N/A"
  WESTERNMOST_LONGITUDE = 120.058
END_OBJECT = IMAGE_MAP_PROJECTION
END
