PDS_VERSION_ID = PDS3
/* FILE DATA ELEMENTS */
RECORD_TYPE = UNDEFINED
/* POINTERS TO DATA OBJECTS */
^IMAGE = ("HK184_0000_GR4.TIF")
/* IDENTIFICATION DATA ELEMENTS */
DATA_SET_ID = "MEX-M-HRSC-4-REFDR-MAPPROJECT-EXT7-V4.0"
DATA_SET_NAME = "MARS EXPRESS HRSC MAP PROJECTED REFDR EXTENSION7 V4.0"
DETECTOR_ID = MEX_HRSC_GREEN
EVENT_TYPE = "MARS-REGIONAL-STEREO-Gl-Eo-La"
INSTRUMENT_HOST_ID = MEX
INSTRUMENT_HOST_NAME = "MARS EXPRESS"
INSTRUMENT_ID = HRSC
INSTRUMENT_NAME = "HIGH RESOLUTION STEREO CAMERA"
MISSION_NAME = "MARS EXPRESS"
MISSION_PHASE_NAME = ME_Phase_41
PROCESSING_LEVEL_ID = 4
PRODUCT_CREATION_TIME = 2023-01-28T19:11:08.000Z
PRODUCT_ID = "HK184_0000_GR4.TIF"
RELEASE_ID = 0003
REVISION_ID = 0000
/* QUALITY DATA ELEMENTS */
DATA_QUALITY_ID = 1
DATA_QUALITY_DESC = "Data calculated based on original SPICE kernels"
/* TIME DATA ELEMENTS */
SPACECRAFT_CLOCK_START_COUNT = "1/0524759369.24911"
SPACECRAFT_CLOCK_STOP_COUNT = "1/0524759512.32236"
START_TIME = 2019-12-18T14:30:28.252Z
STOP_TIME = 2019-12-18T14:31:46.415Z
/* ORBITAL DATA ELEMENTS */
ASCENDING_NODE_LONGITUDE = 196.15
MAXIMUM_RESOLUTION = 0.0629
FOOTPRINT_POINT_LATITUDE = (83.1816,83.1095,83.0281,82.9363, 82.8454,82.7501,82.6502,82.5857,82.5791 ,82.5425,82.3549,82.1654,81.9742, 81.7813,81.6351,81.5373,81.3414,81.0454 ,80.8466,80.7468,80.5966,80.4459, 80.3451,80.1935,80.0922,79.9398,79.736, 79.5825,79.4287,79.3259,79.1711,79.0677 ,78.9643,78.8608,78.7053,78.6014, 78.4975,78.3934,78.2806,78.1761,78.0715 ,77.9667,77.8618,77.7569,77.6518, 77.5466,77.494,77.4488,77.4854,77.5213, 77.5824,77.6505,77.7203,77.7696,77.8156 ,77.8183,77.8203,77.9829,78.0913, 78.2537,78.416,78.5781,78.7489,78.8569, 79.0186,79.1802,79.2879,79.4492,79.5567 ,79.6641,79.7714,79.8786,79.9858, 80.0928,80.1998,80.3601,80.4668,80.5734 ,80.68,80.8396,80.9459,81.0521,81.2111, 81.317,81.4755,81.6338,81.7917,81.8969, 82.0018,82.159,82.3157,82.4721,82.5761, 82.6799,82.7835,82.8869,82.99,83.0929, 83.1443,83.1816)
FOOTPRINT_POINT_LONGITUDE = (306.844,305.443,303.979,302.455, 301.055,299.686,298.347,297.526,297.445 ,297.057,297.94,298.777,299.576,300.334 ,300.874,301.226,301.908,302.877, 303.487,303.781,304.211,304.627,304.897 ,305.292,305.548,305.922,306.403,306.75 ,307.088,307.307,307.627,307.835, 308.039,308.24,308.535,308.726,308.915, 309.099,309.295,309.472,309.646,309.817 ,309.985,310.15,310.312,310.471,310.549 ,310.616,311.122,311.636,312.552, 313.646,314.865,315.8,316.739,316.798, 316.816,316.654,316.544,316.374,316.2, 316.021,315.826,315.699,315.505,315.305 ,315.168,314.957,314.813,314.666, 314.515,314.362,314.205,314.044,313.88, 313.628,313.455,313.277,313.096,312.815 ,312.623,312.426,312.121,311.912, 311.588,311.252,310.903,310.663,310.416 ,310.033,309.635,309.22,308.933,308.638 ,308.334,308.022,307.698,307.366, 307.197,306.844)
ORBIT_NUMBER = 20184
ORBITAL_ECCENTRICITY = 0.57
ORBITAL_INCLINATION = 87.01
ORBITAL_SEMIMAJOR_AXIS = 8755.38
PERIAPSIS_ALTITUDE = 387.86
PERIAPSIS_ARGUMENT_ANGLE = 102.54
PERIAPSIS_TIME = 2019-12-18T14:32:06.000Z
SPACECRAFT_ORIENTATION = (0.0,-1.0,0.0)
^MEX_ORIENTATION_DESC = "MEX_ORIENTATION_DESC.TXT"
SPACECRAFT_POINTING_MODE = INERT
^MEX_POINTING_DESC = "MEX_POINTING_DESC.TXT"
RIGHT_ASCENSION = 152.382
DECLINATION = -53.965
OFFSET_ANGLE = -1e+32
SPACECRAFT_SOLAR_DISTANCE = 2.39963e+08
TARGET_NAME = MARS
/* CAMERA DATA ELEMENTS */
DETECTOR_TEMPERATURE = 17.5549
FOCAL_PLANE_TEMPERATURE = 6.9521
INST_CMPRS_NAME = "DISCRETE COSINE TRANSFORMATION (DCT)"
INST_CMPRS_RATIO = 7.08442
INST_CMPRS_QUALITY = 0
INST_CMPRS_QUANTZ_TBL_ID = 0
INSTRUMENT_TEMPERATURE = 11.0301
LENS_TEMPERATURE = 7.7677
MACROPIXEL_SIZE = 4
MISSING_FRAMES = 1
PIXEL_SUBSAMPLING_FLAG = N
SIGNAL_CHAIN_ID = 2
/* RADIOMETRIC DATA ELEMENTS */
BANDWIDTH = 88.0
CENTER_FILTER_WAVELENGTH = 538.0
RADIANCE_OFFSET = 0.850204
RADIANCE_SCALING_FACTOR = 0.00528746
REFLECTANCE_SCALING_FACTOR = 0.000262136
MEX:REFLECTANCE_OFFSET = 0.0421504
/* IMAGE OBJECT DEFINITIONS */
OBJECT = IMAGE
  INTERCHANGE_FORMAT = BINARY
  LINES = 6795
  LINE_SAMPLES = 3798
  SAMPLE_TYPE = UNSIGNED_INTEGER
  SAMPLE_BITS = 8
  BANDS = 1
  BAND_STORAGE_TYPE = BAND_SEQUENTIAL
  MAXIMUM = 255
  MEAN = 115.83
  MINIMUM = 1
  STANDARD_DEVIATION = 70.801
END_OBJECT = IMAGE
/* MAP OBJECT DEFINITIONS */
OBJECT = IMAGE_MAP_PROJECTION
  ^DATA_SET_MAP_PROJECTION_CATALOG= "DSMAP.CAT"
  A_AXIS_RADIUS = 3396.0
  B_AXIS_RADIUS = 3396.0
  C_AXIS_RADIUS = 3396.0
  CENTER_LATITUDE = 0.0
  CENTER_LONGITUDE = 309.0
  COORDINATE_SYSTEM_NAME = PLANETOGRAPHIC
  COORDINATE_SYSTEM_TYPE = "BODY-FIXED ROTATING"
  EASTERNMOST_LONGITUDE = 316.816
  FIRST_STANDARD_PARALLEL = "N/A"
  LINE_FIRST_PIXEL = 1
  LINE_LAST_PIXEL = 6795
  LINE_PROJECTION_OFFSET = 98621.625
  MAP_PROJECTION_ROTATION = 0.0
  MAP_PROJECTION_TYPE = SINUSOIDAL
  MAP_RESOLUTION = 1185.42760773333
  MAP_SCALE = 0.05
  MAXIMUM_LATITUDE = 83.1816
  MINIMUM_LATITUDE = 77.44880000000001
  POSITIVE_LONGITUDE_DIRECTION = EAST
  REFERENCE_LATITUDE = "N/A"
  REFERENCE_LONGITUDE = "N/A"
  SAMPLE_FIRST_PIXEL = 1
  SAMPLE_LAST_PIXEL = 3798
  SAMPLE_PROJECTION_OFFSET = 1854.375
  SECOND_STANDARD_PARALLEL = "N/A"
  WESTERNMOST_LONGITUDE = 297.057
END_OBJECT = IMAGE_MAP_PROJECTION
END
