PDS_VERSION_ID = PDS3
/* FILE DATA ELEMENTS */
RECORD_TYPE = UNDEFINED
/* POINTERS TO DATA OBJECTS */
^IMAGE = ("HK176_0000_S24.TIF")
/* IDENTIFICATION DATA ELEMENTS */
DATA_SET_ID = "MEX-M-HRSC-4-REFDR-MAPPROJECT-EXT7-V4.0"
DATA_SET_NAME = "MARS EXPRESS HRSC MAP PROJECTED REFDR EXTENSION7 V4.0"
DETECTOR_ID = MEX_HRSC_S2
EVENT_TYPE = "MARS-REGIONAL-MAPPING-Im-Pf"
INSTRUMENT_HOST_ID = MEX
INSTRUMENT_HOST_NAME = "MARS EXPRESS"
INSTRUMENT_ID = HRSC
INSTRUMENT_NAME = "HIGH RESOLUTION STEREO CAMERA"
MISSION_NAME = "MARS EXPRESS"
MISSION_PHASE_NAME = ME_Phase_41
PROCESSING_LEVEL_ID = 4
PRODUCT_CREATION_TIME = 2023-01-28T19:11:08.000Z
PRODUCT_ID = "HK176_0000_S24.TIF"
RELEASE_ID = 0003
REVISION_ID = 0000
/* QUALITY DATA ELEMENTS */
DATA_QUALITY_ID = 1
DATA_QUALITY_DESC = "Data calculated based on original SPICE kernels"
/* TIME DATA ELEMENTS */
SPACECRAFT_CLOCK_START_COUNT = "1/0524558310.23988"
SPACECRAFT_CLOCK_STOP_COUNT = "1/0524558515.06587"
START_TIME = 2019-12-16T06:40:06.423Z
STOP_TIME = 2019-12-16T06:42:25.280Z
/* ORBITAL DATA ELEMENTS */
ASCENDING_NODE_LONGITUDE = 196.29
MAXIMUM_RESOLUTION = 0.0328
FOOTPRINT_POINT_LATITUDE = (79.5636,79.5135,79.4599,79.4029, 79.3425,79.2787,79.1853,79.1809,79.3122 ,79.0295,78.8407,78.6514,78.4619,78.272 ,78.0818,77.8914,77.7008,77.51,77.319, 77.0321,76.8406,76.6488,76.457,76.1692, 75.9771,75.7849,75.5925,75.4001,75.2074 ,75.0149,74.8223,74.6295,74.3402, 74.0508,73.858,73.6648,73.3754,73.1822, 72.9891,72.6993,72.5061,72.3129,71.8297 ,71.4431,70.9598,70.5736,70.1871, 69.8004,69.704,69.6543,69.689,69.7219, 69.7688,69.7992,69.8277,69.8557,69.8572 ,69.8583,70.1511,70.7369,71.3233, 71.7144,72.0081,72.2038,72.3997,72.6938 ,72.8899,73.0859,73.2822,73.5764,73.871 ,74.1657,74.3622,74.5586,74.7554, 74.9521,75.1488,75.4439,75.6406,75.8373 ,76.0342,76.2312,76.4281,76.625,76.8222 ,77.0193,77.2164,77.5118,77.7089, 77.9058,78.1029,78.3003,78.4975,78.6946 ,78.8918,79.0889,79.286,79.5808,79.6791 ,79.5636)
FOOTPRINT_POINT_LONGITUDE = (51.6401,50.5543,49.4758,48.4046, 47.3426,46.2887,44.8519,44.7869,44.1426 ,44.7302,45.1043,45.4651,45.8133, 46.1496,46.4747,46.7885,47.092,47.3855, 47.6691,48.0782,48.3404,48.5945,48.8408 ,49.1953,49.4236,49.6445,49.8596, 50.0683,50.2714,50.4682,50.6595,50.8458 ,51.1159,51.3752,51.5418,51.7046, 51.9403,52.0928,52.2413,52.457,52.5965, 52.7324,53.0581,53.3049,53.5974,53.8181 ,54.0298,54.2327,54.2815,54.3065, 54.8735,55.4418,56.3124,56.9187,57.5249 ,58.1689,58.2068,58.2202,58.1225, 57.9173,57.698,57.5433,57.4225,57.3395, 57.2546,57.1234,57.0331,56.9406,56.8458 ,56.6989,56.5464,56.3877,56.2784, 56.1661,56.0507,55.9321,55.8101,55.6206 ,55.4897,55.3549,55.2161,55.073,54.9256 ,54.7736,54.6168,54.455,54.2879,54.027, 53.8456,53.6582,53.4641,53.2632,53.0551 ,52.8394,52.6157,52.3836,52.1426, 51.7635,51.6322,51.6401)
ORBIT_NUMBER = 20176
ORBITAL_ECCENTRICITY = 0.57
ORBITAL_INCLINATION = 87.0
ORBITAL_SEMIMAJOR_AXIS = 8758.94
PERIAPSIS_ALTITUDE = 386.97
PERIAPSIS_ARGUMENT_ANGLE = 103.91
PERIAPSIS_TIME = 2019-12-16T06:40:27.000Z
SPACECRAFT_ORIENTATION = (0.0,-1.0,0.0)
^MEX_ORIENTATION_DESC = "MEX_ORIENTATION_DESC.TXT"
SPACECRAFT_POINTING_MODE = INERT
^MEX_POINTING_DESC = "MEX_POINTING_DESC.TXT"
RIGHT_ASCENSION = 162.835
DECLINATION = -53.718
OFFSET_ANGLE = -1e+32
SPACECRAFT_SOLAR_DISTANCE = 2.40316e+08
TARGET_NAME = MARS
/* CAMERA DATA ELEMENTS */
DETECTOR_TEMPERATURE = 18.3705
FOCAL_PLANE_TEMPERATURE = 7.7677
INST_CMPRS_NAME = "DISCRETE COSINE TRANSFORMATION (DCT)"
INST_CMPRS_RATIO = 10.1635
INST_CMPRS_QUALITY = 0
INST_CMPRS_QUANTZ_TBL_ID = 0
INSTRUMENT_TEMPERATURE = 11.0301
LENS_TEMPERATURE = 8.1755
MACROPIXEL_SIZE = 2
MISSING_FRAMES = 0
PIXEL_SUBSAMPLING_FLAG = N
SIGNAL_CHAIN_ID = 1
/* RADIOMETRIC DATA ELEMENTS */
BANDWIDTH = 178.0
CENTER_FILTER_WAVELENGTH = 679.0
RADIANCE_OFFSET = 1.78999
RADIANCE_SCALING_FACTOR = 0.0319071
REFLECTANCE_SCALING_FACTOR = 0.000975851
MEX:REFLECTANCE_OFFSET = 0.0547452
/* IMAGE OBJECT DEFINITIONS */
OBJECT = IMAGE
  INTERCHANGE_FORMAT = BINARY
  LINES = 23974
  LINE_SAMPLES = 7805
  SAMPLE_TYPE = UNSIGNED_INTEGER
  SAMPLE_BITS = 8
  BANDS = 1
  BAND_STORAGE_TYPE = BAND_SEQUENTIAL
  MAXIMUM = 255
  MEAN = 95.9495
  MINIMUM = 1
  STANDARD_DEVIATION = 43.252
END_OBJECT = IMAGE
/* MAP OBJECT DEFINITIONS */
OBJECT = IMAGE_MAP_PROJECTION
  ^DATA_SET_MAP_PROJECTION_CATALOG= "DSMAP.CAT"
  A_AXIS_RADIUS = 3396.0
  B_AXIS_RADIUS = 3396.0
  C_AXIS_RADIUS = 3396.0
  CENTER_LATITUDE = 0.0
  CENTER_LONGITUDE = 54.0
  COORDINATE_SYSTEM_NAME = PLANETOGRAPHIC
  COORDINATE_SYSTEM_TYPE = "BODY-FIXED ROTATING"
  EASTERNMOST_LONGITUDE = 58.2202
  FIRST_STANDARD_PARALLEL = "N/A"
  LINE_FIRST_PIXEL = 1
  LINE_LAST_PIXEL = 23974
  LINE_PROJECTION_OFFSET = 189047.75
  MAP_PROJECTION_ROTATION = 0.0
  MAP_PROJECTION_TYPE = SINUSOIDAL
  MAP_RESOLUTION = 2370.85521546667
  MAP_SCALE = 0.025
  MAXIMUM_LATITUDE = 79.67910000000001
  MINIMUM_LATITUDE = 69.65430000000001
  POSITIVE_LONGITUDE_DIRECTION = EAST
  REFERENCE_LATITUDE = "N/A"
  REFERENCE_LONGITUDE = "N/A"
  SAMPLE_FIRST_PIXEL = 1
  SAMPLE_LAST_PIXEL = 7805
  SAMPLE_PROJECTION_OFFSET = 4231.75
  SECOND_STANDARD_PARALLEL = "N/A"
  WESTERNMOST_LONGITUDE = 44.1426
END_OBJECT = IMAGE_MAP_PROJECTION
END
