PDS_VERSION_ID = PDS3
/* FILE DATA ELEMENTS */
RECORD_TYPE = UNDEFINED
/* POINTERS TO DATA OBJECTS */
^IMAGE = ("HK176_0000_RE4.TIF")
/* IDENTIFICATION DATA ELEMENTS */
DATA_SET_ID = "MEX-M-HRSC-4-REFDR-MAPPROJECT-EXT7-V4.0"
DATA_SET_NAME = "MARS EXPRESS HRSC MAP PROJECTED REFDR EXTENSION7 V4.0"
DETECTOR_ID = MEX_HRSC_RED
EVENT_TYPE = "MARS-REGIONAL-MAPPING-Im-Pf"
INSTRUMENT_HOST_ID = MEX
INSTRUMENT_HOST_NAME = "MARS EXPRESS"
INSTRUMENT_ID = HRSC
INSTRUMENT_NAME = "HIGH RESOLUTION STEREO CAMERA"
MISSION_NAME = "MARS EXPRESS"
MISSION_PHASE_NAME = ME_Phase_41
PROCESSING_LEVEL_ID = 4
PRODUCT_CREATION_TIME = 2023-01-28T19:11:08.000Z
PRODUCT_ID = "HK176_0000_RE4.TIF"
RELEASE_ID = 0003
REVISION_ID = 0000
/* QUALITY DATA ELEMENTS */
DATA_QUALITY_ID = 1
DATA_QUALITY_DESC = "Data calculated based on original SPICE kernels"
/* TIME DATA ELEMENTS */
SPACECRAFT_CLOCK_START_COUNT = "1/0524558310.23988"
SPACECRAFT_CLOCK_STOP_COUNT = "1/0524558515.06587"
START_TIME = 2019-12-16T06:40:00.799Z
STOP_TIME = 2019-12-16T06:42:20.216Z
/* ORBITAL DATA ELEMENTS */
ASCENDING_NODE_LONGITUDE = 196.29
MAXIMUM_RESOLUTION = 0.0647
FOOTPRINT_POINT_LATITUDE = (79.5873,79.4737,79.3963,79.2731, 79.2065,79.2023,79.3121,79.0291,78.7452 ,78.5555,78.3655,78.175,77.9844,77.7936 ,77.5068,77.3154,77.1237,76.9318, 76.7396,76.5474,76.2589,75.9699,75.7771 ,75.5841,75.3911,75.1978,75.0046, 74.8112,74.6178,74.4242,74.2306,74.0368 ,73.8432,73.6493,73.4555,73.1646, 72.9706,72.6795,72.4853,72.2912,72.097, 71.9028,71.7085,71.5142,71.3199,70.9312 ,70.5428,70.2512,69.7652,69.668,69.6349 ,69.7052,69.7376,69.7754,69.8037, 69.8395,69.841,69.8426,70.2353,70.6281, 71.1192,71.3159,71.6108,71.9059,72.1025 ,72.2993,72.5948,72.7917,73.0872, 73.2842,73.5797,73.8755,74.0727,74.27, 74.4672,74.6644,74.9606,75.1579,75.3552 ,75.5527,75.75,75.9473,76.2437,76.4411, 76.6385,76.8362,77.0338,77.33,77.6263, 77.8235,78.1199,78.4162,78.6135,78.8111 ,79.0084,79.2056,79.4028,79.5994, 79.6978,79.5873)
FOOTPRINT_POINT_LONGITUDE = (51.6185,49.283,47.8739,45.8523,44.8516 ,44.7893,44.1985,44.7848,45.3394, 45.6933,46.0348,46.365,46.6837,46.9915, 47.4347,47.7178,47.9923,48.2582,48.516, 48.7655,49.1252,49.4694,49.6902,49.9049 ,50.1134,50.3163,50.5128,50.704,50.89, 51.071,51.2471,51.4188,51.585,51.7477, 51.9057,52.1354,52.2837,52.4993,52.6385 ,52.7744,52.907,53.0362,53.1623,53.2856 ,53.406,53.6382,53.8588,54.0184,54.2727 ,54.3216,54.3382,55.5022,56.0849, 56.8141,57.3974,58.1999,58.2364,58.2482 ,58.1164,57.9787,57.7979,57.7227, 57.6066,57.4864,57.4039,57.3194,57.1889 ,57.0992,56.9604,56.865,56.7172,56.5637 ,56.4579,56.3494,56.2378,56.1232, 55.9454,55.8227,55.6964,55.5665,55.4328 ,55.2951,55.0808,54.9324,54.7794, 54.6216,54.4588,54.2045,53.9374,53.7518 ,53.4614,53.1554,52.9422,52.7211, 52.4918,52.2537,52.0065,51.7497,51.6175 ,51.6185)
ORBIT_NUMBER = 20176
ORBITAL_ECCENTRICITY = 0.57
ORBITAL_INCLINATION = 87.0
ORBITAL_SEMIMAJOR_AXIS = 8758.94
PERIAPSIS_ALTITUDE = 386.97
PERIAPSIS_ARGUMENT_ANGLE = 103.91
PERIAPSIS_TIME = 2019-12-16T06:40:27.000Z
SPACECRAFT_ORIENTATION = (0.0,-1.0,0.0)
^MEX_ORIENTATION_DESC = "MEX_ORIENTATION_DESC.TXT"
SPACECRAFT_POINTING_MODE = INERT
^MEX_POINTING_DESC = "MEX_POINTING_DESC.TXT"
RIGHT_ASCENSION = 162.835
DECLINATION = -53.718
OFFSET_ANGLE = -1e+32
SPACECRAFT_SOLAR_DISTANCE = 2.40316e+08
TARGET_NAME = MARS
/* CAMERA DATA ELEMENTS */
DETECTOR_TEMPERATURE = 18.3705
FOCAL_PLANE_TEMPERATURE = 7.7677
INST_CMPRS_NAME = "DISCRETE COSINE TRANSFORMATION (DCT)"
INST_CMPRS_RATIO = 14.0909
INST_CMPRS_QUALITY = 0
INST_CMPRS_QUANTZ_TBL_ID = 0
INSTRUMENT_TEMPERATURE = 11.0301
LENS_TEMPERATURE = 8.1755
MACROPIXEL_SIZE = 4
MISSING_FRAMES = 0
PIXEL_SUBSAMPLING_FLAG = N
SIGNAL_CHAIN_ID = 2
/* RADIOMETRIC DATA ELEMENTS */
BANDWIDTH = 48.0
CENTER_FILTER_WAVELENGTH = 748.0
RADIANCE_OFFSET = 0.466248
RADIANCE_SCALING_FACTOR = 0.00784884
REFLECTANCE_SCALING_FACTOR = 0.00103442
MEX:REFLECTANCE_OFFSET = 0.0614483
/* IMAGE OBJECT DEFINITIONS */
OBJECT = IMAGE
  INTERCHANGE_FORMAT = BINARY
  LINES = 11987
  LINE_SAMPLES = 3903
  SAMPLE_TYPE = UNSIGNED_INTEGER
  SAMPLE_BITS = 8
  BANDS = 1
  BAND_STORAGE_TYPE = BAND_SEQUENTIAL
  MAXIMUM = 255
  MEAN = 106.605
  MINIMUM = 1
  STANDARD_DEVIATION = 48.8437
END_OBJECT = IMAGE
/* MAP OBJECT DEFINITIONS */
OBJECT = IMAGE_MAP_PROJECTION
  ^DATA_SET_MAP_PROJECTION_CATALOG= "DSMAP.CAT"
  A_AXIS_RADIUS = 3396.0
  B_AXIS_RADIUS = 3396.0
  C_AXIS_RADIUS = 3396.0
  CENTER_LATITUDE = 0.0
  CENTER_LONGITUDE = 54.0
  COORDINATE_SYSTEM_NAME = PLANETOGRAPHIC
  COORDINATE_SYSTEM_TYPE = "BODY-FIXED ROTATING"
  EASTERNMOST_LONGITUDE = 58.2482
  FIRST_STANDARD_PARALLEL = "N/A"
  LINE_FIRST_PIXEL = 1
  LINE_LAST_PIXEL = 11987
  LINE_PROJECTION_OFFSET = 94523.625
  MAP_PROJECTION_ROTATION = 0.0
  MAP_PROJECTION_TYPE = SINUSOIDAL
  MAP_RESOLUTION = 1185.42760773333
  MAP_SCALE = 0.05
  MAXIMUM_LATITUDE = 79.6978
  MINIMUM_LATITUDE = 69.6349
  POSITIVE_LONGITUDE_DIRECTION = EAST
  REFERENCE_LATITUDE = "N/A"
  REFERENCE_LONGITUDE = "N/A"
  SAMPLE_FIRST_PIXEL = 1
  SAMPLE_LAST_PIXEL = 3903
  SAMPLE_PROJECTION_OFFSET = 2115.625
  SECOND_STANDARD_PARALLEL = "N/A"
  WESTERNMOST_LONGITUDE = 44.1985
END_OBJECT = IMAGE_MAP_PROJECTION
END
