PDS_VERSION_ID = PDS3
/* FILE DATA ELEMENTS */
RECORD_TYPE = UNDEFINED
/* POINTERS TO DATA OBJECTS */
^IMAGE = ("HK158_0000_IR4.TIF")
/* IDENTIFICATION DATA ELEMENTS */
DATA_SET_ID = "MEX-M-HRSC-4-REFDR-MAPPROJECT-EXT7-V4.0"
DATA_SET_NAME = "MARS EXPRESS HRSC MAP PROJECTED REFDR EXTENSION7 V4.0"
DETECTOR_ID = MEX_HRSC_IR
EVENT_TYPE = "MARS-REGIONAL-MAPPING-Im-Gl-Eo"
INSTRUMENT_HOST_ID = MEX
INSTRUMENT_HOST_NAME = "MARS EXPRESS"
INSTRUMENT_ID = HRSC
INSTRUMENT_NAME = "HIGH RESOLUTION STEREO CAMERA"
MISSION_NAME = "MARS EXPRESS"
MISSION_PHASE_NAME = ME_Phase_41
PROCESSING_LEVEL_ID = 4
PRODUCT_CREATION_TIME = 2023-01-28T19:11:08.000Z
PRODUCT_ID = "HK158_0000_IR4.TIF"
RELEASE_ID = 0003
REVISION_ID = 0000
/* QUALITY DATA ELEMENTS */
DATA_QUALITY_ID = 1
DATA_QUALITY_DESC = "Data calculated based on original SPICE kernels"
/* TIME DATA ELEMENTS */
SPACECRAFT_CLOCK_START_COUNT = "1/0524105682.23961"
SPACECRAFT_CLOCK_STOP_COUNT = "1/0524105903.47246"
START_TIME = 2019-12-11T00:55:20.364Z
STOP_TIME = 2019-12-11T00:57:55.910Z
/* ORBITAL DATA ELEMENTS */
ASCENDING_NODE_LONGITUDE = 196.63
MAXIMUM_RESOLUTION = 0.0673
FOOTPRINT_POINT_LATITUDE = (86.0335,85.7183,85.3862,85.0974, 85.0875,85.0121,84.8599,84.6878,84.5247 ,84.359,84.1914,83.9336,83.7577,83.5787 ,83.3972,83.2131,83.0282,82.8442, 82.6575,82.4706,82.2813,81.9952,81.8028 ,81.5095,81.1221,80.8326,80.4428, 80.0502,79.5554,79.1566,78.9564,78.6549 ,78.4534,78.1498,77.9468,77.7434,77.438 ,77.233,77.0288,76.8233,76.6167,76.4106 ,76.2037,75.9964,75.6851,75.373,75.269, 75.2052,75.2945,75.3496,75.3978,75.4399 ,75.4932,75.4952,75.497,75.7095,76.028, 76.24,76.4518,76.769,76.9804,77.1913, 77.4023,77.6124,77.8227,78.0326,78.2425 ,78.452,78.6612,78.9745,79.183,79.3913, 79.7033,79.9108,80.118,80.4284,80.6349, 81.0466,81.3547,81.866,82.1807,82.3886, 82.5961,82.8024,83.0092,83.3169,83.521, 83.724,83.9303,84.137,84.3418,84.5447, 84.7471,85.0465,85.2437,85.442,85.639, 85.8502,85.9457,86.0335)
FOOTPRINT_POINT_LONGITUDE = (69.4093,63.7854,59.2063,55.9655,55.864 ,56.1045,58.0016,59.9421,61.6138, 63.1695,64.6163,66.6333,67.8841,69.0657 ,70.1822,71.2384,72.2303,73.1543,74.032 ,74.8648,75.6571,76.7742,77.4749, 78.4662,79.667,80.4906,81.5097,82.4476, 83.5188,84.3038,84.6746,85.2057,85.544, 86.0293,86.3388,86.6379,87.0678,87.3426 ,87.6086,87.8659,88.115,88.3563,88.5902 ,88.8168,89.1441,89.457,89.5582,89.6192 ,91.0235,91.9874,92.908,93.7829,95.0264 ,95.0786,95.0953,94.9673,94.7678, 94.6295,94.4872,94.2649,94.1103,93.9513 ,93.7861,93.617,93.441,93.2591,93.0697, 92.8742,92.6717,92.3532,92.1306,91.8993 ,91.534,91.2783,91.0118,90.5898,90.2927 ,89.6585,89.1408,88.1927,87.5388, 87.0797,86.5944,86.0847,85.5352,84.6568 ,84.0244,83.3523,82.6228,81.8288, 80.9837,80.0826,79.0966,77.4808,76.2901 ,74.9754,73.5306,71.7971,70.9432, 69.4093)
ORBIT_NUMBER = 20158
ORBITAL_ECCENTRICITY = 0.57
ORBITAL_INCLINATION = 87.0
ORBITAL_SEMIMAJOR_AXIS = 8761.84
PERIAPSIS_ALTITUDE = 385.57
PERIAPSIS_ARGUMENT_ANGLE = 107.0
PERIAPSIS_TIME = 2019-12-11T00:59:14.000Z
SPACECRAFT_ORIENTATION = (0.0,-1.0,0.0)
^MEX_ORIENTATION_DESC = "MEX_ORIENTATION_DESC.TXT"
SPACECRAFT_POINTING_MODE = INERT
^MEX_POINTING_DESC = "MEX_POINTING_DESC.TXT"
RIGHT_ASCENSION = 152.13
DECLINATION = -51.549
OFFSET_ANGLE = -1e+32
SPACECRAFT_SOLAR_DISTANCE = 2.4109e+08
TARGET_NAME = MARS
/* CAMERA DATA ELEMENTS */
DETECTOR_TEMPERATURE = 17.5549
FOCAL_PLANE_TEMPERATURE = 8.5833
INST_CMPRS_NAME = "DISCRETE COSINE TRANSFORMATION (DCT)"
INST_CMPRS_RATIO = 12.563
INST_CMPRS_QUALITY = 0
INST_CMPRS_QUANTZ_TBL_ID = 0
INSTRUMENT_TEMPERATURE = 11.0301
LENS_TEMPERATURE = 8.7872
MACROPIXEL_SIZE = 4
PIXEL_SUBSAMPLING_FLAG = N
SIGNAL_CHAIN_ID = 2
/* RADIOMETRIC DATA ELEMENTS */
BANDWIDTH = 81.0
CENTER_FILTER_WAVELENGTH = 955.5
RADIANCE_OFFSET = 0.398625
RADIANCE_SCALING_FACTOR = 0.00910989
REFLECTANCE_SCALING_FACTOR = 0.00114235
MEX:REFLECTANCE_OFFSET = 0.0499864
/* IMAGE OBJECT DEFINITIONS */
OBJECT = IMAGE
  INTERCHANGE_FORMAT = BINARY
  LINES = 12789
  LINE_SAMPLES = 5569
  SAMPLE_TYPE = UNSIGNED_INTEGER
  SAMPLE_BITS = 8
  BANDS = 1
  BAND_STORAGE_TYPE = BAND_SEQUENTIAL
  MAXIMUM = 255
  MEAN = 112.641
  MINIMUM = 1
  STANDARD_DEVIATION = 58.3365
END_OBJECT = IMAGE
/* MAP OBJECT DEFINITIONS */
OBJECT = IMAGE_MAP_PROJECTION
  ^DATA_SET_MAP_PROJECTION_CATALOG= "DSMAP.CAT"
  A_AXIS_RADIUS = 3396.0
  B_AXIS_RADIUS = 3396.0
  C_AXIS_RADIUS = 3396.0
  CENTER_LATITUDE = 80.6549
  CENTER_LONGITUDE = 85.5501
  COORDINATE_SYSTEM_NAME = PLANETOGRAPHIC
  COORDINATE_SYSTEM_TYPE = "BODY-FIXED ROTATING"
  EASTERNMOST_LONGITUDE = 95.09529999999999
  FIRST_STANDARD_PARALLEL = "N/A"
  LINE_FIRST_PIXEL = 1
  LINE_LAST_PIXEL = 12789
  LINE_PROJECTION_OFFSET = 6442.375
  MAP_PROJECTION_ROTATION = 0.0
  MAP_PROJECTION_TYPE = ORTHOGRAPHIC
  MAP_RESOLUTION = 1185.42760773333
  MAP_SCALE = 0.05
  MAXIMUM_LATITUDE = 86.0335
  MINIMUM_LATITUDE = 75.2052
  POSITIVE_LONGITUDE_DIRECTION = EAST
  REFERENCE_LATITUDE = "N/A"
  REFERENCE_LONGITUDE = "N/A"
  SAMPLE_FIRST_PIXEL = 1
  SAMPLE_LAST_PIXEL = 5569
  SAMPLE_PROJECTION_OFFSET = 2863.125
  SECOND_STANDARD_PARALLEL = "N/A"
  WESTERNMOST_LONGITUDE = 55.864
END_OBJECT = IMAGE_MAP_PROJECTION
END
