PDS_VERSION_ID = PDS3
/* FILE DATA ELEMENTS */
RECORD_TYPE = UNDEFINED
/* POINTERS TO DATA OBJECTS */
^IMAGE = ("HK154_0000_BL4.TIF")
/* IDENTIFICATION DATA ELEMENTS */
DATA_SET_ID = "MEX-M-HRSC-4-REFDR-MAPPROJECT-EXT7-V4.0"
DATA_SET_NAME = "MARS EXPRESS HRSC MAP PROJECTED REFDR EXTENSION7 V4.0"
DETECTOR_ID = MEX_HRSC_BLUE
EVENT_TYPE = "MARS-REGIONAL-MAPPING-Im-Pf-Eo"
INSTRUMENT_HOST_ID = MEX
INSTRUMENT_HOST_NAME = "MARS EXPRESS"
INSTRUMENT_ID = HRSC
INSTRUMENT_NAME = "HIGH RESOLUTION STEREO CAMERA"
MISSION_NAME = "MARS EXPRESS"
MISSION_PHASE_NAME = ME_Phase_41
PROCESSING_LEVEL_ID = 4
PRODUCT_CREATION_TIME = 2023-01-28T19:11:08.000Z
PRODUCT_ID = "HK154_0000_BL4.TIF"
RELEASE_ID = 0003
REVISION_ID = 0000
/* QUALITY DATA ELEMENTS */
DATA_QUALITY_ID = 1
DATA_QUALITY_DESC = "Data calculated based on original SPICE kernels"
/* TIME DATA ELEMENTS */
SPACECRAFT_CLOCK_START_COUNT = "1/0524005229.24895"
SPACECRAFT_CLOCK_STOP_COUNT = "1/0524005432.32033"
START_TIME = 2019-12-09T21:01:39.612Z
STOP_TIME = 2019-12-09T21:03:57.135Z
/* ORBITAL DATA ELEMENTS */
ASCENDING_NODE_LONGITUDE = 196.7
MAXIMUM_RESOLUTION = 0.0623
FOOTPRINT_POINT_LATITUDE = (79.6591,79.6101,79.5568,79.5059, 79.4518,79.3946,79.3109,79.3069,79.3483 ,79.067,78.8791,78.5966,78.4079,78.219, 78.0298,77.8405,77.6508,77.461,77.1759, 76.9855,76.6997,76.4134,76.2223,76.0312 ,75.8398,75.5526,75.3609,75.1692, 74.9773,74.7852,74.5931,74.4008,74.2085 ,74.016,73.8234,73.6308,73.438,73.0523, 72.5696,72.1832,71.7964,71.4093,71.022, 70.6344,70.2465,69.8584,69.7613,69.7502 ,69.7862,69.8431,69.8719,69.902,69.9412 ,69.9426,69.9442,70.238,70.4338,70.6296 ,70.8254,71.0212,71.2169,71.5105,71.804 ,72.0001,72.3911,72.5867,72.7824, 73.0759,73.2715,73.4671,73.7604,73.9559 ,74.1515,74.4447,74.6402,74.8357, 75.0312,75.2266,75.4221,75.6175,75.8128 ,76.0082,76.2036,76.3989,76.5943, 76.7895,76.9848,77.1801,77.4729,77.7656 ,78.0582,78.2531,78.4482,78.6431,78.838 ,79.1303,79.3251,79.6171,79.7145, 79.6591)
FOOTPRINT_POINT_LONGITUDE = (140.917,139.699,138.498,137.443, 136.402,135.374,133.981,133.918,133.671 ,134.169,134.486,134.943,135.234, 135.515,135.787,136.05,136.305,136.551, 136.907,137.135,137.464,137.778,137.98, 138.176,138.367,138.642,138.82,138.992, 139.16,139.323,139.482,139.636,139.787, 139.934,140.077,140.216,140.352,140.614 ,140.923,141.158,141.381,141.595, 141.798,141.993,142.179,142.358,142.401 ,142.406,143.015,144.065,144.65,145.311 ,146.273,146.31,146.322,146.243,146.19, 146.134,146.078,146.02,145.962,145.871, 145.776,145.719,145.581,145.512,145.443 ,145.335,145.261,145.185,145.067, 144.986,144.903,144.775,144.686,144.596 ,144.503,144.407,144.309,144.208, 144.104,143.998,143.888,143.775,143.659 ,143.539,143.416,143.289,143.09,142.882 ,142.663,142.511,142.354,142.192, 142.024,141.76,141.576,141.287,141.187, 140.917)
ORBIT_NUMBER = 20154
ORBITAL_ECCENTRICITY = 0.57
ORBITAL_INCLINATION = 86.99
ORBITAL_SEMIMAJOR_AXIS = 8761.53
PERIAPSIS_ALTITUDE = 386.94
PERIAPSIS_ARGUMENT_ANGLE = 107.71
PERIAPSIS_TIME = 2019-12-09T21:03:24.000Z
SPACECRAFT_ORIENTATION = (0.0,-1.0,0.0)
^MEX_ORIENTATION_DESC = "MEX_ORIENTATION_DESC.TXT"
SPACECRAFT_POINTING_MODE = INERT
^MEX_POINTING_DESC = "MEX_POINTING_DESC.TXT"
RIGHT_ASCENSION = 162.474
DECLINATION = -49.607
OFFSET_ANGLE = -1e+32
SPACECRAFT_SOLAR_DISTANCE = 2.41258e+08
TARGET_NAME = MARS
/* CAMERA DATA ELEMENTS */
DETECTOR_TEMPERATURE = 18.7783
FOCAL_PLANE_TEMPERATURE = 8.5833
INST_CMPRS_NAME = "DISCRETE COSINE TRANSFORMATION (DCT)"
INST_CMPRS_RATIO = 6.50118
INST_CMPRS_QUALITY = 0
INST_CMPRS_QUANTZ_TBL_ID = 0
INSTRUMENT_TEMPERATURE = 11.0301
LENS_TEMPERATURE = 8.7872
MACROPIXEL_SIZE = 4
MISSING_FRAMES = 0
PIXEL_SUBSAMPLING_FLAG = N
SIGNAL_CHAIN_ID = 2
/* RADIOMETRIC DATA ELEMENTS */
BANDWIDTH = 76.0
CENTER_FILTER_WAVELENGTH = 444.0
RADIANCE_OFFSET = 0.457571
RADIANCE_SCALING_FACTOR = 0.00597101
REFLECTANCE_SCALING_FACTOR = 0.000357081
MEX:REFLECTANCE_OFFSET = 0.0273639
/* IMAGE OBJECT DEFINITIONS */
OBJECT = IMAGE
  INTERCHANGE_FORMAT = BINARY
  LINES = 11845
  LINE_SAMPLES = 3606
  SAMPLE_TYPE = UNSIGNED_INTEGER
  SAMPLE_BITS = 8
  BANDS = 1
  BAND_STORAGE_TYPE = BAND_SEQUENTIAL
  MAXIMUM = 255
  MEAN = 110.485
  MINIMUM = 1
  STANDARD_DEVIATION = 99.4963
END_OBJECT = IMAGE
/* MAP OBJECT DEFINITIONS */
OBJECT = IMAGE_MAP_PROJECTION
  ^DATA_SET_MAP_PROJECTION_CATALOG= "DSMAP.CAT"
  A_AXIS_RADIUS = 3396.0
  B_AXIS_RADIUS = 3396.0
  C_AXIS_RADIUS = 3396.0
  CENTER_LATITUDE = 0.0
  CENTER_LONGITUDE = 142.0
  COORDINATE_SYSTEM_NAME = PLANETOGRAPHIC
  COORDINATE_SYSTEM_TYPE = "BODY-FIXED ROTATING"
  EASTERNMOST_LONGITUDE = 146.322
  FIRST_STANDARD_PARALLEL = "N/A"
  LINE_FIRST_PIXEL = 1
  LINE_LAST_PIXEL = 11845
  LINE_PROJECTION_OFFSET = 94515.625
  MAP_PROJECTION_ROTATION = 0.0
  MAP_PROJECTION_TYPE = SINUSOIDAL
  MAP_RESOLUTION = 1185.42760773333
  MAP_SCALE = 0.05
  MAXIMUM_LATITUDE = 79.7145
  MINIMUM_LATITUDE = 69.75020000000001
  POSITIVE_LONGITUDE_DIRECTION = EAST
  REFERENCE_LATITUDE = "N/A"
  REFERENCE_LONGITUDE = "N/A"
  SAMPLE_FIRST_PIXEL = 1
  SAMPLE_LAST_PIXEL = 3606
  SAMPLE_PROJECTION_OFFSET = 1831.875
  SECOND_STANDARD_PARALLEL = "N/A"
  WESTERNMOST_LONGITUDE = 133.671
END_OBJECT = IMAGE_MAP_PROJECTION
END
