PDS_VERSION_ID = PDS3
/* FILE DATA ELEMENTS */
RECORD_TYPE = UNDEFINED
/* POINTERS TO DATA OBJECTS */
^IMAGE = ("HK148_0000_GR4.TIF")
/* IDENTIFICATION DATA ELEMENTS */
DATA_SET_ID = "MEX-M-HRSC-4-REFDR-MAPPROJECT-EXT7-V4.0"
DATA_SET_NAME = "MARS EXPRESS HRSC MAP PROJECTED REFDR EXTENSION7 V4.0"
DETECTOR_ID = MEX_HRSC_GREEN
EVENT_TYPE = "MARS-REGIONAL-MAPPING-Im-Pf"
INSTRUMENT_HOST_ID = MEX
INSTRUMENT_HOST_NAME = "MARS EXPRESS"
INSTRUMENT_ID = HRSC
INSTRUMENT_NAME = "HIGH RESOLUTION STEREO CAMERA"
MISSION_NAME = "MARS EXPRESS"
MISSION_PHASE_NAME = ME_Phase_41
PROCESSING_LEVEL_ID = 4
PRODUCT_CREATION_TIME = 2023-01-28T19:11:08.000Z
PRODUCT_ID = "HK148_0000_GR4.TIF"
RELEASE_ID = 0003
REVISION_ID = 0000
/* QUALITY DATA ELEMENTS */
DATA_QUALITY_ID = 1
DATA_QUALITY_DESC = "Data calculated based on original SPICE kernels"
/* TIME DATA ELEMENTS */
SPACECRAFT_CLOCK_START_COUNT = "1/0523854407.25702"
SPACECRAFT_CLOCK_STOP_COUNT = "1/0523854624.26360"
START_TIME = 2019-12-08T03:07:46.074Z
STOP_TIME = 2019-12-08T03:10:18.121Z
/* ORBITAL DATA ELEMENTS */
ASCENDING_NODE_LONGITUDE = 196.8
MAXIMUM_RESOLUTION = 0.0623
FOOTPRINT_POINT_LATITUDE = (78.3727,78.3002,78.2432,78.1469, 78.0131,78.0091,78.0013,77.6939,77.3856 ,77.1795,76.9731,76.7664,76.3518, 76.1441,75.7279,75.3105,74.7874,74.5777 ,74.3678,74.1577,73.9475,73.7369, 73.4208,73.2098,72.893,72.6816,72.47, 72.1523,71.9404,71.7281,71.4095,71.0907 ,70.8779,70.665,70.4519,70.2388,70.0254 ,69.8119,69.5983,69.3846,69.1707, 68.9567,68.5283,68.2067,67.9922,67.7776 ,67.5627,67.4552,67.4216,67.4918,67.574 ,67.6248,67.6263,67.628,67.9527,68.2774 ,68.4938,68.71,69.0342,69.3583,69.5743, 69.8981,70.1139,70.3296,70.5452,70.7607 ,70.9762,71.1916,71.4069,71.7297, 71.9449,72.16,72.375,72.5899,72.8047, 73.1269,73.4488,73.6633,73.8778,74.0921 ,74.3065,74.5207,74.7348,75.0558, 75.2697,75.5904,75.8041,76.0176,76.3378 ,76.5511,76.7643,76.9773,77.1903, 77.4031,77.6158,77.8284,78.0408,78.2531 ,78.3592,78.3727)
FOOTPRINT_POINT_LONGITUDE = (32.497,31.0304,29.9819,28.3671,26.3737 ,26.3171,26.0227,26.5189,26.9897, 27.2903,27.5817,27.8628,28.3968,28.6516 ,29.1378,29.5947,30.1273,30.3295, 30.5261,30.7169,30.9027,31.0827,31.3438 ,31.5121,31.7558,31.9131,32.066,32.2878 ,32.4313,32.5705,32.7731,32.9682, 33.0942,33.2172,33.337,33.4543,33.5683, 33.6798,33.7887,33.8952,33.999,34.1003, 34.2962,34.4375,34.5291,34.6187,34.7059 ,34.7487,34.7621,35.8206,37.2457, 38.2729,38.3061,38.3169,38.2305,38.1412 ,38.08,38.0177,37.9216,37.8222,37.7538, 37.6488,37.5767,37.5029,37.4275,37.3503 ,37.2712,37.1902,37.1072,36.9788, 36.8903,36.7996,36.7071,36.6118,36.5141 ,36.3624,36.205,36.0964,35.9846,35.8698 ,35.7515,35.6302,35.5052,35.3106,35.176 ,34.9663,34.821,34.6713,34.4375,34.2751 ,34.1076,33.934,33.7548,33.5692,33.3771 ,33.1782,32.972,32.7579,32.648,32.497)
ORBIT_NUMBER = 20148
ORBITAL_ECCENTRICITY = 0.57
ORBITAL_INCLINATION = 86.99
ORBITAL_SEMIMAJOR_AXIS = 8763.8
PERIAPSIS_ALTITUDE = 385.89
PERIAPSIS_ARGUMENT_ANGLE = 108.74
PERIAPSIS_TIME = 2019-12-08T03:09:38.000Z
SPACECRAFT_ORIENTATION = (0.0,-1.0,0.0)
^MEX_ORIENTATION_DESC = "MEX_ORIENTATION_DESC.TXT"
SPACECRAFT_POINTING_MODE = INERT
^MEX_POINTING_DESC = "MEX_POINTING_DESC.TXT"
RIGHT_ASCENSION = 165.438
DECLINATION = -53.733
OFFSET_ANGLE = -1e+32
SPACECRAFT_SOLAR_DISTANCE = 2.41507e+08
TARGET_NAME = MARS
/* CAMERA DATA ELEMENTS */
DETECTOR_TEMPERATURE = 18.3705
FOCAL_PLANE_TEMPERATURE = 8.3794
INST_CMPRS_NAME = "DISCRETE COSINE TRANSFORMATION (DCT)"
INST_CMPRS_RATIO = 15.3247
INST_CMPRS_QUALITY = 0
INST_CMPRS_QUANTZ_TBL_ID = 0
INSTRUMENT_TEMPERATURE = 11.0301
LENS_TEMPERATURE = 8.5833
MACROPIXEL_SIZE = 4
MISSING_FRAMES = 0
PIXEL_SUBSAMPLING_FLAG = N
SIGNAL_CHAIN_ID = 2
/* RADIOMETRIC DATA ELEMENTS */
BANDWIDTH = 88.0
CENTER_FILTER_WAVELENGTH = 538.0
RADIANCE_OFFSET = 0.758285
RADIANCE_SCALING_FACTOR = 0.00393291
REFLECTANCE_SCALING_FACTOR = 0.000197498
MEX:REFLECTANCE_OFFSET = 0.0380787
/* IMAGE OBJECT DEFINITIONS */
OBJECT = IMAGE
  INTERCHANGE_FORMAT = BINARY
  LINES = 13009
  LINE_SAMPLES = 3921
  SAMPLE_TYPE = UNSIGNED_INTEGER
  SAMPLE_BITS = 8
  BANDS = 1
  BAND_STORAGE_TYPE = BAND_SEQUENTIAL
  MAXIMUM = 255
  MEAN = 167.994
  MINIMUM = 1
  STANDARD_DEVIATION = 65.6934
END_OBJECT = IMAGE
/* MAP OBJECT DEFINITIONS */
OBJECT = IMAGE_MAP_PROJECTION
  ^DATA_SET_MAP_PROJECTION_CATALOG= "DSMAP.CAT"
  A_AXIS_RADIUS = 3396.0
  B_AXIS_RADIUS = 3396.0
  C_AXIS_RADIUS = 3396.0
  CENTER_LATITUDE = 0.0
  CENTER_LONGITUDE = 34.0
  COORDINATE_SYSTEM_NAME = PLANETOGRAPHIC
  COORDINATE_SYSTEM_TYPE = "BODY-FIXED ROTATING"
  EASTERNMOST_LONGITUDE = 38.3169
  FIRST_STANDARD_PARALLEL = "N/A"
  LINE_FIRST_PIXEL = 1
  LINE_LAST_PIXEL = 13009
  LINE_PROJECTION_OFFSET = 92923.625
  MAP_PROJECTION_ROTATION = 0.0
  MAP_PROJECTION_TYPE = SINUSOIDAL
  MAP_RESOLUTION = 1185.42760773333
  MAP_SCALE = 0.05
  MAXIMUM_LATITUDE = 78.37269999999999
  MINIMUM_LATITUDE = 67.4216
  POSITIVE_LONGITUDE_DIRECTION = EAST
  REFERENCE_LATITUDE = "N/A"
  REFERENCE_LONGITUDE = "N/A"
  SAMPLE_FIRST_PIXEL = 1
  SAMPLE_LAST_PIXEL = 3921
  SAMPLE_PROJECTION_OFFSET = 1982.625
  SECOND_STANDARD_PARALLEL = "N/A"
  WESTERNMOST_LONGITUDE = 26.0227
END_OBJECT = IMAGE_MAP_PROJECTION
END
