PDS_VERSION_ID = PDS3
/* FILE DATA ELEMENTS */
RECORD_TYPE = UNDEFINED
/* POINTERS TO DATA OBJECTS */
^IMAGE = ("HK139_0006_SR4.TIF")
/* IDENTIFICATION DATA ELEMENTS */
DATA_SET_ID = "MEX-M-HRSC-4-REFDR-MAPPROJECT-EXT7-V4.0"
DATA_SET_NAME = "MARS EXPRESS HRSC MAP PROJECTED REFDR EXTENSION7 V4.0"
DETECTOR_ID = MEX_HRSC_SRC
EVENT_TYPE = "MARS-LOCAL-CARTOGRAPHY-Tc-Ts"
INSTRUMENT_HOST_ID = MEX
INSTRUMENT_HOST_NAME = "MARS EXPRESS"
INSTRUMENT_ID = HRSC
INSTRUMENT_NAME = "HIGH RESOLUTION STEREO CAMERA"
MISSION_NAME = "MARS EXPRESS"
MISSION_PHASE_NAME = ME_Phase_41
PROCESSING_LEVEL_ID = 4
PRODUCT_CREATION_TIME = 2023-01-28T19:11:08.000Z
PRODUCT_ID = "HK139_0006_SR4.TIF"
RELEASE_ID = 0003
REVISION_ID = 0000
/* QUALITY DATA ELEMENTS */
DATA_QUALITY_ID = 1
DATA_QUALITY_DESC = "Data calculated based on original SPICE kernels"
/* TIME DATA ELEMENTS */
SPACECRAFT_CLOCK_START_COUNT = "1/0523628270.23992"
SPACECRAFT_CLOCK_STOP_COUNT = "1/0523628398.48823"
IMAGE_TIME = 2019-12-05T12:19:22.190Z
START_TIME = 2019-12-05T12:19:22.188Z
STOP_TIME = 2019-12-05T12:19:22.193Z
/* ORBITAL DATA ELEMENTS */
ASCENDING_NODE_LONGITUDE = 196.97
MAXIMUM_RESOLUTION = 0.003555
FOOTPRINT_POINT_LATITUDE = (68.104,68.1082,68.1112,68.114,68.1159, 68.1181,68.1202,68.1244,68.1287,68.1325 ,68.136,68.1386,68.1415,68.1458,68.1493 ,68.1512,68.1537,68.1564,68.159,68.1612 ,68.1638,68.1638,68.1638,68.1643, 68.1647,68.1651,68.1655,68.1659,68.1663 ,68.1667,68.1671,68.1675,68.1679, 68.1683,68.1687,68.1692,68.1696,68.17, 68.1704,68.1708,68.1712,68.1716,68.172, 68.1724,68.1728,68.1732,68.1736,68.174, 68.1741,68.1742,68.1723,68.1688,68.1663 ,68.1629,68.1609,68.1582,68.1563, 68.1533,68.151,68.1491,68.1466,68.1436, 68.1402,68.1361,68.1335,68.1292,68.1259 ,68.124,68.1205,68.118,68.1144,68.1143, 68.1143,68.1139,68.1135,68.1131,68.1127 ,68.1123,68.1119,68.1115,68.1111, 68.1107,68.1103,68.1099,68.1095,68.109, 68.1086,68.1082,68.1078,68.1074,68.107, 68.1066,68.1062,68.1058,68.1054,68.1049 ,68.1045,68.1041,68.104,68.104)
FOOTPRINT_POINT_LONGITUDE = (234.215,234.213,234.212,234.211,234.21 ,234.209,234.208,234.206,234.204, 234.202,234.2,234.199,234.198,234.196, 234.194,234.193,234.192,234.191,234.19, 234.189,234.188,234.188,234.188,234.194 ,234.201,234.207,234.214,234.22,234.226 ,234.233,234.239,234.246,234.252, 234.259,234.265,234.272,234.278,234.284 ,234.291,234.297,234.304,234.31,234.317 ,234.323,234.329,234.336,234.342, 234.349,234.35,234.351,234.352,234.354, 234.355,234.356,234.357,234.359,234.359 ,234.361,234.362,234.363,234.364, 234.365,234.367,234.369,234.37,234.372, 234.373,234.374,234.376,234.377,234.378 ,234.379,234.378,234.372,234.366, 234.359,234.353,234.346,234.34,234.333, 234.327,234.321,234.314,234.308,234.301 ,234.295,234.288,234.282,234.276, 234.269,234.263,234.256,234.25,234.244, 234.237,234.231,234.224,234.218,234.216 ,234.215)
ORBIT_NUMBER = 20139
ORBITAL_ECCENTRICITY = 0.571
ORBITAL_INCLINATION = 87.0
ORBITAL_SEMIMAJOR_AXIS = 8761.83
PERIAPSIS_ALTITUDE = 384.31
PERIAPSIS_ARGUMENT_ANGLE = 110.27
PERIAPSIS_TIME = 2019-12-05T12:19:02.000Z
SPACECRAFT_ORIENTATION = (0.0,-1.0,0.0)
^MEX_ORIENTATION_DESC = "MEX_ORIENTATION_DESC.TXT"
SPACECRAFT_POINTING_MODE = INERT
^MEX_POINTING_DESC = "MEX_POINTING_DESC.TXT"
RIGHT_ASCENSION = 175.261
DECLINATION = -56.502
OFFSET_ANGLE = -1e+32
SPACECRAFT_SOLAR_DISTANCE = 2.41874e+08
TARGET_NAME = MARS
/* CAMERA DATA ELEMENTS */
BUFFER_MODE_ID = BUFFER_8
EXPOSURE_DURATION = 5.04
INST_CMPRS_NAME = NONE
INST_CMPRS_RATIO = 1.0
INST_CMPRS_QUALITY = -2147483648
INST_CMPRS_QUANTZ_TBL_ID = -2147483648
INSTRUMENT_TEMPERATURE = 5.15152
MISSING_FRAMES = 0
START_BIT = 0
/* RADIOMETRIC DATA ELEMENTS */
BANDWIDTH = 250.0
CENTER_FILTER_WAVELENGTH = 600.0
RADIANCE_OFFSET = -9.99e+31
RADIANCE_SCALING_FACTOR = -9.99e+31
REFLECTANCE_SCALING_FACTOR = -9.99e+31
MEX:REFLECTANCE_OFFSET = -9.99e+31
/* IMAGE OBJECT DEFINITIONS */
OBJECT = IMAGE
  INTERCHANGE_FORMAT = BINARY
  LINES = 1781
  LINE_SAMPLES = 1807
  SAMPLE_TYPE = UNSIGNED_INTEGER
  SAMPLE_BITS = 8
  BANDS = 1
  BAND_STORAGE_TYPE = BAND_SEQUENTIAL
  MAXIMUM = 251
  MEAN = 136.249
  MINIMUM = 1
  STANDARD_DEVIATION = 21.0333
END_OBJECT = IMAGE
/* MAP OBJECT DEFINITIONS */
OBJECT = IMAGE_MAP_PROJECTION
  ^DATA_SET_MAP_PROJECTION_CATALOG= "DSMAP.CAT"
  A_AXIS_RADIUS = 3396.19
  B_AXIS_RADIUS = 3396.19
  C_AXIS_RADIUS = 3396.19
  CENTER_LATITUDE = 0.0
  CENTER_LONGITUDE = 234.0
  COORDINATE_SYSTEM_NAME = PLANETOGRAPHIC
  COORDINATE_SYSTEM_TYPE = "BODY-FIXED ROTATING"
  EASTERNMOST_LONGITUDE = 234.379
  FIRST_STANDARD_PARALLEL = "N/A"
  LINE_FIRST_PIXEL = 1
  LINE_LAST_PIXEL = 1781
  LINE_PROJECTION_OFFSET = 1612980.0
  MAP_PROJECTION_ROTATION = 0.0
  MAP_PROJECTION_TYPE = SINUSOIDAL
  MAP_RESOLUTION = 23709.8786048756
  MAP_SCALE = 0.0025
  MAXIMUM_LATITUDE = 68.1742
  MINIMUM_LATITUDE = 68.104
  POSITIVE_LONGITUDE_DIRECTION = EAST
  REFERENCE_LATITUDE = "N/A"
  REFERENCE_LONGITUDE = "N/A"
  SAMPLE_FIRST_PIXEL = 1
  SAMPLE_LAST_PIXEL = 1807
  SAMPLE_PROJECTION_OFFSET = -844.0
  SECOND_STANDARD_PARALLEL = "N/A"
  WESTERNMOST_LONGITUDE = 234.188
END_OBJECT = IMAGE_MAP_PROJECTION
END
