PDS_VERSION_ID = PDS3
/* FILE DATA ELEMENTS */
RECORD_TYPE = UNDEFINED
/* POINTERS TO DATA OBJECTS */
^IMAGE = ("HK131_0000_S14.TIF")
/* IDENTIFICATION DATA ELEMENTS */
DATA_SET_ID = "MEX-M-HRSC-4-REFDR-MAPPROJECT-EXT7-V4.0"
DATA_SET_NAME = "MARS EXPRESS HRSC MAP PROJECTED REFDR EXTENSION7 V4.0"
DETECTOR_ID = MEX_HRSC_S1
EVENT_TYPE = "MARS-REGIONAL-MAPPING-Im-Pf"
INSTRUMENT_HOST_ID = MEX
INSTRUMENT_HOST_NAME = "MARS EXPRESS"
INSTRUMENT_ID = HRSC
INSTRUMENT_NAME = "HIGH RESOLUTION STEREO CAMERA"
MISSION_NAME = "MARS EXPRESS"
MISSION_PHASE_NAME = ME_Phase_41
PROCESSING_LEVEL_ID = 4
PRODUCT_CREATION_TIME = 2023-01-28T19:11:08.000Z
PRODUCT_ID = "HK131_0000_S14.TIF"
RELEASE_ID = 0003
REVISION_ID = 0000
/* QUALITY DATA ELEMENTS */
DATA_QUALITY_ID = 1
DATA_QUALITY_DESC = "Data calculated based on original SPICE kernels"
/* TIME DATA ELEMENTS */
SPACECRAFT_CLOCK_START_COUNT = "1/0523427245.24888"
SPACECRAFT_CLOCK_STOP_COUNT = "1/0523427539.58331"
START_TIME = 2019-12-03T04:27:57.520Z
STOP_TIME = 2019-12-03T04:31:36.023Z
/* ORBITAL DATA ELEMENTS */
ASCENDING_NODE_LONGITUDE = 197.12
MAXIMUM_RESOLUTION = 0.0316
FOOTPRINT_POINT_LATITUDE = (65.2967,65.2488,65.1461,65.1443, 65.0773,64.4602,63.842,63.223,62.6029, 62.2925,61.9819,61.671,61.3597,61.0489, 60.7367,60.4251,60.113,59.8005,59.4879, 59.1748,58.8609,58.5476,58.2336,57.9195 ,57.6052,57.2903,56.9751,56.6595, 56.3438,55.8695,55.5532,55.2361,54.9186 ,54.601,54.2829,53.9642,53.6458,53.3253 ,52.8329,52.3399,51.8443,51.5141, 51.1838,50.844,50.5038,50.1628,49.8214, 49.4798,49.3076,49.1337,49.1754,49.2208 ,49.2601,49.261,49.2619,49.7774,50.1173 ,50.4586,50.8019,51.1424,51.4779, 51.9734,52.3038,52.6332,52.9622,53.2911 ,53.6163,53.9358,54.4142,54.733,55.0505 ,55.3685,55.6859,56.003,56.3198,56.6364 ,56.9527,57.2684,57.7415,58.2144, 58.5288,58.8437,59.1579,59.4715,59.7855 ,60.2559,60.569,60.882,61.1945,61.5072, 61.8193,62.1314,62.4432,62.7548,63.0662 ,63.6884,64.1545,64.9307,65.0858, 65.2967)
FOOTPRINT_POINT_LONGITUDE = (335.288,334.237,332.402,332.374, 332.299,332.474,332.639,332.795,332.942 ,333.013,333.081,333.148,333.213, 333.277,333.338,333.398,333.456,333.512 ,333.568,333.621,333.673,333.724, 333.774,333.822,333.869,333.914,333.959 ,334.002,334.044,334.105,334.145, 334.183,334.221,334.257,334.292,334.327 ,334.361,334.393,334.442,334.489, 334.533,334.562,334.59,334.618,334.646, 334.672,334.698,334.722,334.734,334.747 ,335.403,336.272,337.142,337.166, 337.174,337.14,337.117,337.093,337.068, 337.043,337.018,336.98,336.955,336.929, 336.903,336.876,336.849,336.822,336.78, 336.752,336.724,336.694,336.665,336.635 ,336.604,336.573,336.541,336.508, 336.458,336.407,336.372,336.336,336.299 ,336.262,336.223,336.164,336.124, 336.083,336.041,335.997,335.953,335.908 ,335.862,335.815,335.766,335.666, 335.587,335.449,335.42,335.288)
ORBIT_NUMBER = 20131
ORBITAL_ECCENTRICITY = 0.571
ORBITAL_INCLINATION = 87.01
ORBITAL_SEMIMAJOR_AXIS = 8763.5
PERIAPSIS_ALTITUDE = 384.66
PERIAPSIS_ARGUMENT_ANGLE = 111.66
PERIAPSIS_TIME = 2019-12-03T04:27:28.000Z
SPACECRAFT_ORIENTATION = (0.0,-1.0,0.0)
^MEX_ORIENTATION_DESC = "MEX_ORIENTATION_DESC.TXT"
SPACECRAFT_POINTING_MODE = INERT
^MEX_POINTING_DESC = "MEX_POINTING_DESC.TXT"
RIGHT_ASCENSION = 190.084
DECLINATION = -47.675
OFFSET_ANGLE = -1e+32
SPACECRAFT_SOLAR_DISTANCE = 2.42195e+08
TARGET_NAME = MARS
/* CAMERA DATA ELEMENTS */
DETECTOR_TEMPERATURE = 17.1471
FOCAL_PLANE_TEMPERATURE = 8.1755
INST_CMPRS_NAME = "DISCRETE COSINE TRANSFORMATION (DCT)"
INST_CMPRS_RATIO = 9.22391
INST_CMPRS_QUALITY = 0
INST_CMPRS_QUANTZ_TBL_ID = 0
INSTRUMENT_TEMPERATURE = 11.0301
LENS_TEMPERATURE = 8.3794
MACROPIXEL_SIZE = 2
MISSING_FRAMES = 0
PIXEL_SUBSAMPLING_FLAG = N
SIGNAL_CHAIN_ID = 1
/* RADIOMETRIC DATA ELEMENTS */
BANDWIDTH = 180.0
CENTER_FILTER_WAVELENGTH = 677.0
RADIANCE_OFFSET = 2.69782
RADIANCE_SCALING_FACTOR = 0.0133002
REFLECTANCE_SCALING_FACTOR = 0.000407032
MEX:REFLECTANCE_OFFSET = 0.0825627
/* IMAGE OBJECT DEFINITIONS */
OBJECT = IMAGE
  INTERCHANGE_FORMAT = BINARY
  LINES = 38191
  LINE_SAMPLES = 6060
  SAMPLE_TYPE = UNSIGNED_INTEGER
  SAMPLE_BITS = 8
  BANDS = 1
  BAND_STORAGE_TYPE = BAND_SEQUENTIAL
  MAXIMUM = 255
  MEAN = 91.1518
  MINIMUM = 1
  STANDARD_DEVIATION = 31.2878
END_OBJECT = IMAGE
/* MAP OBJECT DEFINITIONS */
OBJECT = IMAGE_MAP_PROJECTION
  ^DATA_SET_MAP_PROJECTION_CATALOG= "DSMAP.CAT"
  A_AXIS_RADIUS = 3396.0
  B_AXIS_RADIUS = 3396.0
  C_AXIS_RADIUS = 3396.0
  CENTER_LATITUDE = 0.0
  CENTER_LONGITUDE = 335.0
  COORDINATE_SYSTEM_NAME = PLANETOGRAPHIC
  COORDINATE_SYSTEM_TYPE = "BODY-FIXED ROTATING"
  EASTERNMOST_LONGITUDE = 337.174
  FIRST_STANDARD_PARALLEL = "N/A"
  LINE_FIRST_PIXEL = 1
  LINE_LAST_PIXEL = 38191
  LINE_PROJECTION_OFFSET = 154743.25
  MAP_PROJECTION_ROTATION = 0.0
  MAP_PROJECTION_TYPE = SINUSOIDAL
  MAP_RESOLUTION = 2370.85521546667
  MAP_SCALE = 0.025
  MAXIMUM_LATITUDE = 65.2967
  MINIMUM_LATITUDE = 49.1337
  POSITIVE_LONGITUDE_DIRECTION = EAST
  REFERENCE_LATITUDE = "N/A"
  REFERENCE_LONGITUDE = "N/A"
  SAMPLE_FIRST_PIXEL = 1
  SAMPLE_LAST_PIXEL = 6060
  SAMPLE_PROJECTION_OFFSET = 2922.25
  SECOND_STANDARD_PARALLEL = "N/A"
  WESTERNMOST_LONGITUDE = 332.299
END_OBJECT = IMAGE_MAP_PROJECTION
END
