PDS_VERSION_ID = PDS3
/* FILE DATA ELEMENTS */
RECORD_TYPE = UNDEFINED
/* POINTERS TO DATA OBJECTS */
^IMAGE = ("HK126_0000_S24.TIF")
/* IDENTIFICATION DATA ELEMENTS */
DATA_SET_ID = "MEX-M-HRSC-4-REFDR-MAPPROJECT-EXT7-V4.0"
DATA_SET_NAME = "MARS EXPRESS HRSC MAP PROJECTED REFDR EXTENSION7 V4.0"
DETECTOR_ID = MEX_HRSC_S2
EVENT_TYPE = "MARS-REGIONAL-MAPPING-Im-Pf-Eo"
INSTRUMENT_HOST_ID = MEX
INSTRUMENT_HOST_NAME = "MARS EXPRESS"
INSTRUMENT_ID = HRSC
INSTRUMENT_NAME = "HIGH RESOLUTION STEREO CAMERA"
MISSION_NAME = "MARS EXPRESS"
MISSION_PHASE_NAME = ME_Phase_41
PROCESSING_LEVEL_ID = 4
PRODUCT_CREATION_TIME = 2023-01-28T19:11:08.000Z
PRODUCT_ID = "HK126_0000_S24.TIF"
RELEASE_ID = 0003
REVISION_ID = 0000
/* QUALITY DATA ELEMENTS */
DATA_QUALITY_ID = 1
DATA_QUALITY_DESC = "Data calculated based on original SPICE kernels"
/* TIME DATA ELEMENTS */
SPACECRAFT_CLOCK_START_COUNT = "1/0523301339.25700"
SPACECRAFT_CLOCK_STOP_COUNT = "1/0523301539.08504"
START_TIME = 2019-12-01T17:30:38.262Z
STOP_TIME = 2019-12-01T17:32:49.288Z
/* ORBITAL DATA ELEMENTS */
ASCENDING_NODE_LONGITUDE = 197.21
MAXIMUM_RESOLUTION = 0.0319
FOOTPRINT_POINT_LATITUDE = (77.7403,77.6539,77.5921,77.5394, 77.4837,77.4136,77.4098,77.5485,77.3631 ,77.1773,76.9914,76.8055,76.6192, 76.3398,76.0602,75.8736,75.6871,75.5005 ,75.3138,75.0338,74.7537,74.5669, 74.2866,74.0997,73.9127,73.7258,73.5389 ,73.3521,73.0716,72.8846,72.6976, 72.4174,72.2308,72.0437,71.8564,71.6693 ,71.4824,71.2955,71.1087,70.9219, 70.7352,70.5483,70.3613,69.988,69.5217, 69.055,68.6818,68.402,68.3087,68.2168, 68.2563,68.3068,68.3376,68.378,68.4028, 68.4042,68.4053,68.8755,69.2525,69.4412 ,69.8183,70.007,70.1957,70.3847,70.5736 ,70.7627,70.9519,71.2356,71.4248, 71.7088,71.8982,72.0876,72.2771,72.467, 72.6571,72.8471,73.037,73.2269,73.417, 73.6072,73.7974,73.988,74.1784,74.3691, 74.5596,74.7504,74.9412,75.2276,75.4185 ,75.7052,75.8963,76.0877,76.3746, 76.6617,76.9493,77.2363,77.4277,77.7156 ,77.8114,77.7403)
FOOTPRINT_POINT_LONGITUDE = (120.785,118.909,117.713,116.765, 115.824,114.715,114.657,114.23,114.495, 114.753,115.003,115.244,115.48,115.819, 116.144,116.353,116.556,116.753,116.945 ,117.222,117.489,117.66,117.91,118.071, 118.227,118.38,118.529,118.674,118.885, 119.021,119.155,119.348,119.473,119.596 ,119.716,119.833,119.947,120.059, 120.168,120.275,120.379,120.481,120.581 ,120.774,121.003,121.222,121.389, 121.509,121.549,121.587,122.234,123.123 ,123.707,124.533,125.086,125.12,125.133 ,125.014,124.916,124.865,124.76,124.706 ,124.651,124.595,124.538,124.479, 124.419,124.327,124.264,124.166,124.099 ,124.031,123.961,123.89,123.817,123.742 ,123.665,123.587,123.506,123.424,123.34 ,123.253,123.164,123.073,122.98,122.884 ,122.786,122.633,122.528,122.364, 122.251,122.135,121.954,121.765,121.568 ,121.361,121.217,120.993,120.916, 120.785)
ORBIT_NUMBER = 20126
ORBITAL_ECCENTRICITY = 0.571
ORBITAL_INCLINATION = 86.99
ORBITAL_SEMIMAJOR_AXIS = 8768.02
PERIAPSIS_ALTITUDE = 384.45
PERIAPSIS_ARGUMENT_ANGLE = 112.53
PERIAPSIS_TIME = 2019-12-01T17:32:42.000Z
SPACECRAFT_ORIENTATION = (0.0,-1.0,0.0)
^MEX_ORIENTATION_DESC = "MEX_ORIENTATION_DESC.TXT"
SPACECRAFT_POINTING_MODE = INERT
^MEX_POINTING_DESC = "MEX_POINTING_DESC.TXT"
RIGHT_ASCENSION = 165.517
DECLINATION = -51.73
OFFSET_ANGLE = -1e+32
SPACECRAFT_SOLAR_DISTANCE = 2.42392e+08
TARGET_NAME = MARS
/* CAMERA DATA ELEMENTS */
DETECTOR_TEMPERATURE = 18.9822
FOCAL_PLANE_TEMPERATURE = 7.9716
INST_CMPRS_NAME = "DISCRETE COSINE TRANSFORMATION (DCT)"
INST_CMPRS_RATIO = 10.4388
INST_CMPRS_QUALITY = 0
INST_CMPRS_QUANTZ_TBL_ID = 0
INSTRUMENT_TEMPERATURE = 11.234
LENS_TEMPERATURE = 8.5833
MACROPIXEL_SIZE = 2
MISSING_FRAMES = 0
PIXEL_SUBSAMPLING_FLAG = N
SIGNAL_CHAIN_ID = 1
/* RADIOMETRIC DATA ELEMENTS */
BANDWIDTH = 178.0
CENTER_FILTER_WAVELENGTH = 679.0
RADIANCE_OFFSET = 2.72566
RADIANCE_SCALING_FACTOR = 0.0290354
REFLECTANCE_SCALING_FACTOR = 0.000903426
MEX:REFLECTANCE_OFFSET = 0.0848079
/* IMAGE OBJECT DEFINITIONS */
OBJECT = IMAGE
  INTERCHANGE_FORMAT = BINARY
  LINES = 23001
  LINE_SAMPLES = 7159
  SAMPLE_TYPE = UNSIGNED_INTEGER
  SAMPLE_BITS = 8
  BANDS = 1
  BAND_STORAGE_TYPE = BAND_SEQUENTIAL
  MAXIMUM = 255
  MEAN = 115.784
  MINIMUM = 1
  STANDARD_DEVIATION = 36.3476
END_OBJECT = IMAGE
/* MAP OBJECT DEFINITIONS */
OBJECT = IMAGE_MAP_PROJECTION
  ^DATA_SET_MAP_PROJECTION_CATALOG= "DSMAP.CAT"
  A_AXIS_RADIUS = 3396.0
  B_AXIS_RADIUS = 3396.0
  C_AXIS_RADIUS = 3396.0
  CENTER_LATITUDE = 0.0
  CENTER_LONGITUDE = 121.0
  COORDINATE_SYSTEM_NAME = PLANETOGRAPHIC
  COORDINATE_SYSTEM_TYPE = "BODY-FIXED ROTATING"
  EASTERNMOST_LONGITUDE = 125.133
  FIRST_STANDARD_PARALLEL = "N/A"
  LINE_FIRST_PIXEL = 1
  LINE_LAST_PIXEL = 23001
  LINE_PROJECTION_OFFSET = 184689.75
  MAP_PROJECTION_ROTATION = 0.0
  MAP_PROJECTION_TYPE = SINUSOIDAL
  MAP_RESOLUTION = 2370.85521546667
  MAP_SCALE = 0.025
  MAXIMUM_LATITUDE = 77.81140000000001
  MINIMUM_LATITUDE = 68.21680000000001
  POSITIVE_LONGITUDE_DIRECTION = EAST
  REFERENCE_LATITUDE = "N/A"
  REFERENCE_LONGITUDE = "N/A"
  SAMPLE_FIRST_PIXEL = 1
  SAMPLE_LAST_PIXEL = 7159
  SAMPLE_PROJECTION_OFFSET = 3384.75
  SECOND_STANDARD_PARALLEL = "N/A"
  WESTERNMOST_LONGITUDE = 114.23
END_OBJECT = IMAGE_MAP_PROJECTION
END
