PDS_VERSION_ID = PDS3
/* FILE DATA ELEMENTS */
RECORD_TYPE = UNDEFINED
/* POINTERS TO DATA OBJECTS */
^IMAGE = ("HK123_0000_P24.TIF")
/* IDENTIFICATION DATA ELEMENTS */
DATA_SET_ID = "MEX-M-HRSC-4-REFDR-MAPPROJECT-EXT7-V4.0"
DATA_SET_NAME = "MARS EXPRESS HRSC MAP PROJECTED REFDR EXTENSION7 V4.0"
DETECTOR_ID = MEX_HRSC_P2
EVENT_TYPE = "MARS-REGIONAL-MAPPING-Im-Pf-Eo"
INSTRUMENT_HOST_ID = MEX
INSTRUMENT_HOST_NAME = "MARS EXPRESS"
INSTRUMENT_ID = HRSC
INSTRUMENT_NAME = "HIGH RESOLUTION STEREO CAMERA"
MISSION_NAME = "MARS EXPRESS"
MISSION_PHASE_NAME = ME_Phase_41
PROCESSING_LEVEL_ID = 4
PRODUCT_CREATION_TIME = 2023-01-28T19:11:08.000Z
PRODUCT_ID = "HK123_0000_P24.TIF"
RELEASE_ID = 0003
REVISION_ID = 0000
/* QUALITY DATA ELEMENTS */
DATA_QUALITY_ID = 1
DATA_QUALITY_DESC = "Data calculated based on original SPICE kernels"
/* TIME DATA ELEMENTS */
SPACECRAFT_CLOCK_START_COUNT = "1/0523226038.23972"
SPACECRAFT_CLOCK_STOP_COUNT = "1/0523226241.22279"
START_TIME = 2019-11-30T20:35:22.537Z
STOP_TIME = 2019-11-30T20:37:41.015Z
/* ORBITAL DATA ELEMENTS */
ASCENDING_NODE_LONGITUDE = 197.26
MAXIMUM_RESOLUTION = 0.0317
FOOTPRINT_POINT_LATITUDE = (70.4676,70.4159,70.3313,70.2672, 70.2648,70.3623,70.1649,69.9676,69.7704 ,69.4748,69.2776,69.0804,68.8834, 68.5879,68.3909,68.1939,67.9972,67.8001 ,67.505,67.2099,67.0131,66.8165,66.6199 ,66.3249,66.0302,65.8337,65.5392, 65.3428,65.1464,64.9503,64.754,64.5577, 64.3616,64.1655,63.8712,63.5773,63.3814 ,63.1854,62.9894,62.7935,62.5977,62.304 ,62.0105,61.8148,61.619,61.2278,60.9346 ,60.6414,60.5436,60.5202,60.5631,60.601 ,60.628,60.6634,60.6646,60.6656,61.1566 ,61.5493,61.8441,62.0407,62.2372,62.434 ,62.7291,63.0242,63.3196,63.5165, 63.7137,63.9107,64.1078,64.3052,64.5025 ,64.6998,64.8973,65.0945,65.292,65.4899 ,65.6877,65.9844,66.1823,66.4791, 66.6772,66.8755,67.0737,67.3713,67.5696 ,67.7681,67.9666,68.1653,68.3642, 68.6625,68.8613,69.0602,69.2594,69.5583 ,69.8574,70.0569,70.2564,70.4561,70.556 ,70.4676)
FOOTPRINT_POINT_LONGITUDE = (70.9038,69.7792,68.1786,67.1052, 67.0682,66.8813,66.9852,67.0866,67.1857 ,67.3299,67.4236,67.5155,67.6049, 67.7358,67.8207,67.9039,67.985,68.065, 68.1811,68.2939,68.3673,68.4389,68.5093 ,68.6122,68.712,68.7769,68.8716,68.9333 ,68.9941,69.0532,69.1114,69.1686, 69.2245,69.2795,69.3602,69.4382,69.4891 ,69.5392,69.5884,69.6366,69.6839, 69.7531,69.8204,69.8644,69.9077,69.9916 ,70.0524,70.1117,70.1311,70.1357, 70.8534,71.546,72.0801,72.856,72.8829, 72.8925,72.8315,72.7807,72.7416,72.715, 72.6878,72.6605,72.6185,72.5754,72.5312 ,72.5011,72.4707,72.4396,72.4079,72.376 ,72.3434,72.3101,72.2763,72.2416, 72.2066,72.1711,72.135,72.0793,72.0413, 71.9829,71.9431,71.9027,71.8615,71.7981 ,71.7548,71.7106,71.6655,71.6196,71.573 ,71.5009,71.4516,71.4012,71.3499, 71.2709,71.1893,71.1335,71.0764,71.0181 ,70.9884,70.9038)
ORBIT_NUMBER = 20123
ORBITAL_ECCENTRICITY = 0.571
ORBITAL_INCLINATION = 87.01
ORBITAL_SEMIMAJOR_AXIS = 8769.08
PERIAPSIS_ALTITUDE = 383.4
PERIAPSIS_ARGUMENT_ANGLE = 113.05
PERIAPSIS_TIME = 2019-11-30T20:35:52.000Z
SPACECRAFT_ORIENTATION = (0.0,-1.0,0.0)
^MEX_ORIENTATION_DESC = "MEX_ORIENTATION_DESC.TXT"
SPACECRAFT_POINTING_MODE = INERT
^MEX_POINTING_DESC = "MEX_POINTING_DESC.TXT"
RIGHT_ASCENSION = 177.264
DECLINATION = -50.576
OFFSET_ANGLE = -1e+32
SPACECRAFT_SOLAR_DISTANCE = 2.42509e+08
TARGET_NAME = MARS
/* CAMERA DATA ELEMENTS */
DETECTOR_TEMPERATURE = 18.1666
FOCAL_PLANE_TEMPERATURE = 7.5638
INST_CMPRS_NAME = "DISCRETE COSINE TRANSFORMATION (DCT)"
INST_CMPRS_RATIO = 7.82182
INST_CMPRS_QUALITY = 0
INST_CMPRS_QUANTZ_TBL_ID = 0
INSTRUMENT_TEMPERATURE = 11.0301
LENS_TEMPERATURE = 7.7677
MACROPIXEL_SIZE = 2
MISSING_FRAMES = 0
PIXEL_SUBSAMPLING_FLAG = N
SIGNAL_CHAIN_ID = 3
/* RADIOMETRIC DATA ELEMENTS */
BANDWIDTH = 177.0
CENTER_FILTER_WAVELENGTH = 676.5
RADIANCE_OFFSET = 3.47352
RADIANCE_SCALING_FACTOR = 0.0147412
REFLECTANCE_SCALING_FACTOR = 0.000459672
MEX:REFLECTANCE_OFFSET = 0.108314
/* IMAGE OBJECT DEFINITIONS */
OBJECT = IMAGE
  INTERCHANGE_FORMAT = BINARY
  LINES = 23873
  LINE_SAMPLES = 5510
  SAMPLE_TYPE = UNSIGNED_INTEGER
  SAMPLE_BITS = 8
  BANDS = 1
  BAND_STORAGE_TYPE = BAND_SEQUENTIAL
  MAXIMUM = 255
  MEAN = 165.418
  MINIMUM = 1
  STANDARD_DEVIATION = 36.3901
END_OBJECT = IMAGE
/* MAP OBJECT DEFINITIONS */
OBJECT = IMAGE_MAP_PROJECTION
  ^DATA_SET_MAP_PROJECTION_CATALOG= "DSMAP.CAT"
  A_AXIS_RADIUS = 3396.0
  B_AXIS_RADIUS = 3396.0
  C_AXIS_RADIUS = 3396.0
  CENTER_LATITUDE = 0.0
  CENTER_LONGITUDE = 71.0
  COORDINATE_SYSTEM_NAME = PLANETOGRAPHIC
  COORDINATE_SYSTEM_TYPE = "BODY-FIXED ROTATING"
  EASTERNMOST_LONGITUDE = 72.8925
  FIRST_STANDARD_PARALLEL = "N/A"
  LINE_FIRST_PIXEL = 1
  LINE_LAST_PIXEL = 23873
  LINE_PROJECTION_OFFSET = 167328.25
  MAP_PROJECTION_ROTATION = 0.0
  MAP_PROJECTION_TYPE = SINUSOIDAL
  MAP_RESOLUTION = 2370.85521546667
  MAP_SCALE = 0.025
  MAXIMUM_LATITUDE = 70.556
  MINIMUM_LATITUDE = 60.5202
  POSITIVE_LONGITUDE_DIRECTION = EAST
  REFERENCE_LATITUDE = "N/A"
  REFERENCE_LONGITUDE = "N/A"
  SAMPLE_FIRST_PIXEL = 1
  SAMPLE_LAST_PIXEL = 5510
  SAMPLE_PROJECTION_OFFSET = 3190.75
  SECOND_STANDARD_PARALLEL = "N/A"
  WESTERNMOST_LONGITUDE = 66.8813
END_OBJECT = IMAGE_MAP_PROJECTION
END
