PDS_VERSION_ID = PDS3
/* FILE DATA ELEMENTS */
RECORD_TYPE = UNDEFINED
/* POINTERS TO DATA OBJECTS */
^IMAGE = ("HK109_0000_GR4.TIF")
/* IDENTIFICATION DATA ELEMENTS */
DATA_SET_ID = "MEX-M-HRSC-4-REFDR-MAPPROJECT-EXT7-V4.0"
DATA_SET_NAME = "MARS EXPRESS HRSC MAP PROJECTED REFDR EXTENSION7 V4.0"
DETECTOR_ID = MEX_HRSC_GREEN
EVENT_TYPE = "MARS-REGIONAL-MAPPING-Im-Pf"
INSTRUMENT_HOST_ID = MEX
INSTRUMENT_HOST_NAME = "MARS EXPRESS"
INSTRUMENT_ID = HRSC
INSTRUMENT_NAME = "HIGH RESOLUTION STEREO CAMERA"
MISSION_NAME = "MARS EXPRESS"
MISSION_PHASE_NAME = ME_Phase_41
PROCESSING_LEVEL_ID = 4
PRODUCT_CREATION_TIME = 2023-01-28T19:11:08.000Z
PRODUCT_ID = "HK109_0000_GR4.TIF"
RELEASE_ID = 0003
REVISION_ID = 0000
/* QUALITY DATA ELEMENTS */
DATA_QUALITY_ID = 1
DATA_QUALITY_DESC = "Data calculated based on original SPICE kernels"
/* TIME DATA ELEMENTS */
SPACECRAFT_CLOCK_START_COUNT = "1/0522874106.23954"
SPACECRAFT_CLOCK_STOP_COUNT = "1/0522874296.13249"
START_TIME = 2019-11-26T18:49:24.065Z
STOP_TIME = 2019-11-26T18:51:29.968Z
/* ORBITAL DATA ELEMENTS */
ASCENDING_NODE_LONGITUDE = 197.51
MAXIMUM_RESOLUTION = 0.0616
FOOTPRINT_POINT_LATITUDE = (68.6646,68.6255,68.5935,68.568,68.5337 ,68.485,68.483,68.4822,68.0417,67.6891, 67.3364,66.9835,66.7187,66.3656,65.924, 65.4821,65.04,64.6862,64.5092,64.3322, 64.1552,63.9781,63.8009,63.5352,63.358, 63.1807,63.0034,62.8261,62.6488,62.4714 ,62.2939,62.0277,61.8501,61.6725, 61.4949,61.3173,61.0506,60.8728,60.695, 60.5171,60.339,60.161,59.9831,59.7161, 59.6271,59.5436,59.5709,59.6019,59.628, 59.6464,59.6807,59.6818,59.6832,59.862, 60.1301,60.3088,60.4874,60.7554,60.934, 61.1126,61.2911,61.4696,61.6481,61.8265 ,62.0049,62.1832,62.3616,62.5399, 62.8074,62.9856,63.1639,63.3421,63.5203 ,63.6985,63.9657,64.1438,64.411,64.6781 ,64.8562,65.0342,65.2122,65.3903, 65.5683,65.7463,65.9243,66.1022,66.2802 ,66.4581,66.725,66.903,67.0809,67.2588, 67.4367,67.7035,67.8814,68.0592,68.2371 ,68.5039,68.5928,68.6646)
FOOTPRINT_POINT_LONGITUDE = (61.1418,60.2602,59.6089,59.1224, 58.5077,57.7003,57.668,57.5566,57.7408, 57.8824,58.0185,58.1499,58.2453,58.3689 ,58.517,58.6589,58.7949,58.8997,58.9507 ,59.0009,59.0502,59.0987,59.1464, 59.2165,59.2622,59.3073,59.3516,59.3952 ,59.4381,59.4803,59.5218,59.583,59.6227 ,59.662,59.7006,59.7387,59.7945,59.831, 59.8669,59.9023,59.9369,59.9712,60.005, 60.0548,60.0713,60.0863,60.532,61.0791, 61.5773,61.9522,62.7276,62.7527,62.7609 ,62.7402,62.7087,62.6874,62.6657, 62.6326,62.6102,62.5875,62.5645,62.5411 ,62.5174,62.4936,62.4694,62.4449,62.42, 62.3947,62.3562,62.3299,62.3034,62.2763 ,62.249,62.2212,62.1792,62.1505,62.1067 ,62.0615,62.031,62.0002,61.9689,61.9369 ,61.9045,61.8714,61.8379,61.8039, 61.7694,61.7342,61.6803,61.6437,61.6065 ,61.5685,61.5301,61.4712,61.4309,61.39, 61.3485,61.2849,61.2634,61.1418)
ORBIT_NUMBER = 20109
ORBITAL_ECCENTRICITY = 0.571
ORBITAL_INCLINATION = 87.0
ORBITAL_SEMIMAJOR_AXIS = 8772.3
PERIAPSIS_ALTITUDE = 382.63
PERIAPSIS_ARGUMENT_ANGLE = 115.46
PERIAPSIS_TIME = 2019-11-26T18:50:28.000Z
SPACECRAFT_ORIENTATION = (0.0,-1.0,0.0)
^MEX_ORIENTATION_DESC = "MEX_ORIENTATION_DESC.TXT"
SPACECRAFT_POINTING_MODE = INERT
^MEX_POINTING_DESC = "MEX_POINTING_DESC.TXT"
RIGHT_ASCENSION = 179.351
DECLINATION = -50.344
OFFSET_ANGLE = -1e+32
SPACECRAFT_SOLAR_DISTANCE = 2.43043e+08
TARGET_NAME = MARS
/* CAMERA DATA ELEMENTS */
DETECTOR_TEMPERATURE = 18.3705
FOCAL_PLANE_TEMPERATURE = 8.3794
INST_CMPRS_NAME = "DISCRETE COSINE TRANSFORMATION (DCT)"
INST_CMPRS_RATIO = 14.1323
INST_CMPRS_QUALITY = 0
INST_CMPRS_QUANTZ_TBL_ID = 0
INSTRUMENT_TEMPERATURE = 11.234
LENS_TEMPERATURE = 8.5833
MACROPIXEL_SIZE = 4
MISSING_FRAMES = 0
PIXEL_SUBSAMPLING_FLAG = N
SIGNAL_CHAIN_ID = 2
/* RADIOMETRIC DATA ELEMENTS */
BANDWIDTH = 88.0
CENTER_FILTER_WAVELENGTH = 538.0
RADIANCE_OFFSET = 1.38204
RADIANCE_SCALING_FACTOR = 0.00211034
REFLECTANCE_SCALING_FACTOR = 0.000107328
MEX:REFLECTANCE_OFFSET = 0.0702874
/* IMAGE OBJECT DEFINITIONS */
OBJECT = IMAGE
  INTERCHANGE_FORMAT = BINARY
  LINES = 10835
  LINE_SAMPLES = 2557
  SAMPLE_TYPE = UNSIGNED_INTEGER
  SAMPLE_BITS = 8
  BANDS = 1
  BAND_STORAGE_TYPE = BAND_SEQUENTIAL
  MAXIMUM = 255
  MEAN = 153.627
  MINIMUM = 1
  STANDARD_DEVIATION = 29.2735
END_OBJECT = IMAGE
/* MAP OBJECT DEFINITIONS */
OBJECT = IMAGE_MAP_PROJECTION
  ^DATA_SET_MAP_PROJECTION_CATALOG= "DSMAP.CAT"
  A_AXIS_RADIUS = 3396.0
  B_AXIS_RADIUS = 3396.0
  C_AXIS_RADIUS = 3396.0
  CENTER_LATITUDE = 0.0
  CENTER_LONGITUDE = 61.0
  COORDINATE_SYSTEM_NAME = PLANETOGRAPHIC
  COORDINATE_SYSTEM_TYPE = "BODY-FIXED ROTATING"
  EASTERNMOST_LONGITUDE = 62.7609
  FIRST_STANDARD_PARALLEL = "N/A"
  LINE_FIRST_PIXEL = 1
  LINE_LAST_PIXEL = 10835
  LINE_PROJECTION_OFFSET = 81406.875
  MAP_PROJECTION_ROTATION = 0.0
  MAP_PROJECTION_TYPE = SINUSOIDAL
  MAP_RESOLUTION = 1185.42760773333
  MAP_SCALE = 0.05
  MAXIMUM_LATITUDE = 68.66459999999999
  MINIMUM_LATITUDE = 59.5436
  POSITIVE_LONGITUDE_DIRECTION = EAST
  REFERENCE_LATITUDE = "N/A"
  REFERENCE_LONGITUDE = "N/A"
  SAMPLE_FIRST_PIXEL = 1
  SAMPLE_LAST_PIXEL = 2557
  SAMPLE_PROJECTION_OFFSET = 1516.625
  SECOND_STANDARD_PARALLEL = "N/A"
  WESTERNMOST_LONGITUDE = 57.5566
END_OBJECT = IMAGE_MAP_PROJECTION
END
