PDS_VERSION_ID = PDS3
/* FILE DATA ELEMENTS */
RECORD_TYPE = UNDEFINED
/* POINTERS TO DATA OBJECTS */
^IMAGE = ("HK096_0000_RE4.TIF")
/* IDENTIFICATION DATA ELEMENTS */
DATA_SET_ID = "MEX-M-HRSC-4-REFDR-MAPPROJECT-EXT7-V4.0"
DATA_SET_NAME = "MARS EXPRESS HRSC MAP PROJECTED REFDR EXTENSION7 V4.0"
DETECTOR_ID = MEX_HRSC_RED
EVENT_TYPE = "MARS-REGIONAL-MAPPING-Im-Pf"
INSTRUMENT_HOST_ID = MEX
INSTRUMENT_HOST_NAME = "MARS EXPRESS"
INSTRUMENT_ID = HRSC
INSTRUMENT_NAME = "HIGH RESOLUTION STEREO CAMERA"
MISSION_NAME = "MARS EXPRESS"
MISSION_PHASE_NAME = ME_Phase_41
PROCESSING_LEVEL_ID = 4
PRODUCT_CREATION_TIME = 2023-01-28T19:11:08.000Z
PRODUCT_ID = "HK096_0000_RE4.TIF"
RELEASE_ID = 0003
REVISION_ID = 0000
/* QUALITY DATA ELEMENTS */
DATA_QUALITY_ID = 1
DATA_QUALITY_DESC = "Data calculated based on original SPICE kernels"
/* TIME DATA ELEMENTS */
SPACECRAFT_CLOCK_START_COUNT = "1/0522547319.25674"
SPACECRAFT_CLOCK_STOP_COUNT = "1/0522547508.07398"
START_TIME = 2019-11-23T00:03:28.997Z
STOP_TIME = 2019-11-23T00:05:33.385Z
/* ORBITAL DATA ELEMENTS */
ASCENDING_NODE_LONGITUDE = 197.76
MAXIMUM_RESOLUTION = 0.0638
FOOTPRINT_POINT_LATITUDE = (66.2242,66.1979,66.1754,66.1423, 66.1169,66.09,66.0618,66.06,66.1754, 65.9979,65.8205,65.5545,65.3773,65.1114 ,64.9344,64.7575,64.5805,64.4036, 64.2266,64.05,63.7851,63.6086,63.4321, 63.1675,62.9912,62.8149,62.6386,62.4625 ,62.1983,61.9342,61.7583,61.5823, 61.4065,61.2306,61.0549,60.7911,60.6157 ,60.3524,60.1769,60.0016,59.651,59.3004 ,58.8624,58.5124,58.1625,57.8127, 57.4631,57.3757,57.2883,57.3084,57.3457 ,57.3721,57.3893,57.4112,57.4122, 57.4137,57.7645,58.1154,58.4666,58.818, 59.1696,59.3456,59.5216,59.6976,59.8738 ,60.05,60.3145,60.4907,60.6672,60.8437, 61.0202,61.1966,61.4618,61.6387,61.8155 ,61.9925,62.1694,62.3465,62.5236, 62.7008,62.8781,63.0554,63.233,63.4105, 63.5881,63.7658,63.9436,64.1214,64.3887 ,64.6561,64.8343,65.0126,65.1909, 65.3697,65.5482,65.727,65.9953,66.1741, 66.2636,66.2242)
FOOTPRINT_POINT_LONGITUDE = (308.536,307.94,307.463,306.806,306.328 ,305.849,305.369,305.339,305.146, 305.214,305.28,305.377,305.44,305.533, 305.593,305.652,305.711,305.768,305.824 ,305.879,305.96,306.013,306.065,306.142 ,306.191,306.24,306.288,306.336,306.405 ,306.473,306.517,306.561,306.604, 306.646,306.687,306.748,306.788,306.846 ,306.884,306.922,306.995,307.066, 307.152,307.218,307.282,307.344,307.404 ,307.419,307.433,307.781,308.476, 309.008,309.377,309.884,309.907,309.915 ,309.878,309.841,309.802,309.762, 309.721,309.7,309.679,309.658,309.636, 309.614,309.58,309.557,309.534,309.51, 309.486,309.462,309.425,309.399,309.374 ,309.348,309.321,309.295,309.267,309.24 ,309.212,309.183,309.154,309.125, 309.095,309.064,309.034,309.002,308.954 ,308.905,308.872,308.838,308.803, 308.768,308.732,308.696,308.64,308.602, 308.583,308.536)
ORBIT_NUMBER = 20096
ORBITAL_ECCENTRICITY = 0.571
ORBITAL_INCLINATION = 87.0
ORBITAL_SEMIMAJOR_AXIS = 8771.31
PERIAPSIS_ALTITUDE = 382.34
PERIAPSIS_ARGUMENT_ANGLE = 117.72
PERIAPSIS_TIME = 2019-11-23T00:04:01.000Z
SPACECRAFT_ORIENTATION = (0.0,-1.0,0.0)
^MEX_ORIENTATION_DESC = "MEX_ORIENTATION_DESC.TXT"
SPACECRAFT_POINTING_MODE = INERT
^MEX_POINTING_DESC = "MEX_POINTING_DESC.TXT"
RIGHT_ASCENSION = 183.841
DECLINATION = -51.834
OFFSET_ANGLE = -1e+32
SPACECRAFT_SOLAR_DISTANCE = 2.43522e+08
TARGET_NAME = MARS
/* CAMERA DATA ELEMENTS */
DETECTOR_TEMPERATURE = 18.3705
FOCAL_PLANE_TEMPERATURE = 7.5638
INST_CMPRS_NAME = "DISCRETE COSINE TRANSFORMATION (DCT)"
INST_CMPRS_RATIO = 14.9444
INST_CMPRS_QUALITY = 0
INST_CMPRS_QUANTZ_TBL_ID = 0
INSTRUMENT_TEMPERATURE = 10.6223
LENS_TEMPERATURE = 8.3794
MACROPIXEL_SIZE = 4
MISSING_FRAMES = 0
PIXEL_SUBSAMPLING_FLAG = N
SIGNAL_CHAIN_ID = 2
/* RADIOMETRIC DATA ELEMENTS */
BANDWIDTH = 48.0
CENTER_FILTER_WAVELENGTH = 748.0
RADIANCE_OFFSET = 0.511735
RADIANCE_SCALING_FACTOR = 0.00419199
REFLECTANCE_SCALING_FACTOR = 0.000567318
MEX:REFLECTANCE_OFFSET = 0.069255
/* IMAGE OBJECT DEFINITIONS */
OBJECT = IMAGE
  INTERCHANGE_FORMAT = BINARY
  LINES = 10754
  LINE_SAMPLES = 2603
  SAMPLE_TYPE = UNSIGNED_INTEGER
  SAMPLE_BITS = 8
  BANDS = 1
  BAND_STORAGE_TYPE = BAND_SEQUENTIAL
  MAXIMUM = 255
  MEAN = 119.828
  MINIMUM = 1
  STANDARD_DEVIATION = 29.0759
END_OBJECT = IMAGE
/* MAP OBJECT DEFINITIONS */
OBJECT = IMAGE_MAP_PROJECTION
  ^DATA_SET_MAP_PROJECTION_CATALOG= "DSMAP.CAT"
  A_AXIS_RADIUS = 3396.0
  B_AXIS_RADIUS = 3396.0
  C_AXIS_RADIUS = 3396.0
  CENTER_LATITUDE = 0.0
  CENTER_LONGITUDE = 308.0
  COORDINATE_SYSTEM_NAME = PLANETOGRAPHIC
  COORDINATE_SYSTEM_TYPE = "BODY-FIXED ROTATING"
  EASTERNMOST_LONGITUDE = 309.915
  FIRST_STANDARD_PARALLEL = "N/A"
  LINE_FIRST_PIXEL = 1
  LINE_LAST_PIXEL = 10754
  LINE_PROJECTION_OFFSET = 78648.875
  MAP_PROJECTION_ROTATION = 0.0
  MAP_PROJECTION_TYPE = SINUSOIDAL
  MAP_RESOLUTION = 1185.42760773333
  MAP_SCALE = 0.05
  MAXIMUM_LATITUDE = 66.2636
  MINIMUM_LATITUDE = 57.2883
  POSITIVE_LONGITUDE_DIRECTION = EAST
  REFERENCE_LATITUDE = "N/A"
  REFERENCE_LONGITUDE = "N/A"
  SAMPLE_FIRST_PIXEL = 1
  SAMPLE_LAST_PIXEL = 2603
  SAMPLE_PROJECTION_OFFSET = 1302.625
  SECOND_STANDARD_PARALLEL = "N/A"
  WESTERNMOST_LONGITUDE = 305.146
END_OBJECT = IMAGE_MAP_PROJECTION
END
