PDS_VERSION_ID = PDS3
/* FILE DATA ELEMENTS */
RECORD_TYPE = UNDEFINED
/* POINTERS TO DATA OBJECTS */
^IMAGE = ("HK089_0000_P14.TIF")
/* IDENTIFICATION DATA ELEMENTS */
DATA_SET_ID = "MEX-M-HRSC-4-REFDR-MAPPROJECT-EXT7-V4.0"
DATA_SET_NAME = "MARS EXPRESS HRSC MAP PROJECTED REFDR EXTENSION7 V4.0"
DETECTOR_ID = MEX_HRSC_P1
EVENT_TYPE = "MARS-REGIONAL-MAPPING-Im-Pf-Mw"
INSTRUMENT_HOST_ID = MEX
INSTRUMENT_HOST_NAME = "MARS EXPRESS"
INSTRUMENT_ID = HRSC
INSTRUMENT_NAME = "HIGH RESOLUTION STEREO CAMERA"
MISSION_NAME = "MARS EXPRESS"
MISSION_PHASE_NAME = ME_Phase_41
PROCESSING_LEVEL_ID = 4
PRODUCT_CREATION_TIME = 2023-01-28T19:11:08.000Z
PRODUCT_ID = "HK089_0000_P14.TIF"
RELEASE_ID = 0003
REVISION_ID = 0000
/* QUALITY DATA ELEMENTS */
DATA_QUALITY_ID = 1
DATA_QUALITY_DESC = "Data calculated based on original SPICE kernels"
/* TIME DATA ELEMENTS */
SPACECRAFT_CLOCK_START_COUNT = "1/0522371347.25697"
SPACECRAFT_CLOCK_STOP_COUNT = "1/0522371555.25296"
START_TIME = 2019-11-20T23:09:49.902Z
STOP_TIME = 2019-11-20T23:12:13.495Z
/* ORBITAL DATA ELEMENTS */
ASCENDING_NODE_LONGITUDE = 197.88
MAXIMUM_RESOLUTION = 0.0315
FOOTPRINT_POINT_LATITUDE = (65.3666,65.2898,65.2248,65.1643,65.162 ,65.1028,64.7005,64.3986,64.1971, 63.8947,63.6931,63.3904,63.1884,62.9864 ,62.7842,62.5819,62.2783,62.0758, 61.8731,61.6703,61.4674,61.1628,60.858, 60.6548,60.4515,60.248,60.0442,59.7386, 59.5345,59.3306,59.1264,58.82,58.6155, 58.4108,58.2061,57.8989,57.5915,57.3864 ,57.1811,56.9758,56.7703,56.462,56.256, 56.0502,55.8441,55.638,55.4317,55.0188, 54.9155,54.8641,54.9183,54.9459,54.9847 ,55.0101,55.0324,55.0337,55.0348, 55.3456,55.5525,55.8628,56.0694,56.3792 ,56.5856,56.7919,57.1011,57.4101, 57.6158,57.9244,58.2329,58.4382,58.6437 ,58.8489,59.054,59.2591,59.5665,59.8737 ,60.1806,60.3851,60.6918,60.8963, 61.2028,61.4071,61.6109,61.815,62.0189, 62.2227,62.4264,62.7319,62.9354,63.2406 ,63.5457,63.749,63.9522,64.1553,64.4598 ,64.6628,64.8657,65.1698,65.2712, 65.3666)
FOOTPRINT_POINT_LONGITUDE = (303.18,301.922,300.979,300.179,300.15, 300.005,300.147,300.249,300.316,300.414 ,300.477,300.571,300.631,300.691, 300.749,300.807,300.89,300.945,300.999, 301.051,301.103,301.179,301.252,301.301 ,301.348,301.394,301.44,301.506,301.549 ,301.592,301.634,301.696,301.736, 301.775,301.814,301.87,301.925,301.962, 301.997,302.032,302.066,302.116,302.148 ,302.18,302.212,302.243,302.273,302.332 ,302.347,302.354,303.037,303.411, 303.971,304.365,304.735,304.758,304.766 ,304.735,304.714,304.682,304.661, 304.627,304.605,304.582,304.547,304.512 ,304.487,304.45,304.412,304.387,304.361 ,304.334,304.307,304.28,304.238,304.195 ,304.151,304.121,304.075,304.044, 303.996,303.964,303.931,303.897,303.863 ,303.829,303.793,303.739,303.703, 303.646,303.588,303.549,303.509,303.468 ,303.405,303.363,303.319,303.252,303.23 ,303.18)
ORBIT_NUMBER = 20089
ORBITAL_ECCENTRICITY = 0.571
ORBITAL_INCLINATION = 87.0
ORBITAL_SEMIMAJOR_AXIS = 8773.32
PERIAPSIS_ALTITUDE = 381.74
PERIAPSIS_ARGUMENT_ANGLE = 118.93
PERIAPSIS_TIME = 2019-11-20T23:11:11.000Z
SPACECRAFT_ORIENTATION = (0.0,-1.0,0.0)
^MEX_ORIENTATION_DESC = "MEX_ORIENTATION_DESC.TXT"
SPACECRAFT_POINTING_MODE = INERT
^MEX_POINTING_DESC = "MEX_POINTING_DESC.TXT"
RIGHT_ASCENSION = 186.946
DECLINATION = -53.468
OFFSET_ANGLE = -1e+32
SPACECRAFT_SOLAR_DISTANCE = 2.43773e+08
TARGET_NAME = MARS
/* CAMERA DATA ELEMENTS */
DETECTOR_TEMPERATURE = 16.7393
FOCAL_PLANE_TEMPERATURE = 7.7677
INST_CMPRS_NAME = "DISCRETE COSINE TRANSFORMATION (DCT)"
INST_CMPRS_RATIO = 7.47367
INST_CMPRS_QUALITY = 0
INST_CMPRS_QUANTZ_TBL_ID = 0
INSTRUMENT_TEMPERATURE = 10.2145
LENS_TEMPERATURE = 8.1755
MACROPIXEL_SIZE = 2
MISSING_FRAMES = 0
PIXEL_SUBSAMPLING_FLAG = N
SIGNAL_CHAIN_ID = 3
/* RADIOMETRIC DATA ELEMENTS */
BANDWIDTH = 174.0
CENTER_FILTER_WAVELENGTH = 675.0
RADIANCE_OFFSET = 2.1384
RADIANCE_SCALING_FACTOR = 0.0152642
REFLECTANCE_SCALING_FACTOR = 0.000487901
MEX:REFLECTANCE_OFFSET = 0.0683513
/* IMAGE OBJECT DEFINITIONS */
OBJECT = IMAGE
  INTERCHANGE_FORMAT = BINARY
  LINES = 24722
  LINE_SAMPLES = 5395
  SAMPLE_TYPE = UNSIGNED_INTEGER
  SAMPLE_BITS = 8
  BANDS = 1
  BAND_STORAGE_TYPE = BAND_SEQUENTIAL
  MAXIMUM = 255
  MEAN = 110.827
  MINIMUM = 1
  STANDARD_DEVIATION = 27.5368
END_OBJECT = IMAGE
/* MAP OBJECT DEFINITIONS */
OBJECT = IMAGE_MAP_PROJECTION
  ^DATA_SET_MAP_PROJECTION_CATALOG= "DSMAP.CAT"
  A_AXIS_RADIUS = 3396.0
  B_AXIS_RADIUS = 3396.0
  C_AXIS_RADIUS = 3396.0
  CENTER_LATITUDE = 0.0
  CENTER_LONGITUDE = 303.0
  COORDINATE_SYSTEM_NAME = PLANETOGRAPHIC
  COORDINATE_SYSTEM_TYPE = "BODY-FIXED ROTATING"
  EASTERNMOST_LONGITUDE = 304.766
  FIRST_STANDARD_PARALLEL = "N/A"
  LINE_FIRST_PIXEL = 1
  LINE_LAST_PIXEL = 24722
  LINE_PROJECTION_OFFSET = 154872.75
  MAP_PROJECTION_ROTATION = 0.0
  MAP_PROJECTION_TYPE = SINUSOIDAL
  MAP_RESOLUTION = 2370.85521546667
  MAP_SCALE = 0.025
  MAXIMUM_LATITUDE = 65.36660000000001
  MINIMUM_LATITUDE = 54.8641
  POSITIVE_LONGITUDE_DIRECTION = EAST
  REFERENCE_LATITUDE = "N/A"
  REFERENCE_LONGITUDE = "N/A"
  SAMPLE_FIRST_PIXEL = 1
  SAMPLE_LAST_PIXEL = 5395
  SAMPLE_PROJECTION_OFFSET = 3117.75
  SECOND_STANDARD_PARALLEL = "N/A"
  WESTERNMOST_LONGITUDE = 300.005
END_OBJECT = IMAGE_MAP_PROJECTION
END
