PDS_VERSION_ID = PDS3
/* FILE DATA ELEMENTS */
RECORD_TYPE = UNDEFINED
/* POINTERS TO DATA OBJECTS */
^IMAGE = ("HK081_0000_IR4.TIF")
/* IDENTIFICATION DATA ELEMENTS */
DATA_SET_ID = "MEX-M-HRSC-4-REFDR-MAPPROJECT-EXT7-V4.0"
DATA_SET_NAME = "MARS EXPRESS HRSC MAP PROJECTED REFDR EXTENSION7 V4.0"
DETECTOR_ID = MEX_HRSC_IR
EVENT_TYPE = "MARS-REGIONAL-MAPPING-Vo-Im-Fl"
INSTRUMENT_HOST_ID = MEX
INSTRUMENT_HOST_NAME = "MARS EXPRESS"
INSTRUMENT_ID = HRSC
INSTRUMENT_NAME = "HIGH RESOLUTION STEREO CAMERA"
MISSION_NAME = "MARS EXPRESS"
MISSION_PHASE_NAME = ME_Phase_41
PROCESSING_LEVEL_ID = 4
PRODUCT_CREATION_TIME = 2023-01-28T19:11:08.000Z
PRODUCT_ID = "HK081_0000_IR4.TIF"
RELEASE_ID = 0003
REVISION_ID = 0000
/* QUALITY DATA ELEMENTS */
DATA_QUALITY_ID = 1
DATA_QUALITY_DESC = "Data calculated based on original SPICE kernels"
/* TIME DATA ELEMENTS */
SPACECRAFT_CLOCK_START_COUNT = "1/0522170233.24906"
SPACECRAFT_CLOCK_STOP_COUNT = "1/0522170430.32170"
START_TIME = 2019-11-18T15:17:50.620Z
STOP_TIME = 2019-11-18T15:20:03.217Z
/* ORBITAL DATA ELEMENTS */
ASCENDING_NODE_LONGITUDE = 198.02
MAXIMUM_RESOLUTION = 0.0636
FOOTPRINT_POINT_LATITUDE = (64.2444,64.2304,64.22,64.2083,64.1952, 64.165,64.164,64.1031,63.7272,63.3508, 62.9742,62.5975,62.1258,61.7484,61.5595 ,61.3704,61.1813,60.9922,60.8032, 60.6139,60.4244,60.1402,59.9507,59.6659 ,59.4761,59.2861,59.0962,58.906,58.7158 ,58.5254,58.3354,58.1447,57.859,57.6684 ,57.4778,57.2868,57.0957,56.9045, 56.7134,56.5219,56.3303,56.1387,55.8513 ,55.6592,55.3711,55.1794,54.9871, 54.7946,54.6982,54.6041,54.6214,54.6311 ,54.6384,54.6495,54.6535,54.6537, 54.6549,54.8481,55.041,55.3299,55.6185, 55.8108,56.0031,56.1953,56.3876,56.6755 ,56.8675,57.0589,57.2506,57.4421, 57.6337,57.825,58.1119,58.3032,58.4941, 58.7803,58.9713,59.162,59.3527,59.5432, 59.7337,59.924,60.1144,60.3997,60.6849, 60.8751,61.0648,61.2548,61.5395,61.7292 ,61.9189,62.1084,62.3926,62.6767, 62.9606,63.1499,63.528,64.0006,64.095, 64.2444)
FOOTPRINT_POINT_LONGITUDE = (43.0958,42.3627,41.9165,41.4743, 41.0362,40.1705,40.1437,40.16,40.2391, 40.3158,40.39,40.4618,40.5484,40.6152, 40.6479,40.6801,40.7118,40.7429,40.7736 ,40.8038,40.8336,40.8774,40.906,40.9483 ,40.9759,41.0031,41.0299,41.0563, 41.0824,41.108,41.1332,41.1582,41.1949, 41.2189,41.2425,41.2659,41.2889,41.3116 ,41.334,41.356,41.3778,41.3993,41.4309, 41.4517,41.4822,41.5022,41.5219,41.5414 ,41.5511,41.5605,42.1283,42.5045, 42.8621,43.5177,43.9306,43.9537,43.9613 ,43.9497,43.9383,43.9214,43.9044, 43.8929,43.8813,43.8694,43.8574,43.8396 ,43.8273,43.8157,43.8034,43.7912, 43.7786,43.7663,43.7474,43.7344,43.7218 ,43.7026,43.6893,43.6763,43.6629, 43.6496,43.636,43.6225,43.6087,43.588, 43.5667,43.552,43.538,43.5234,43.5011, 43.4863,43.471,43.4558,43.4325,43.409, 43.3851,43.3688,43.3359,43.2934,43.2848 ,43.0958)
ORBIT_NUMBER = 20081
ORBITAL_ECCENTRICITY = 0.571
ORBITAL_INCLINATION = 86.99
ORBITAL_SEMIMAJOR_AXIS = 8779.25
PERIAPSIS_ALTITUDE = 381.06
PERIAPSIS_ARGUMENT_ANGLE = 120.3
PERIAPSIS_TIME = 2019-11-18T15:19:20.000Z
SPACECRAFT_ORIENTATION = (0.0,-1.0,0.0)
^MEX_ORIENTATION_DESC = "MEX_ORIENTATION_DESC.TXT"
SPACECRAFT_POINTING_MODE = INERT
^MEX_POINTING_DESC = "MEX_POINTING_DESC.TXT"
RIGHT_ASCENSION = 183.661
DECLINATION = -43.099
OFFSET_ANGLE = -1e+32
SPACECRAFT_SOLAR_DISTANCE = 2.44054e+08
TARGET_NAME = MARS
/* CAMERA DATA ELEMENTS */
DETECTOR_TEMPERATURE = 16.9432
FOCAL_PLANE_TEMPERATURE = 7.5638
INST_CMPRS_NAME = "DISCRETE COSINE TRANSFORMATION (DCT)"
INST_CMPRS_RATIO = 8.06949
INST_CMPRS_QUALITY = 0
INST_CMPRS_QUANTZ_TBL_ID = 0
INSTRUMENT_TEMPERATURE = 11.234
LENS_TEMPERATURE = 7.7677
MACROPIXEL_SIZE = 4
MISSING_FRAMES = 0
PIXEL_SUBSAMPLING_FLAG = N
SIGNAL_CHAIN_ID = 2
/* RADIOMETRIC DATA ELEMENTS */
BANDWIDTH = 81.0
CENTER_FILTER_WAVELENGTH = 955.5
RADIANCE_OFFSET = 0.773211
RADIANCE_SCALING_FACTOR = 0.0030322
REFLECTANCE_SCALING_FACTOR = 0.000389632
MEX:REFLECTANCE_OFFSET = 0.0993561
/* IMAGE OBJECT DEFINITIONS */
OBJECT = IMAGE
  INTERCHANGE_FORMAT = BINARY
  LINES = 11410
  LINE_SAMPLES = 2260
  SAMPLE_TYPE = UNSIGNED_INTEGER
  SAMPLE_BITS = 8
  BANDS = 1
  BAND_STORAGE_TYPE = BAND_SEQUENTIAL
  MAXIMUM = 255
  MEAN = 130.962
  MINIMUM = 1
  STANDARD_DEVIATION = 27.2195
END_OBJECT = IMAGE
/* MAP OBJECT DEFINITIONS */
OBJECT = IMAGE_MAP_PROJECTION
  ^DATA_SET_MAP_PROJECTION_CATALOG= "DSMAP.CAT"
  A_AXIS_RADIUS = 3396.0
  B_AXIS_RADIUS = 3396.0
  C_AXIS_RADIUS = 3396.0
  CENTER_LATITUDE = 0.0
  CENTER_LONGITUDE = 42.0
  COORDINATE_SYSTEM_NAME = PLANETOGRAPHIC
  COORDINATE_SYSTEM_TYPE = "BODY-FIXED ROTATING"
  EASTERNMOST_LONGITUDE = 43.9613
  FIRST_STANDARD_PARALLEL = "N/A"
  LINE_FIRST_PIXEL = 1
  LINE_LAST_PIXEL = 11410
  LINE_PROJECTION_OFFSET = 76127.375
  MAP_PROJECTION_ROTATION = 0.0
  MAP_PROJECTION_TYPE = SINUSOIDAL
  MAP_RESOLUTION = 1185.42760773333
  MAP_SCALE = 0.05
  MAXIMUM_LATITUDE = 64.2444
  MINIMUM_LATITUDE = 54.6041
  POSITIVE_LONGITUDE_DIRECTION = EAST
  REFERENCE_LATITUDE = "N/A"
  REFERENCE_LONGITUDE = "N/A"
  SAMPLE_FIRST_PIXEL = 1
  SAMPLE_LAST_PIXEL = 2260
  SAMPLE_PROJECTION_OFFSET = 1011.125
  SECOND_STANDARD_PARALLEL = "N/A"
  WESTERNMOST_LONGITUDE = 40.1437
END_OBJECT = IMAGE_MAP_PROJECTION
END
