PDS_VERSION_ID = PDS3
/* FILE DATA ELEMENTS */
RECORD_TYPE = UNDEFINED
/* POINTERS TO DATA OBJECTS */
^IMAGE = ("HK077_0000_RE4.TIF")
/* IDENTIFICATION DATA ELEMENTS */
DATA_SET_ID = "MEX-M-HRSC-4-REFDR-MAPPROJECT-EXT7-V4.0"
DATA_SET_NAME = "MARS EXPRESS HRSC MAP PROJECTED REFDR EXTENSION7 V4.0"
DETECTOR_ID = MEX_HRSC_RED
EVENT_TYPE = "MARS-REGIONAL-MAPPING-Im-Pf"
INSTRUMENT_HOST_ID = MEX
INSTRUMENT_HOST_NAME = "MARS EXPRESS"
INSTRUMENT_ID = HRSC
INSTRUMENT_NAME = "HIGH RESOLUTION STEREO CAMERA"
MISSION_NAME = "MARS EXPRESS"
MISSION_PHASE_NAME = ME_Phase_41
PROCESSING_LEVEL_ID = 4
PRODUCT_CREATION_TIME = 2023-01-28T19:11:08.000Z
PRODUCT_ID = "HK077_0000_RE4.TIF"
RELEASE_ID = 0003
REVISION_ID = 0000
/* QUALITY DATA ELEMENTS */
DATA_QUALITY_ID = 1
DATA_QUALITY_DESC = "Data calculated based on original SPICE kernels"
/* TIME DATA ELEMENTS */
SPACECRAFT_CLOCK_START_COUNT = "1/0522069639.25711"
SPACECRAFT_CLOCK_STOP_COUNT = "1/0522069852.32233"
START_TIME = 2019-11-17T11:22:10.382Z
STOP_TIME = 2019-11-17T11:24:37.756Z
/* ORBITAL DATA ELEMENTS */
ASCENDING_NODE_LONGITUDE = 198.1
MAXIMUM_RESOLUTION = 0.0632
FOOTPRINT_POINT_LATITUDE = (66.1049,66.0638,66.0169,65.9461, 65.9443,66.0657,65.7463,65.5333,65.3208 ,65.0019,64.7893,64.5771,64.2589, 63.9409,63.7289,63.5172,63.3056,63.0938 ,62.8824,62.5652,62.3538,62.1425, 61.9315,61.615,61.2987,61.0877,60.7716, 60.4563,60.1407,59.9306,59.7202,59.5101 ,59.2999,59.09,58.8803,58.5656,58.3559, 58.1466,57.9369,57.7273,57.518,57.3086, 57.0993,56.89,56.472,56.0541,55.6365, 55.5321,55.4939,55.5377,55.5542,55.57, 55.5963,55.597,55.5984,55.9127,56.2269, 56.5413,56.8562,57.0661,57.2764,57.4865 ,57.6968,57.9069,58.2225,58.4328, 58.6442,58.8552,59.1716,59.3826,59.6994 ,59.9106,60.1217,60.3323,60.544,60.8615 ,61.0744,61.3931,61.6054,61.8178, 62.0302,62.2428,62.4555,62.7746,63.0944 ,63.3075,63.5211,63.735,63.9486,64.1624 ,64.3761,64.5905,64.8047,65.1261, 65.3408,65.6632,65.8779,66.0934,66.201, 66.1049)
FOOTPRINT_POINT_LONGITUDE = (87.7233,86.7468,85.7573,84.4372, 84.4053,84.1403,84.2852,84.3794,84.4711 ,84.605,84.6923,84.777,84.901,85.021, 85.0993,85.1754,85.25,85.3235,85.395, 85.4999,85.5683,85.6352,85.7003,85.7959 ,85.8886,85.9493,86.0377,86.1224, 86.2055,86.2591,86.3124,86.3643,86.4155 ,86.4653,86.514,86.5857,86.6323,86.6775 ,86.7227,86.7671,86.81,86.8525,86.8943, 86.9353,87.0141,87.0905,87.1639,87.1819 ,87.1885,88.0849,88.4617,88.8356, 89.5322,89.5538,89.5609,89.526,89.4903, 89.4536,89.4159,89.3902,89.364,89.3374, 89.3103,89.2828,89.2406,89.2118,89.1823 ,89.1524,89.1066,89.0754,89.0274, 88.9947,88.9615,88.9278,88.8933,88.8403 ,88.8038,88.748,88.7101,88.6713,88.632, 88.5917,88.5508,88.4879,88.4229,88.3786 ,88.3333,88.2871,88.24,88.192,88.1431, 88.0929,88.0418,87.9633,87.9094,87.8265 ,87.7698,87.7117,87.6823,87.7233)
ORBIT_NUMBER = 20077
ORBITAL_ECCENTRICITY = 0.572
ORBITAL_INCLINATION = 87.0
ORBITAL_SEMIMAJOR_AXIS = 8781.45
PERIAPSIS_ALTITUDE = 379.7
PERIAPSIS_ARGUMENT_ANGLE = 120.96
PERIAPSIS_TIME = 2019-11-17T11:23:26.000Z
SPACECRAFT_ORIENTATION = (0.0,-1.0,0.0)
^MEX_ORIENTATION_DESC = "MEX_ORIENTATION_DESC.TXT"
SPACECRAFT_POINTING_MODE = INERT
^MEX_POINTING_DESC = "MEX_POINTING_DESC.TXT"
RIGHT_ASCENSION = 191.527
DECLINATION = -54.785
OFFSET_ANGLE = -1e+32
SPACECRAFT_SOLAR_DISTANCE = 2.44191e+08
TARGET_NAME = MARS
/* CAMERA DATA ELEMENTS */
DETECTOR_TEMPERATURE = 18.1666
FOCAL_PLANE_TEMPERATURE = 7.9716
INST_CMPRS_NAME = "DISCRETE COSINE TRANSFORMATION (DCT)"
INST_CMPRS_RATIO = 19.6286
INST_CMPRS_QUALITY = 0
INST_CMPRS_QUANTZ_TBL_ID = 0
INSTRUMENT_TEMPERATURE = 12.0496
LENS_TEMPERATURE = 7.9716
MACROPIXEL_SIZE = 4
MISSING_FRAMES = 0
PIXEL_SUBSAMPLING_FLAG = N
SIGNAL_CHAIN_ID = 2
/* RADIOMETRIC DATA ELEMENTS */
BANDWIDTH = 48.0
CENTER_FILTER_WAVELENGTH = 748.0
RADIANCE_OFFSET = 0.648198
RADIANCE_SCALING_FACTOR = 0.00570825
REFLECTANCE_SCALING_FACTOR = 0.000776769
MEX:REFLECTANCE_OFFSET = 0.0882058
/* IMAGE OBJECT DEFINITIONS */
OBJECT = IMAGE
  INTERCHANGE_FORMAT = BINARY
  LINES = 12788
  LINE_SAMPLES = 2879
  SAMPLE_TYPE = UNSIGNED_INTEGER
  SAMPLE_BITS = 8
  BANDS = 1
  BAND_STORAGE_TYPE = BAND_SEQUENTIAL
  MAXIMUM = 255
  MEAN = 121.464
  MINIMUM = 1
  STANDARD_DEVIATION = 51.2216
END_OBJECT = IMAGE
/* MAP OBJECT DEFINITIONS */
OBJECT = IMAGE_MAP_PROJECTION
  ^DATA_SET_MAP_PROJECTION_CATALOG= "DSMAP.CAT"
  A_AXIS_RADIUS = 3396.0
  B_AXIS_RADIUS = 3396.0
  C_AXIS_RADIUS = 3396.0
  CENTER_LATITUDE = 0.0
  CENTER_LONGITUDE = 88.0
  COORDINATE_SYSTEM_NAME = PLANETOGRAPHIC
  COORDINATE_SYSTEM_TYPE = "BODY-FIXED ROTATING"
  EASTERNMOST_LONGITUDE = 89.5609
  FIRST_STANDARD_PARALLEL = "N/A"
  LINE_FIRST_PIXEL = 1
  LINE_LAST_PIXEL = 12788
  LINE_PROJECTION_OFFSET = 78541.625
  MAP_PROJECTION_ROTATION = 0.0
  MAP_PROJECTION_TYPE = SINUSOIDAL
  MAP_RESOLUTION = 1185.42760773333
  MAP_SCALE = 0.05
  MAXIMUM_LATITUDE = 66.20099999999999
  MINIMUM_LATITUDE = 55.4939
  POSITIVE_LONGITUDE_DIRECTION = EAST
  REFERENCE_LATITUDE = "N/A"
  REFERENCE_LONGITUDE = "N/A"
  SAMPLE_FIRST_PIXEL = 1
  SAMPLE_LAST_PIXEL = 2879
  SAMPLE_PROJECTION_OFFSET = 1764.875
  SECOND_STANDARD_PARALLEL = "N/A"
  WESTERNMOST_LONGITUDE = 84.1403
END_OBJECT = IMAGE_MAP_PROJECTION
END
