PDS_VERSION_ID = PDS3
/* FILE DATA ELEMENTS */
RECORD_TYPE = UNDEFINED
/* POINTERS TO DATA OBJECTS */
^IMAGE = ("HK073_0000_P24.TIF")
/* IDENTIFICATION DATA ELEMENTS */
DATA_SET_ID = "MEX-M-HRSC-4-REFDR-MAPPROJECT-EXT7-V4.0"
DATA_SET_NAME = "MARS EXPRESS HRSC MAP PROJECTED REFDR EXTENSION7 V4.0"
DETECTOR_ID = MEX_HRSC_P2
EVENT_TYPE = "MARS-REGIONAL-MAPPING-Vo-Im-Pf"
INSTRUMENT_HOST_ID = MEX
INSTRUMENT_HOST_NAME = "MARS EXPRESS"
INSTRUMENT_ID = HRSC
INSTRUMENT_NAME = "HIGH RESOLUTION STEREO CAMERA"
MISSION_NAME = "MARS EXPRESS"
MISSION_PHASE_NAME = ME_Phase_41
PROCESSING_LEVEL_ID = 4
PRODUCT_CREATION_TIME = 2023-01-28T19:11:08.000Z
PRODUCT_ID = "HK073_0000_P24.TIF"
RELEASE_ID = 0003
REVISION_ID = 0000
/* QUALITY DATA ELEMENTS */
DATA_QUALITY_ID = 1
DATA_QUALITY_DESC = "Data calculated based on original SPICE kernels"
/* TIME DATA ELEMENTS */
SPACECRAFT_CLOCK_START_COUNT = "1/0521969271.25668"
SPACECRAFT_CLOCK_STOP_COUNT = "1/0521969481.50614"
START_TIME = 2019-11-16T07:29:16.383Z
STOP_TIME = 2019-11-16T07:31:40.753Z
/* ORBITAL DATA ELEMENTS */
ASCENDING_NODE_LONGITUDE = 198.17
MAXIMUM_RESOLUTION = 0.0316
FOOTPRINT_POINT_LATITUDE = (52.3033,52.2787,52.26,52.2405,52.2205, 52.1998,52.1784,52.1771,52.2082,51.9103 ,51.7118,51.5134,51.3148,51.1164, 50.9181,50.7197,50.4223,50.125,49.6294, 49.2326,48.6383,48.244,47.8481,47.6496, 47.4511,47.1502,46.9473,46.7443,46.541, 46.2363,46.0331,45.7283,45.5252,45.2129 ,45.0044,44.7959,44.5874,44.3789, 44.1704,43.9619,43.7485,43.5347,43.3208 ,42.9999,42.786,42.5721,42.353,42.1336, 42.024,41.9781,41.9992,42.0197,42.0382, 42.0572,42.0755,42.1005,42.1016,42.1026 ,42.3219,42.5411,42.8657,43.0796, 43.2935,43.6144,43.8283,44.0422,44.2513 ,44.4599,44.6684,44.877,45.0856,45.2942 ,45.5028,45.7093,45.9125,46.2174, 46.4206,46.624,46.8272,47.0305,47.2338, 47.4364,47.8321,48.3272,48.724,49.0216, 49.4186,49.8156,50.1132,50.4109,50.6095 ,50.808,51.0067,51.2053,51.404,51.6028, 51.8016,52.1993,52.2988,52.3033)
FOOTPRINT_POINT_LONGITUDE = (140.669,140.205,139.872,139.542, 139.215,138.89,138.568,138.548,138.541, 138.565,138.581,138.596,138.611,138.626 ,138.641,138.656,138.677,138.698, 138.732,138.758,138.796,138.82,138.844, 138.855,138.867,138.883,138.895,138.906 ,138.917,138.933,138.943,138.958, 138.969,138.984,138.994,139.003,139.013 ,139.023,139.032,139.041,139.05,139.059 ,139.068,139.082,139.09,139.099,139.107 ,139.116,139.12,139.122,139.426,139.733 ,140.023,140.335,140.65,141.107,141.127 ,141.135,141.127,141.12,141.109,141.101 ,141.094,141.083,141.076,141.068, 141.061,141.054,141.047,141.04,141.033, 141.025,141.018,141.011,141.004,140.993 ,140.985,140.978,140.97,140.963,140.955 ,140.947,140.931,140.912,140.901, 140.891,140.878,140.864,140.853,140.842 ,140.834,140.827,140.819,140.811, 140.804,140.796,140.789,140.773,140.769 ,140.669)
ORBIT_NUMBER = 20073
ORBITAL_ECCENTRICITY = 0.571
ORBITAL_INCLINATION = 86.99
ORBITAL_SEMIMAJOR_AXIS = 8780.07
PERIAPSIS_ALTITUDE = 380.81
PERIAPSIS_ARGUMENT_ANGLE = 121.68
PERIAPSIS_TIME = 2019-11-16T07:27:32.000Z
SPACECRAFT_ORIENTATION = (0.0,-1.0,0.0)
^MEX_ORIENTATION_DESC = "MEX_ORIENTATION_DESC.TXT"
SPACECRAFT_POINTING_MODE = INERT
^MEX_POINTING_DESC = "MEX_POINTING_DESC.TXT"
RIGHT_ASCENSION = 185.467
DECLINATION = -42.733
OFFSET_ANGLE = -1e+32
SPACECRAFT_SOLAR_DISTANCE = 2.44327e+08
TARGET_NAME = MARS
/* CAMERA DATA ELEMENTS */
DETECTOR_TEMPERATURE = 18.1666
FOCAL_PLANE_TEMPERATURE = 7.5638
INST_CMPRS_NAME = "DISCRETE COSINE TRANSFORMATION (DCT)"
INST_CMPRS_RATIO = 6.5652
INST_CMPRS_QUALITY = 0
INST_CMPRS_QUANTZ_TBL_ID = 0
INSTRUMENT_TEMPERATURE = 10.6223
LENS_TEMPERATURE = 7.9716
MACROPIXEL_SIZE = 2
MISSING_FRAMES = 0
PIXEL_SUBSAMPLING_FLAG = N
SIGNAL_CHAIN_ID = 3
/* RADIOMETRIC DATA ELEMENTS */
BANDWIDTH = 177.0
CENTER_FILTER_WAVELENGTH = 676.5
RADIANCE_OFFSET = 3.13467
RADIANCE_SCALING_FACTOR = 0.0237437
REFLECTANCE_SCALING_FACTOR = 0.000751535
MEX:REFLECTANCE_OFFSET = 0.0992187
/* IMAGE OBJECT DEFINITIONS */
OBJECT = IMAGE
  INTERCHANGE_FORMAT = BINARY
  LINES = 24490
  LINE_SAMPLES = 4308
  SAMPLE_TYPE = UNSIGNED_INTEGER
  SAMPLE_BITS = 8
  BANDS = 1
  BAND_STORAGE_TYPE = BAND_SEQUENTIAL
  MAXIMUM = 255
  MEAN = 173.392
  MINIMUM = 1
  STANDARD_DEVIATION = 35.5993
END_OBJECT = IMAGE
/* MAP OBJECT DEFINITIONS */
OBJECT = IMAGE_MAP_PROJECTION
  ^DATA_SET_MAP_PROJECTION_CATALOG= "DSMAP.CAT"
  A_AXIS_RADIUS = 3396.0
  B_AXIS_RADIUS = 3396.0
  C_AXIS_RADIUS = 3396.0
  CENTER_LATITUDE = 0.0
  CENTER_LONGITUDE = 140.0
  COORDINATE_SYSTEM_NAME = PLANETOGRAPHIC
  COORDINATE_SYSTEM_TYPE = "BODY-FIXED ROTATING"
  EASTERNMOST_LONGITUDE = 141.135
  FIRST_STANDARD_PARALLEL = "N/A"
  LINE_FIRST_PIXEL = 1
  LINE_LAST_PIXEL = 24490
  LINE_PROJECTION_OFFSET = 124048.25
  MAP_PROJECTION_ROTATION = 0.0
  MAP_PROJECTION_TYPE = SINUSOIDAL
  MAP_RESOLUTION = 2370.85521546667
  MAP_SCALE = 0.025
  MAXIMUM_LATITUDE = 52.3033
  MINIMUM_LATITUDE = 41.9781
  POSITIVE_LONGITUDE_DIRECTION = EAST
  REFERENCE_LATITUDE = "N/A"
  REFERENCE_LONGITUDE = "N/A"
  SAMPLE_FIRST_PIXEL = 1
  SAMPLE_LAST_PIXEL = 4308
  SAMPLE_PROJECTION_OFFSET = 1994.25
  SECOND_STANDARD_PARALLEL = "N/A"
  WESTERNMOST_LONGITUDE = 138.541
END_OBJECT = IMAGE_MAP_PROJECTION
END
