PDS_VERSION_ID = PDS3
/* FILE DATA ELEMENTS */
RECORD_TYPE = UNDEFINED
/* POINTERS TO DATA OBJECTS */
^IMAGE = ("HK072_0000_ND4.TIF")
/* IDENTIFICATION DATA ELEMENTS */
DATA_SET_ID = "MEX-M-HRSC-4-REFDR-MAPPROJECT-EXT7-V4.0"
DATA_SET_NAME = "MARS EXPRESS HRSC MAP PROJECTED REFDR EXTENSION7 V4.0"
DETECTOR_ID = MEX_HRSC_NADIR
EVENT_TYPE = "MARS-REGIONAL-MAPPING-Vo-Te"
INSTRUMENT_HOST_ID = MEX
INSTRUMENT_HOST_NAME = "MARS EXPRESS"
INSTRUMENT_ID = HRSC
INSTRUMENT_NAME = "HIGH RESOLUTION STEREO CAMERA"
MISSION_NAME = "MARS EXPRESS"
MISSION_PHASE_NAME = ME_Phase_41
PROCESSING_LEVEL_ID = 4
PRODUCT_CREATION_TIME = 2023-01-28T19:11:08.000Z
PRODUCT_ID = "HK072_0000_ND4.TIF"
RELEASE_ID = 0003
REVISION_ID = 0000
/* QUALITY DATA ELEMENTS */
DATA_QUALITY_ID = 1
DATA_QUALITY_DESC = "Data calculated based on original SPICE kernels"
/* TIME DATA ELEMENTS */
SPACECRAFT_CLOCK_START_COUNT = "1/0521944032.25097"
SPACECRAFT_CLOCK_STOP_COUNT = "1/0521944277.55585"
START_TIME = 2019-11-16T00:28:19.129Z
STOP_TIME = 2019-11-16T00:31:10.101Z
/* ORBITAL DATA ELEMENTS */
ASCENDING_NODE_LONGITUDE = 198.2
MAXIMUM_RESOLUTION = 0.0152
FOOTPRINT_POINT_LATITUDE = (58.7811,58.7645,58.7315,58.6874, 58.6862,58.6833,58.3559,58.1376,57.9193 ,57.701,57.3734,57.0458,56.8274,56.609, 56.3906,56.1722,55.9537,55.7353,55.5169 ,55.2985,55.08,54.8616,54.6433,54.4249, 54.2066,53.9882,53.77,53.5517,53.3335, 53.1153,52.8971,52.679,52.4609,52.2429, 52.0249,51.8069,51.5891,51.3712,51.1535 ,50.9358,50.5005,50.0656,49.6309, 49.1966,48.7626,48.3289,47.8956,47.7873 ,47.7828,47.7974,47.8086,47.8264, 47.8375,47.8378,47.8383,48.2728,48.7078 ,49.1431,49.5788,49.7968,50.0149,50.233 ,50.4513,50.6696,50.8879,51.1064, 51.3249,51.5435,51.7621,51.9809,52.1996 ,52.4185,52.6374,52.8563,53.0753, 53.2944,53.5135,53.7326,53.9518,54.171, 54.3903,54.6096,54.8289,55.0482,55.2676 ,55.487,55.7065,55.9259,56.1454,56.3649 ,56.6941,56.9136,57.1331,57.4624, 57.7917,58.0112,58.3405,58.6698,58.7795 ,58.7811)
FOOTPRINT_POINT_LONGITUDE = (240.782,240.252,239.357,238.361, 238.336,238.243,238.303,238.342,238.381 ,238.418,238.473,238.527,238.562, 238.596,238.63,238.662,238.694,238.726, 238.757,238.788,238.818,238.847,238.876 ,238.904,238.932,238.959,238.986, 239.012,239.037,239.062,239.087,239.111 ,239.135,239.158,239.181,239.203, 239.225,239.246,239.267,239.288,239.328 ,239.367,239.404,239.439,239.473, 239.507,239.538,239.546,239.547,239.98, 240.35,241.045,241.596,241.616,241.626, 241.604,241.582,241.559,241.535,241.523 ,241.51,241.498,241.485,241.472,241.459 ,241.445,241.432,241.418,241.404,241.39 ,241.375,241.361,241.346,241.331, 241.315,241.3,241.284,241.268,241.252, 241.235,241.218,241.201,241.184,241.166 ,241.148,241.13,241.112,241.093,241.074 ,241.055,241.025,241.005,240.985, 240.953,240.921,240.9,240.866,240.832, 240.82,240.782)
ORBIT_NUMBER = 20072
ORBITAL_ECCENTRICITY = 0.572
ORBITAL_INCLINATION = 87.0
ORBITAL_SEMIMAJOR_AXIS = 8779.46
PERIAPSIS_ALTITUDE = 379.52
PERIAPSIS_ARGUMENT_ANGLE = 121.82
PERIAPSIS_TIME = 2019-11-16T00:28:30.000Z
SPACECRAFT_ORIENTATION = (0.0,-1.0,0.0)
^MEX_ORIENTATION_DESC = "MEX_ORIENTATION_DESC.TXT"
SPACECRAFT_POINTING_MODE = ACROSSTRACK
^MEX_POINTING_DESC = "MEX_POINTING_DESC.TXT"
RIGHT_ASCENSION = -1e+32
DECLINATION = -1e+32
OFFSET_ANGLE = -0.229
SPACECRAFT_SOLAR_DISTANCE = 2.44361e+08
TARGET_NAME = MARS
/* CAMERA DATA ELEMENTS */
DETECTOR_TEMPERATURE = 18.5744
FOCAL_PLANE_TEMPERATURE = 8.5833
INST_CMPRS_NAME = "DISCRETE COSINE TRANSFORMATION (DCT)"
INST_CMPRS_RATIO = 7.00906
INST_CMPRS_QUALITY = 0
INST_CMPRS_QUANTZ_TBL_ID = 0
INSTRUMENT_TEMPERATURE = 11.0301
LENS_TEMPERATURE = 9.195
MACROPIXEL_SIZE = 1
MISSING_FRAMES = 0
PIXEL_SUBSAMPLING_FLAG = N
SIGNAL_CHAIN_ID = 0
/* RADIOMETRIC DATA ELEMENTS */
BANDWIDTH = 177.0
CENTER_FILTER_WAVELENGTH = 677.5
RADIANCE_OFFSET = 4.86939
RADIANCE_SCALING_FACTOR = 0.0174852
REFLECTANCE_SCALING_FACTOR = 0.000554648
MEX:REFLECTANCE_OFFSET = 0.154462
/* IMAGE OBJECT DEFINITIONS */
OBJECT = IMAGE
  INTERCHANGE_FORMAT = BINARY
  LINES = 52164
  LINE_SAMPLES = 9504
  SAMPLE_TYPE = UNSIGNED_INTEGER
  SAMPLE_BITS = 8
  BANDS = 1
  BAND_STORAGE_TYPE = BAND_SEQUENTIAL
  MAXIMUM = 255
  MEAN = 116.999
  MINIMUM = 1
  STANDARD_DEVIATION = 21.8528
END_OBJECT = IMAGE
/* MAP OBJECT DEFINITIONS */
OBJECT = IMAGE_MAP_PROJECTION
  ^DATA_SET_MAP_PROJECTION_CATALOG= "DSMAP.CAT"
  A_AXIS_RADIUS = 3396.0
  B_AXIS_RADIUS = 3396.0
  C_AXIS_RADIUS = 3396.0
  CENTER_LATITUDE = 0.0
  CENTER_LONGITUDE = 240.0
  COORDINATE_SYSTEM_NAME = PLANETOGRAPHIC
  COORDINATE_SYSTEM_TYPE = "BODY-FIXED ROTATING"
  EASTERNMOST_LONGITUDE = 241.626
  FIRST_STANDARD_PARALLEL = "N/A"
  LINE_FIRST_PIXEL = 1
  LINE_LAST_PIXEL = 52164
  LINE_PROJECTION_OFFSET = 278736.0
  MAP_PROJECTION_ROTATION = 0.0
  MAP_PROJECTION_TYPE = SINUSOIDAL
  MAP_RESOLUTION = 4741.71043093333
  MAP_SCALE = 0.0125
  MAXIMUM_LATITUDE = 58.7811
  MINIMUM_LATITUDE = 47.7828
  POSITIVE_LONGITUDE_DIRECTION = EAST
  REFERENCE_LATITUDE = "N/A"
  REFERENCE_LONGITUDE = "N/A"
  SAMPLE_FIRST_PIXEL = 1
  SAMPLE_LAST_PIXEL = 9504
  SAMPLE_PROJECTION_OFFSET = 4328.0
  SECOND_STANDARD_PARALLEL = "N/A"
  WESTERNMOST_LONGITUDE = 238.243
END_OBJECT = IMAGE_MAP_PROJECTION
END
