PDS_VERSION_ID = PDS3
/* FILE DATA ELEMENTS */
RECORD_TYPE = UNDEFINED
/* POINTERS TO DATA OBJECTS */
^IMAGE = ("HK072_0000_BL4.TIF")
/* IDENTIFICATION DATA ELEMENTS */
DATA_SET_ID = "MEX-M-HRSC-4-REFDR-MAPPROJECT-EXT7-V4.0"
DATA_SET_NAME = "MARS EXPRESS HRSC MAP PROJECTED REFDR EXTENSION7 V4.0"
DETECTOR_ID = MEX_HRSC_BLUE
EVENT_TYPE = "MARS-REGIONAL-MAPPING-Vo-Te"
INSTRUMENT_HOST_ID = MEX
INSTRUMENT_HOST_NAME = "MARS EXPRESS"
INSTRUMENT_ID = HRSC
INSTRUMENT_NAME = "HIGH RESOLUTION STEREO CAMERA"
MISSION_NAME = "MARS EXPRESS"
MISSION_PHASE_NAME = ME_Phase_41
PROCESSING_LEVEL_ID = 4
PRODUCT_CREATION_TIME = 2023-01-28T19:11:08.000Z
PRODUCT_ID = "HK072_0000_BL4.TIF"
RELEASE_ID = 0003
REVISION_ID = 0000
/* QUALITY DATA ELEMENTS */
DATA_QUALITY_ID = 1
DATA_QUALITY_DESC = "Data calculated based on original SPICE kernels"
/* TIME DATA ELEMENTS */
SPACECRAFT_CLOCK_START_COUNT = "1/0521944032.25097"
SPACECRAFT_CLOCK_STOP_COUNT = "1/0521944277.55585"
START_TIME = 2019-11-16T00:28:25.209Z
STOP_TIME = 2019-11-16T00:31:16.438Z
/* ORBITAL DATA ELEMENTS */
ASCENDING_NODE_LONGITUDE = 198.2
MAXIMUM_RESOLUTION = 0.122
FOOTPRINT_POINT_LATITUDE = (58.7489,58.729,58.7032,58.6609,58.6599 ,58.6728,58.4549,58.1281,57.9101, 57.6922,57.3654,57.1474,56.9296,56.6027 ,56.276,56.0582,55.8404,55.5137,55.296, 55.0783,54.8607,54.643,54.4255,54.2079, 53.9905,53.7731,53.5557,53.3384,53.1212 ,52.904,52.5784,52.3613,52.1444,51.9275 ,51.7107,51.494,51.2773,51.0607,50.8443 ,50.6279,50.4115,50.1953,49.9792, 49.5472,49.1157,48.6845,48.3613,47.9309 ,47.8233,47.7795,47.8012,47.8185, 47.8288,47.8291,47.8313,48.2629,48.6951 ,49.1277,49.344,49.5605,49.7772,49.9939 ,50.2108,50.4277,50.6448,50.8619, 51.0791,51.2964,51.6226,51.8401,52.0577 ,52.2754,52.6022,52.929,53.1471,53.3652 ,53.5833,53.8016,54.0198,54.2382, 54.4566,54.6751,54.8936,55.1122,55.3308 ,55.5496,55.7683,55.9871,56.3153, 56.5342,56.7531,57.0816,57.3006,57.6291 ,57.9577,58.1768,58.3959,58.615,58.7246 ,58.7489)
FOOTPRINT_POINT_LONGITUDE = (240.785,240.128,239.401,238.396, 238.373,238.279,238.319,238.377,238.415 ,238.452,238.507,238.542,238.577, 238.628,238.677,238.709,238.741,238.787 ,238.818,238.847,238.876,238.905, 238.932,238.96,238.986,239.013,239.038, 239.064,239.089,239.113,239.148,239.171 ,239.194,239.216,239.238,239.26,239.281 ,239.301,239.321,239.341,239.361,239.38 ,239.398,239.435,239.469,239.503, 239.527,239.558,239.566,239.569,240.306 ,241.04,241.599,241.618,241.631,241.609 ,241.587,241.564,241.552,241.54,241.527 ,241.515,241.502,241.49,241.477,241.464 ,241.45,241.437,241.416,241.402,241.388 ,241.373,241.351,241.328,241.313, 241.297,241.281,241.265,241.249,241.232 ,241.215,241.198,241.18,241.163,241.145 ,241.126,241.108,241.089,241.06,241.041 ,241.021,240.99,240.969,240.938,240.905 ,240.883,240.86,240.837,240.826, 240.785)
ORBIT_NUMBER = 20072
ORBITAL_ECCENTRICITY = 0.572
ORBITAL_INCLINATION = 87.0
ORBITAL_SEMIMAJOR_AXIS = 8779.46
PERIAPSIS_ALTITUDE = 379.52
PERIAPSIS_ARGUMENT_ANGLE = 121.82
PERIAPSIS_TIME = 2019-11-16T00:28:30.000Z
SPACECRAFT_ORIENTATION = (0.0,-1.0,0.0)
^MEX_ORIENTATION_DESC = "MEX_ORIENTATION_DESC.TXT"
SPACECRAFT_POINTING_MODE = ACROSSTRACK
^MEX_POINTING_DESC = "MEX_POINTING_DESC.TXT"
RIGHT_ASCENSION = -1e+32
DECLINATION = -1e+32
OFFSET_ANGLE = -0.229
SPACECRAFT_SOLAR_DISTANCE = 2.44361e+08
TARGET_NAME = MARS
/* CAMERA DATA ELEMENTS */
DETECTOR_TEMPERATURE = 18.5744
FOCAL_PLANE_TEMPERATURE = 8.5833
INST_CMPRS_NAME = "DISCRETE COSINE TRANSFORMATION (DCT)"
INST_CMPRS_RATIO = 27.8742
INST_CMPRS_QUALITY = 0
INST_CMPRS_QUANTZ_TBL_ID = 0
INSTRUMENT_TEMPERATURE = 11.0301
LENS_TEMPERATURE = 9.195
MACROPIXEL_SIZE = 8
MISSING_FRAMES = 0
PIXEL_SUBSAMPLING_FLAG = N
SIGNAL_CHAIN_ID = 2
/* RADIOMETRIC DATA ELEMENTS */
BANDWIDTH = 76.0
CENTER_FILTER_WAVELENGTH = 444.0
RADIANCE_OFFSET = 0.654928
RADIANCE_SCALING_FACTOR = 0.00150342
REFLECTANCE_SCALING_FACTOR = 9.22362e-05
MEX:REFLECTANCE_OFFSET = 0.0401804
/* IMAGE OBJECT DEFINITIONS */
OBJECT = IMAGE
  INTERCHANGE_FORMAT = BINARY
  LINES = 6521
  LINE_SAMPLES = 1188
  SAMPLE_TYPE = UNSIGNED_INTEGER
  SAMPLE_BITS = 8
  BANDS = 1
  BAND_STORAGE_TYPE = BAND_SEQUENTIAL
  MAXIMUM = 255
  MEAN = 90.4672
  MINIMUM = 1
  STANDARD_DEVIATION = 37.0463
END_OBJECT = IMAGE
/* MAP OBJECT DEFINITIONS */
OBJECT = IMAGE_MAP_PROJECTION
  ^DATA_SET_MAP_PROJECTION_CATALOG= "DSMAP.CAT"
  A_AXIS_RADIUS = 3396.0
  B_AXIS_RADIUS = 3396.0
  C_AXIS_RADIUS = 3396.0
  CENTER_LATITUDE = 0.0
  CENTER_LONGITUDE = 240.0
  COORDINATE_SYSTEM_NAME = PLANETOGRAPHIC
  COORDINATE_SYSTEM_TYPE = "BODY-FIXED ROTATING"
  EASTERNMOST_LONGITUDE = 241.631
  FIRST_STANDARD_PARALLEL = "N/A"
  LINE_FIRST_PIXEL = 1
  LINE_LAST_PIXEL = 6521
  LINE_PROJECTION_OFFSET = 34841.5625
  MAP_PROJECTION_ROTATION = 0.0
  MAP_PROJECTION_TYPE = SINUSOIDAL
  MAP_RESOLUTION = 592.713803866667
  MAP_SCALE = 0.1
  MAXIMUM_LATITUDE = 58.7489
  MINIMUM_LATITUDE = 47.7795
  POSITIVE_LONGITUDE_DIRECTION = EAST
  REFERENCE_LATITUDE = "N/A"
  REFERENCE_LONGITUDE = "N/A"
  SAMPLE_FIRST_PIXEL = 1
  SAMPLE_LAST_PIXEL = 1188
  SAMPLE_PROJECTION_OFFSET = 540.5625
  SECOND_STANDARD_PARALLEL = "N/A"
  WESTERNMOST_LONGITUDE = 238.279
END_OBJECT = IMAGE_MAP_PROJECTION
END
