PDS_VERSION_ID = PDS3
/* FILE DATA ELEMENTS */
RECORD_TYPE = UNDEFINED
/* POINTERS TO DATA OBJECTS */
^IMAGE = ("HK068_0000_P24.TIF")
/* IDENTIFICATION DATA ELEMENTS */
DATA_SET_ID = "MEX-M-HRSC-4-REFDR-MAPPROJECT-EXT7-V4.0"
DATA_SET_NAME = "MARS EXPRESS HRSC MAP PROJECTED REFDR EXTENSION7 V4.0"
DETECTOR_ID = MEX_HRSC_P2
EVENT_TYPE = "MARS-REGIONAL-STEREO-Te"
INSTRUMENT_HOST_ID = MEX
INSTRUMENT_HOST_NAME = "MARS EXPRESS"
INSTRUMENT_ID = HRSC
INSTRUMENT_NAME = "HIGH RESOLUTION STEREO CAMERA"
MISSION_NAME = "MARS EXPRESS"
MISSION_PHASE_NAME = ME_Phase_41
PROCESSING_LEVEL_ID = 4
PRODUCT_CREATION_TIME = 2023-01-28T19:11:08.000Z
PRODUCT_ID = "HK068_0000_P24.TIF"
RELEASE_ID = 0003
REVISION_ID = 0000
/* QUALITY DATA ELEMENTS */
DATA_QUALITY_ID = 1
DATA_QUALITY_DESC = "Data calculated based on original SPICE kernels"
/* TIME DATA ELEMENTS */
SPACECRAFT_CLOCK_START_COUNT = "1/0521843646.23952"
SPACECRAFT_CLOCK_STOP_COUNT = "1/0521843824.08372"
START_TIME = 2019-11-14T20:35:38.461Z
STOP_TIME = 2019-11-14T20:37:19.195Z
/* ORBITAL DATA ELEMENTS */
ASCENDING_NODE_LONGITUDE = 198.27
MAXIMUM_RESOLUTION = 0.0332
FOOTPRINT_POINT_LATITUDE = (47.6724,47.669,47.6622,47.6567,47.6497 ,47.6436,47.6284,47.6278,47.678,47.4928 ,47.372,47.1912,46.8895,46.6488,46.3478 ,46.1674,45.9866,45.7476,45.6263,45.503 ,45.3803,45.258,45.1356,45.0132,44.8298 ,44.6462,44.5238,44.4002,44.2172, 44.0947,43.9735,43.7868,43.6019,43.4788 ,43.3538,43.2276,43.1025,42.9768, 42.7888,42.6023,42.4785,42.3526,42.226, 42.0992,41.9735,41.8467,41.719,41.592, 41.528,41.4982,41.501,41.5079,41.5119, 41.5169,41.5195,41.522,41.5245,41.5267, 41.5268,41.5274,41.6541,41.8446,41.9717 ,42.0991,42.2901,42.4809,42.6058, 42.7299,42.855,42.9795,43.1049,43.2297, 43.3554,43.4806,43.6678,43.8539,44.0991 ,44.2836,44.4686,44.5922,44.7145, 44.8371,44.9623,45.0864,45.2109,45.3344 ,45.5779,45.7017,45.8226,46.0628, 46.2435,46.4855,46.6085,46.8493,47.0304 ,47.2712,47.3921,47.6335,47.6938, 47.6724)
FOOTPRINT_POINT_LONGITUDE = (290.429,290.211,289.835,289.558, 289.242,288.985,288.411,288.392,288.348 ,288.362,288.369,288.379,288.397,288.41 ,288.427,288.437,288.447,288.458, 288.464,288.471,288.476,288.482,288.487 ,288.493,288.501,288.509,288.514,288.52 ,288.528,288.533,288.537,288.544,288.55 ,288.553,288.558,288.564,288.568, 288.573,288.581,288.587,288.591,288.595 ,288.598,288.602,288.605,288.609, 288.613,288.617,288.619,288.62,288.839, 289.218,289.457,289.776,289.995,290.194 ,290.434,290.653,290.673,290.681, 290.677,290.671,290.667,290.663,290.657 ,290.651,290.647,290.643,290.639, 290.635,290.632,290.627,290.624,290.62, 290.613,290.605,290.595,290.589,290.584 ,290.58,290.575,290.571,290.568,290.564 ,290.561,290.556,290.545,290.541, 290.537,290.527,290.52,290.512,290.508, 290.498,290.491,290.48,290.475,290.464, 290.462,290.429)
ORBIT_NUMBER = 20068
ORBITAL_ECCENTRICITY = 0.572
ORBITAL_INCLINATION = 86.99
ORBITAL_SEMIMAJOR_AXIS = 8780.2
PERIAPSIS_ALTITUDE = 379.94
PERIAPSIS_ARGUMENT_ANGLE = 122.55
PERIAPSIS_TIME = 2019-11-14T20:32:43.000Z
SPACECRAFT_ORIENTATION = (0.0,-1.0,0.0)
^MEX_ORIENTATION_DESC = "MEX_ORIENTATION_DESC.TXT"
SPACECRAFT_POINTING_MODE = NADIR
^MEX_POINTING_DESC = "MEX_POINTING_DESC.TXT"
RIGHT_ASCENSION = -1e+32
DECLINATION = -1e+32
OFFSET_ANGLE = -1e+32
SPACECRAFT_SOLAR_DISTANCE = 2.44495e+08
TARGET_NAME = MARS
/* CAMERA DATA ELEMENTS */
DETECTOR_TEMPERATURE = 18.5744
FOCAL_PLANE_TEMPERATURE = 8.1755
INST_CMPRS_NAME = "DISCRETE COSINE TRANSFORMATION (DCT)"
INST_CMPRS_RATIO = 5.2284
INST_CMPRS_QUALITY = 0
INST_CMPRS_QUANTZ_TBL_ID = 0
INSTRUMENT_TEMPERATURE = 11.4379
LENS_TEMPERATURE = 8.5833
MACROPIXEL_SIZE = 2
MISSING_FRAMES = 0
PIXEL_SUBSAMPLING_FLAG = N
SIGNAL_CHAIN_ID = 3
/* RADIOMETRIC DATA ELEMENTS */
BANDWIDTH = 177.0
CENTER_FILTER_WAVELENGTH = 676.5
RADIANCE_OFFSET = 4.0493
RADIANCE_SCALING_FACTOR = 0.0260632
REFLECTANCE_SCALING_FACTOR = 0.000826088
MEX:REFLECTANCE_OFFSET = 0.128345
/* IMAGE OBJECT DEFINITIONS */
OBJECT = IMAGE
  INTERCHANGE_FORMAT = BINARY
  LINES = 14745
  LINE_SAMPLES = 3746
  SAMPLE_TYPE = UNSIGNED_INTEGER
  SAMPLE_BITS = 8
  BANDS = 1
  BAND_STORAGE_TYPE = BAND_SEQUENTIAL
  MAXIMUM = 255
  MEAN = 140.578
  MINIMUM = 1
  STANDARD_DEVIATION = 22.3862
END_OBJECT = IMAGE
/* MAP OBJECT DEFINITIONS */
OBJECT = IMAGE_MAP_PROJECTION
  ^DATA_SET_MAP_PROJECTION_CATALOG= "DSMAP.CAT"
  A_AXIS_RADIUS = 3396.0
  B_AXIS_RADIUS = 3396.0
  C_AXIS_RADIUS = 3396.0
  CENTER_LATITUDE = 0.0
  CENTER_LONGITUDE = 290.0
  COORDINATE_SYSTEM_NAME = PLANETOGRAPHIC
  COORDINATE_SYSTEM_TYPE = "BODY-FIXED ROTATING"
  EASTERNMOST_LONGITUDE = 290.681
  FIRST_STANDARD_PARALLEL = "N/A"
  LINE_FIRST_PIXEL = 1
  LINE_LAST_PIXEL = 14745
  LINE_PROJECTION_OFFSET = 113127.75
  MAP_PROJECTION_ROTATION = 0.0
  MAP_PROJECTION_TYPE = SINUSOIDAL
  MAP_RESOLUTION = 2370.85521546667
  MAP_SCALE = 0.025
  MAXIMUM_LATITUDE = 47.6938
  MINIMUM_LATITUDE = 41.4982
  POSITIVE_LONGITUDE_DIRECTION = EAST
  REFERENCE_LATITUDE = "N/A"
  REFERENCE_LONGITUDE = "N/A"
  SAMPLE_FIRST_PIXEL = 1
  SAMPLE_LAST_PIXEL = 3746
  SAMPLE_PROJECTION_OFFSET = 2599.25
  SECOND_STANDARD_PARALLEL = "N/A"
  WESTERNMOST_LONGITUDE = 288.348
END_OBJECT = IMAGE_MAP_PROJECTION
END
