PDS_VERSION_ID = PDS3
/* FILE DATA ELEMENTS */
RECORD_TYPE = UNDEFINED
/* POINTERS TO DATA OBJECTS */
^IMAGE = ("HK066_0004_SR4.TIF")
/* IDENTIFICATION DATA ELEMENTS */
DATA_SET_ID = "MEX-M-HRSC-4-REFDR-MAPPROJECT-EXT7-V4.0"
DATA_SET_NAME = "MARS EXPRESS HRSC MAP PROJECTED REFDR EXTENSION7 V4.0"
DETECTOR_ID = MEX_HRSC_SRC
EVENT_TYPE = "MARS-LOCAL-STEREO-Tc-Ot-Ts"
INSTRUMENT_HOST_ID = MEX
INSTRUMENT_HOST_NAME = "MARS EXPRESS"
INSTRUMENT_ID = HRSC
INSTRUMENT_NAME = "HIGH RESOLUTION STEREO CAMERA"
MISSION_NAME = "MARS EXPRESS"
MISSION_PHASE_NAME = ME_Phase_41
PROCESSING_LEVEL_ID = 4
PRODUCT_CREATION_TIME = 2023-01-28T19:11:08.000Z
PRODUCT_ID = "HK066_0004_SR4.TIF"
RELEASE_ID = 0003
REVISION_ID = 0000
/* QUALITY DATA ELEMENTS */
DATA_QUALITY_ID = 1
DATA_QUALITY_DESC = "Data calculated based on original SPICE kernels"
/* TIME DATA ELEMENTS */
SPACECRAFT_CLOCK_START_COUNT = "1/0521793349.24899"
SPACECRAFT_CLOCK_STOP_COUNT = "1/0521793446.50216"
IMAGE_TIME = 2019-11-14T06:37:07.096Z
START_TIME = 2019-11-14T06:37:07.094Z
STOP_TIME = 2019-11-14T06:37:07.099Z
/* ORBITAL DATA ELEMENTS */
ASCENDING_NODE_LONGITUDE = 198.3
MAXIMUM_RESOLUTION = 0.003648
FOOTPRINT_POINT_LATITUDE = (47.7383,47.7426,47.7446,47.7472, 47.7494,47.7529,47.7571,47.7594,47.762, 47.7647,47.7674,47.7696,47.7719,47.7757 ,47.779,47.7809,47.7838,47.7864,47.7895 ,47.7918,47.7956,47.7984,47.8003, 47.8004,47.8004,47.8005,47.8006,47.8006 ,47.8007,47.8008,47.8008,47.8009,47.801 ,47.801,47.8011,47.8012,47.8013,47.8013 ,47.8014,47.8015,47.8016,47.8017, 47.8017,47.8018,47.8019,47.8019,47.802, 47.8021,47.8022,47.8022,47.8022,47.7988 ,47.7956,47.7932,47.7904,47.7885, 47.7833,47.7793,47.7768,47.7746,47.7726 ,47.7688,47.766,47.764,47.76,47.7575, 47.7556,47.7526,47.7492,47.7465,47.7433 ,47.74,47.74,47.74,47.7399,47.7398, 47.7398,47.7397,47.7396,47.7396,47.7395 ,47.7394,47.7394,47.7392,47.7392, 47.7391,47.739,47.739,47.7389,47.7388, 47.7388,47.7387,47.7386,47.7386,47.7385 ,47.7384,47.7383,47.7383,47.7383, 47.7383)
FOOTPRINT_POINT_LONGITUDE = (134.238,134.238,134.238,134.238, 134.238,134.238,134.238,134.238,134.237 ,134.237,134.237,134.237,134.237, 134.237,134.237,134.237,134.237,134.236 ,134.236,134.236,134.236,134.236, 134.236,134.236,134.236,134.24,134.243, 134.247,134.251,134.254,134.258,134.262 ,134.265,134.269,134.273,134.277,134.28 ,134.284,134.288,134.291,134.298, 134.301,134.305,134.309,134.312,134.316 ,134.32,134.324,134.328,134.329,134.33, 134.33,134.33,134.33,134.33,134.33, 134.33,134.331,134.331,134.331,134.331, 134.331,134.331,134.331,134.331,134.331 ,134.332,134.332,134.332,134.332, 134.332,134.332,134.332,134.332,134.327 ,134.324,134.32,134.316,134.313,134.309 ,134.305,134.302,134.298,134.292, 134.288,134.284,134.28,134.277,134.273, 134.269,134.266,134.262,134.258,134.255 ,134.251,134.247,134.244,134.24,134.239 ,134.238)
ORBIT_NUMBER = 20066
ORBITAL_ECCENTRICITY = 0.572
ORBITAL_INCLINATION = 86.99
ORBITAL_SEMIMAJOR_AXIS = 8782.59
PERIAPSIS_ALTITUDE = 380.06
PERIAPSIS_ARGUMENT_ANGLE = 122.88
PERIAPSIS_TIME = 2019-11-14T06:34:43.000Z
SPACECRAFT_ORIENTATION = (0.0,-1.0,0.0)
^MEX_ORIENTATION_DESC = "MEX_ORIENTATION_DESC.TXT"
SPACECRAFT_POINTING_MODE = ACROSSTRACK
^MEX_POINTING_DESC = "MEX_POINTING_DESC.TXT"
RIGHT_ASCENSION = -1e+32
DECLINATION = -1e+32
OFFSET_ANGLE = 0.4
SPACECRAFT_SOLAR_DISTANCE = 2.44561e+08
TARGET_NAME = MARS
/* CAMERA DATA ELEMENTS */
BUFFER_MODE_ID = BUFFER_8
EXPOSURE_DURATION = 5.04
INST_CMPRS_NAME = NONE
INST_CMPRS_RATIO = 1.0
INST_CMPRS_QUALITY = -2147483648
INST_CMPRS_QUANTZ_TBL_ID = -2147483648
INSTRUMENT_TEMPERATURE = 10.9744
MISSING_FRAMES = 0
START_BIT = 0
/* RADIOMETRIC DATA ELEMENTS */
BANDWIDTH = 250.0
CENTER_FILTER_WAVELENGTH = 600.0
RADIANCE_OFFSET = -9.99e+31
RADIANCE_SCALING_FACTOR = -9.99e+31
REFLECTANCE_SCALING_FACTOR = -9.99e+31
MEX:REFLECTANCE_OFFSET = -9.99e+31
/* IMAGE OBJECT DEFINITIONS */
OBJECT = IMAGE
  INTERCHANGE_FORMAT = BINARY
  LINES = 1598
  LINE_SAMPLES = 1622
  SAMPLE_TYPE = UNSIGNED_INTEGER
  SAMPLE_BITS = 8
  BANDS = 1
  BAND_STORAGE_TYPE = BAND_SEQUENTIAL
  MAXIMUM = 254
  MEAN = 137.145
  MINIMUM = 4
  STANDARD_DEVIATION = 20.2447
END_OBJECT = IMAGE
/* MAP OBJECT DEFINITIONS */
OBJECT = IMAGE_MAP_PROJECTION
  ^DATA_SET_MAP_PROJECTION_CATALOG= "DSMAP.CAT"
  A_AXIS_RADIUS = 3396.19
  B_AXIS_RADIUS = 3396.19
  C_AXIS_RADIUS = 3396.19
  CENTER_LATITUDE = 0.0
  CENTER_LONGITUDE = 134.0
  COORDINATE_SYSTEM_NAME = PLANETOGRAPHIC
  COORDINATE_SYSTEM_TYPE = "BODY-FIXED ROTATING"
  EASTERNMOST_LONGITUDE = 134.332
  FIRST_STANDARD_PARALLEL = "N/A"
  LINE_FIRST_PIXEL = 1
  LINE_LAST_PIXEL = 1598
  LINE_PROJECTION_OFFSET = 1132094.0
  MAP_PROJECTION_ROTATION = 0.0
  MAP_PROJECTION_TYPE = SINUSOIDAL
  MAP_RESOLUTION = 23709.8786048756
  MAP_SCALE = 0.0025
  MAXIMUM_LATITUDE = 47.8022
  MINIMUM_LATITUDE = 47.7383
  POSITIVE_LONGITUDE_DIRECTION = EAST
  REFERENCE_LATITUDE = "N/A"
  REFERENCE_LONGITUDE = "N/A"
  SAMPLE_FIRST_PIXEL = 1
  SAMPLE_LAST_PIXEL = 1622
  SAMPLE_PROJECTION_OFFSET = -4005.0
  SECOND_STANDARD_PARALLEL = "N/A"
  WESTERNMOST_LONGITUDE = 134.236
END_OBJECT = IMAGE_MAP_PROJECTION
END
