PDS_VERSION_ID = PDS3
/* FILE DATA ELEMENTS */
RECORD_TYPE = UNDEFINED
/* POINTERS TO DATA OBJECTS */
^IMAGE = ("HK066_0000_P24.TIF")
/* IDENTIFICATION DATA ELEMENTS */
DATA_SET_ID = "MEX-M-HRSC-4-REFDR-MAPPROJECT-EXT7-V4.0"
DATA_SET_NAME = "MARS EXPRESS HRSC MAP PROJECTED REFDR EXTENSION7 V4.0"
DETECTOR_ID = MEX_HRSC_P2
EVENT_TYPE = "MARS-LOCAL-STEREO-Tc-Ot-Ts"
INSTRUMENT_HOST_ID = MEX
INSTRUMENT_HOST_NAME = "MARS EXPRESS"
INSTRUMENT_ID = HRSC
INSTRUMENT_NAME = "HIGH RESOLUTION STEREO CAMERA"
MISSION_NAME = "MARS EXPRESS"
MISSION_PHASE_NAME = ME_Phase_41
PROCESSING_LEVEL_ID = 4
PRODUCT_CREATION_TIME = 2023-01-28T19:11:08.000Z
PRODUCT_ID = "HK066_0000_P24.TIF"
RELEASE_ID = 0003
REVISION_ID = 0000
/* QUALITY DATA ELEMENTS */
DATA_QUALITY_ID = 1
DATA_QUALITY_DESC = "Data calculated based on original SPICE kernels"
/* TIME DATA ELEMENTS */
SPACECRAFT_CLOCK_START_COUNT = "1/0521793349.24899"
SPACECRAFT_CLOCK_STOP_COUNT = "1/0521793446.50216"
START_TIME = 2019-11-14T06:37:21.103Z
STOP_TIME = 2019-11-14T06:37:43.387Z
/* ORBITAL DATA ELEMENTS */
ASCENDING_NODE_LONGITUDE = 198.3
MAXIMUM_RESOLUTION = 0.0332
FOOTPRINT_POINT_LATITUDE = (48.4221,48.4194,48.4176,48.4158, 48.4139,48.4119,48.4099,48.4079,48.4058 ,48.4037,48.4016,48.3994,48.3972, 48.3949,48.3926,48.3903,48.3879,48.3855 ,48.3831,48.3806,48.3781,48.3755, 48.3729,48.3702,48.3676,48.3648,48.3642 ,48.4267,48.3852,48.33,48.2471,48.1642, 48.1089,48.0399,47.9849,47.9021,47.8194 ,47.7644,47.7094,47.6544,47.5718, 47.4893,47.4343,47.3655,47.3106,47.2281 ,47.1457,47.0633,47.0496,47.0388, 47.0414,47.0441,47.0467,47.0493,47.0519 ,47.0543,47.0568,47.0592,47.0615, 47.0638,47.066,47.0677,47.0698,47.0722, 47.0748,47.0767,47.0787,47.0802,47.0821 ,47.0841,47.086,47.0879,47.0893,47.091, 47.0927,47.0944,47.0948,47.0954,47.1918 ,47.2745,47.3297,47.3849,47.4675, 47.5226,47.6193,47.7021,47.7574,47.8402 ,47.8955,47.9507,48.006,48.0613,48.1442 ,48.1995,48.2549,48.3517,48.4071, 48.4624,48.4763,48.4221)
FOOTPRINT_POINT_LONGITUDE = (135.267,135.145,135.064,134.984, 134.903,134.823,134.743,134.662,134.582 ,134.502,134.422,134.342,134.263, 134.183,134.104,134.024,133.945,133.866 ,133.787,133.708,133.629,133.55,133.471 ,133.392,133.314,133.235,133.215, 133.188,133.19,133.193,133.197,133.202, 133.205,133.208,133.211,133.215,133.219 ,133.222,133.224,133.227,133.231, 133.235,133.237,133.241,133.243,133.247 ,133.251,133.254,133.255,133.256, 133.336,133.417,133.498,133.579,133.661 ,133.742,133.823,133.905,133.986, 134.068,134.15,134.211,134.293,134.375, 134.478,134.56,134.643,134.705,134.787, 134.87,134.953,135.036,135.098,135.181, 135.264,135.348,135.369,135.376,135.374 ,135.371,135.37,135.368,135.365,135.364 ,135.361,135.359,135.357,135.354, 135.353,135.351,135.349,135.348,135.345 ,135.343,135.342,135.338,135.337, 135.335,135.334,135.267)
ORBIT_NUMBER = 20066
ORBITAL_ECCENTRICITY = 0.572
ORBITAL_INCLINATION = 86.99
ORBITAL_SEMIMAJOR_AXIS = 8782.59
PERIAPSIS_ALTITUDE = 380.06
PERIAPSIS_ARGUMENT_ANGLE = 122.88
PERIAPSIS_TIME = 2019-11-14T06:34:43.000Z
SPACECRAFT_ORIENTATION = (0.0,-1.0,0.0)
^MEX_ORIENTATION_DESC = "MEX_ORIENTATION_DESC.TXT"
SPACECRAFT_POINTING_MODE = ACROSSTRACK
^MEX_POINTING_DESC = "MEX_POINTING_DESC.TXT"
RIGHT_ASCENSION = -1e+32
DECLINATION = -1e+32
OFFSET_ANGLE = 0.4
SPACECRAFT_SOLAR_DISTANCE = 2.44561e+08
TARGET_NAME = MARS
/* CAMERA DATA ELEMENTS */
DETECTOR_TEMPERATURE = 18.5744
FOCAL_PLANE_TEMPERATURE = 8.7872
INST_CMPRS_NAME = "DISCRETE COSINE TRANSFORMATION (DCT)"
INST_CMPRS_RATIO = 6.90161
INST_CMPRS_QUALITY = 0
INST_CMPRS_QUANTZ_TBL_ID = 0
INSTRUMENT_TEMPERATURE = 11.234
LENS_TEMPERATURE = 9.195
MACROPIXEL_SIZE = 2
MISSING_FRAMES = 0
PIXEL_SUBSAMPLING_FLAG = N
SIGNAL_CHAIN_ID = 3
/* RADIOMETRIC DATA ELEMENTS */
BANDWIDTH = 177.0
CENTER_FILTER_WAVELENGTH = 676.5
RADIANCE_OFFSET = 6.09055
RADIANCE_SCALING_FACTOR = 0.00727731
REFLECTANCE_SCALING_FACTOR = 0.000230782
MEX:REFLECTANCE_OFFSET = 0.193147
/* IMAGE OBJECT DEFINITIONS */
OBJECT = IMAGE
  INTERCHANGE_FORMAT = BINARY
  LINES = 3412
  LINE_SAMPLES = 3432
  SAMPLE_TYPE = UNSIGNED_INTEGER
  SAMPLE_BITS = 8
  BANDS = 1
  BAND_STORAGE_TYPE = BAND_SEQUENTIAL
  MAXIMUM = 255
  MEAN = 143.606
  MINIMUM = 1
  STANDARD_DEVIATION = 26.294
END_OBJECT = IMAGE
/* MAP OBJECT DEFINITIONS */
OBJECT = IMAGE_MAP_PROJECTION
  ^DATA_SET_MAP_PROJECTION_CATALOG= "DSMAP.CAT"
  A_AXIS_RADIUS = 3396.0
  B_AXIS_RADIUS = 3396.0
  C_AXIS_RADIUS = 3396.0
  CENTER_LATITUDE = 0.0
  CENTER_LONGITUDE = 134.0
  COORDINATE_SYSTEM_NAME = PLANETOGRAPHIC
  COORDINATE_SYSTEM_TYPE = "BODY-FIXED ROTATING"
  EASTERNMOST_LONGITUDE = 135.376
  FIRST_STANDARD_PARALLEL = "N/A"
  LINE_FIRST_PIXEL = 1
  LINE_LAST_PIXEL = 3412
  LINE_PROJECTION_OFFSET = 114908.25
  MAP_PROJECTION_ROTATION = 0.0
  MAP_PROJECTION_TYPE = SINUSOIDAL
  MAP_RESOLUTION = 2370.85521546667
  MAP_SCALE = 0.025
  MAXIMUM_LATITUDE = 48.4763
  MINIMUM_LATITUDE = 47.0388
  POSITIVE_LONGITUDE_DIRECTION = EAST
  REFERENCE_LATITUDE = "N/A"
  REFERENCE_LONGITUDE = "N/A"
  SAMPLE_FIRST_PIXEL = 1
  SAMPLE_LAST_PIXEL = 3432
  SAMPLE_PROJECTION_OFFSET = 1250.25
  SECOND_STANDARD_PARALLEL = "N/A"
  WESTERNMOST_LONGITUDE = 133.188
END_OBJECT = IMAGE_MAP_PROJECTION
END
