PDS_VERSION_ID = PDS3
/* FILE DATA ELEMENTS */
RECORD_TYPE = UNDEFINED
/* POINTERS TO DATA OBJECTS */
^IMAGE = ("HK065_0000_S24.TIF")
/* IDENTIFICATION DATA ELEMENTS */
DATA_SET_ID = "MEX-M-HRSC-4-REFDR-MAPPROJECT-EXT7-V4.0"
DATA_SET_NAME = "MARS EXPRESS HRSC MAP PROJECTED REFDR EXTENSION7 V4.0"
DETECTOR_ID = MEX_HRSC_S2
EVENT_TYPE = "MARS-REGIONAL-STEREO-Vo-Te"
INSTRUMENT_HOST_ID = MEX
INSTRUMENT_HOST_NAME = "MARS EXPRESS"
INSTRUMENT_ID = HRSC
INSTRUMENT_NAME = "HIGH RESOLUTION STEREO CAMERA"
MISSION_NAME = "MARS EXPRESS"
MISSION_PHASE_NAME = ME_Phase_41
PROCESSING_LEVEL_ID = 4
PRODUCT_CREATION_TIME = 2023-01-28T19:11:08.000Z
PRODUCT_ID = "HK065_0000_S24.TIF"
RELEASE_ID = 0003
REVISION_ID = 0000
/* QUALITY DATA ELEMENTS */
DATA_QUALITY_ID = 1
DATA_QUALITY_DESC = "Data calculated based on original SPICE kernels"
/* TIME DATA ELEMENTS */
SPACECRAFT_CLOCK_START_COUNT = "1/0521768029.24949"
SPACECRAFT_CLOCK_STOP_COUNT = "1/0521768232.64249"
START_TIME = 2019-11-13T23:35:23.752Z
STOP_TIME = 2019-11-13T23:37:43.051Z
/* ORBITAL DATA ELEMENTS */
ASCENDING_NODE_LONGITUDE = 198.32
MAXIMUM_RESOLUTION = 0.0318
FOOTPRINT_POINT_LATITUDE = (60.201,60.186,60.1699,60.1529,60.1348, 60.1158,60.0877,60.0863,60.1964,59.995, 59.6931,59.492,59.2911,59.0903,58.8895, 58.6888,58.3878,58.1875,57.9871,57.7869 ,57.5869,57.287,56.9875,56.688,56.3889, 56.1895,55.9857,55.7868,55.4885,55.1901 ,54.8922,54.6936,54.4951,54.2967, 54.0986,53.9002,53.7022,53.4053,53.1086 ,52.8123,52.5159,52.2198,51.9238,51.628 ,51.332,50.8396,50.3477,50.2493,50.2281 ,50.2525,50.2753,50.2885,50.3002, 50.3113,50.3119,50.3127,50.707,51.003, 51.3978,51.5956,51.9909,52.2877,52.4856 ,52.6836,52.8818,53.08,53.2782,53.5761, 53.7747,54.0728,54.2716,54.4704,54.6695 ,54.8687,55.0678,55.2673,55.4667, 55.6663,55.966,56.2704,56.4706,56.6706, 56.8708,57.0715,57.2719,57.4727,57.6737 ,57.9753,58.1765,58.4785,58.7812, 58.9828,59.1846,59.3869,59.5889,59.791, 59.9935,60.196,60.2973,60.201)
FOOTPRINT_POINT_LONGITUDE = (234.796,234.396,233.995,233.591, 233.186,232.778,232.213,232.187,232.025 ,232.076,232.151,232.2,232.247,232.294, 232.34,232.386,232.452,232.495,232.538, 232.58,232.621,232.681,232.739,232.796, 232.851,232.887,232.923,232.958,233.008 ,233.058,233.106,233.138,233.169, 233.199,233.229,233.258,233.287,233.329 ,233.37,233.409,233.448,233.486,233.522 ,233.558,233.593,233.649,233.703, 233.713,233.715,234.246,234.792,235.134 ,235.453,235.771,235.791,235.798, 235.771,235.751,235.722,235.708,235.678 ,235.655,235.64,235.624,235.608,235.591 ,235.575,235.55,235.532,235.506,235.488 ,235.47,235.452,235.433,235.414,235.394 ,235.375,235.355,235.324,235.292, 235.271,235.249,235.227,235.205,235.182 ,235.159,235.135,235.099,235.074, 235.037,234.998,234.972,234.945,234.918 ,234.89,234.862,234.833,234.804,234.789 ,234.796)
ORBIT_NUMBER = 20065
ORBITAL_ECCENTRICITY = 0.572
ORBITAL_INCLINATION = 87.0
ORBITAL_SEMIMAJOR_AXIS = 8781.04
PERIAPSIS_ALTITUDE = 378.9
PERIAPSIS_ARGUMENT_ANGLE = 123.03
PERIAPSIS_TIME = 2019-11-13T23:35:40.000Z
SPACECRAFT_ORIENTATION = (0.0,-1.0,0.0)
^MEX_ORIENTATION_DESC = "MEX_ORIENTATION_DESC.TXT"
SPACECRAFT_POINTING_MODE = INERT
^MEX_POINTING_DESC = "MEX_POINTING_DESC.TXT"
RIGHT_ASCENSION = 193.586
DECLINATION = -52.453
OFFSET_ANGLE = -1e+32
SPACECRAFT_SOLAR_DISTANCE = 2.44594e+08
TARGET_NAME = MARS
/* CAMERA DATA ELEMENTS */
DETECTOR_TEMPERATURE = 18.9822
FOCAL_PLANE_TEMPERATURE = 9.195
INST_CMPRS_NAME = "DISCRETE COSINE TRANSFORMATION (DCT)"
INST_CMPRS_RATIO = 12.0573
INST_CMPRS_QUALITY = 0
INST_CMPRS_QUANTZ_TBL_ID = 0
INSTRUMENT_TEMPERATURE = 11.6418
LENS_TEMPERATURE = 9.195
MACROPIXEL_SIZE = 2
MISSING_FRAMES = 1
PIXEL_SUBSAMPLING_FLAG = N
SIGNAL_CHAIN_ID = 1
/* RADIOMETRIC DATA ELEMENTS */
BANDWIDTH = 178.0
CENTER_FILTER_WAVELENGTH = 679.0
RADIANCE_OFFSET = 4.31939
RADIANCE_SCALING_FACTOR = 0.0198748
REFLECTANCE_SCALING_FACTOR = 0.00062969
MEX:REFLECTANCE_OFFSET = 0.13685
/* IMAGE OBJECT DEFINITIONS */
OBJECT = IMAGE
  INTERCHANGE_FORMAT = BINARY
  LINES = 24016
  LINE_SAMPLES = 5056
  SAMPLE_TYPE = UNSIGNED_INTEGER
  SAMPLE_BITS = 8
  BANDS = 1
  BAND_STORAGE_TYPE = BAND_SEQUENTIAL
  MAXIMUM = 255
  MEAN = 148.683
  MINIMUM = 1
  STANDARD_DEVIATION = 21.3769
END_OBJECT = IMAGE
/* MAP OBJECT DEFINITIONS */
OBJECT = IMAGE_MAP_PROJECTION
  ^DATA_SET_MAP_PROJECTION_CATALOG= "DSMAP.CAT"
  A_AXIS_RADIUS = 3396.0
  B_AXIS_RADIUS = 3396.0
  C_AXIS_RADIUS = 3396.0
  CENTER_LATITUDE = 0.0
  CENTER_LONGITUDE = 234.0
  COORDINATE_SYSTEM_NAME = PLANETOGRAPHIC
  COORDINATE_SYSTEM_TYPE = "BODY-FIXED ROTATING"
  EASTERNMOST_LONGITUDE = 235.798
  FIRST_STANDARD_PARALLEL = "N/A"
  LINE_FIRST_PIXEL = 1
  LINE_LAST_PIXEL = 24016
  LINE_PROJECTION_OFFSET = 143031.75
  MAP_PROJECTION_ROTATION = 0.0
  MAP_PROJECTION_TYPE = SINUSOIDAL
  MAP_RESOLUTION = 2370.85521546667
  MAP_SCALE = 0.025
  MAXIMUM_LATITUDE = 60.2973
  MINIMUM_LATITUDE = 50.2281
  POSITIVE_LONGITUDE_DIRECTION = EAST
  REFERENCE_LATITUDE = "N/A"
  REFERENCE_LONGITUDE = "N/A"
  SAMPLE_FIRST_PIXEL = 1
  SAMPLE_LAST_PIXEL = 5056
  SAMPLE_PROJECTION_OFFSET = 2137.25
  SECOND_STANDARD_PARALLEL = "N/A"
  WESTERNMOST_LONGITUDE = 232.025
END_OBJECT = IMAGE_MAP_PROJECTION
END
