PDS_VERSION_ID = PDS3
/* FILE DATA ELEMENTS */
RECORD_TYPE = UNDEFINED
/* POINTERS TO DATA OBJECTS */
^IMAGE = ("HK065_0000_ND4.TIF")
/* IDENTIFICATION DATA ELEMENTS */
DATA_SET_ID = "MEX-M-HRSC-4-REFDR-MAPPROJECT-EXT7-V4.0"
DATA_SET_NAME = "MARS EXPRESS HRSC MAP PROJECTED REFDR EXTENSION7 V4.0"
DETECTOR_ID = MEX_HRSC_NADIR
EVENT_TYPE = "MARS-REGIONAL-STEREO-Vo-Te"
INSTRUMENT_HOST_ID = MEX
INSTRUMENT_HOST_NAME = "MARS EXPRESS"
INSTRUMENT_ID = HRSC
INSTRUMENT_NAME = "HIGH RESOLUTION STEREO CAMERA"
MISSION_NAME = "MARS EXPRESS"
MISSION_PHASE_NAME = ME_Phase_41
PROCESSING_LEVEL_ID = 4
PRODUCT_CREATION_TIME = 2023-01-28T19:11:08.000Z
PRODUCT_ID = "HK065_0000_ND4.TIF"
RELEASE_ID = 0003
REVISION_ID = 0000
/* QUALITY DATA ELEMENTS */
DATA_QUALITY_ID = 1
DATA_QUALITY_DESC = "Data calculated based on original SPICE kernels"
/* TIME DATA ELEMENTS */
SPACECRAFT_CLOCK_START_COUNT = "1/0521768029.24949"
SPACECRAFT_CLOCK_STOP_COUNT = "1/0521768232.64249"
START_TIME = 2019-11-13T23:34:52.243Z
STOP_TIME = 2019-11-13T23:37:12.240Z
/* ORBITAL DATA ELEMENTS */
ASCENDING_NODE_LONGITUDE = 198.32
MAXIMUM_RESOLUTION = 0.0152
FOOTPRINT_POINT_LATITUDE = (60.3098,60.2889,60.2668,60.2433, 60.2184,60.1922,60.1573,60.1555,60.1651 ,59.9666,59.6688,59.4703,59.2717, 59.0732,58.8746,58.5768,58.3782,58.0803 ,57.8817,57.6831,57.4844,57.2858, 56.8885,56.4911,56.0936,55.7955,55.2985 ,54.8014,54.3042,54.0057,53.6078, 53.4087,53.2097,53.0105,52.8114,52.5126 ,52.3134,52.1141,51.9148,51.7155, 51.5162,51.3169,51.0177,50.8182,50.6188 ,50.3194,50.2195,50.1998,50.2331, 50.2612,50.2921,50.3264,50.3275,50.3283 ,50.5282,50.8281,51.028,51.2279,51.5275 ,51.7273,51.9271,52.1269,52.3266, 52.5263,52.726,53.0255,53.2251,53.5246, 53.824,54.0235,54.3229,54.5224,54.8217, 55.0213,55.2208,55.5201,55.7196,55.9191 ,56.1186,56.3181,56.5176,56.7171, 56.9166,57.1161,57.3157,57.5152,57.7147 ,58.0141,58.3134,58.513,58.7125,58.9122 ,59.1118,59.3114,59.5111,59.7107, 60.0102,60.2099,60.3098,60.3098)
FOOTPRINT_POINT_LONGITUDE = (234.9,234.497,234.092,233.685,233.276, 232.865,232.348,232.322,232.187,232.236 ,232.306,232.352,232.397,232.441, 232.485,232.549,232.591,232.652,232.692 ,232.731,232.77,232.808,232.881,232.953 ,233.021,233.071,233.151,233.229, 233.302,233.345,233.4,233.427,233.453, 233.479,233.504,233.541,233.566,233.59, 233.613,233.636,233.659,233.681,233.714 ,233.735,233.756,233.786,233.796, 233.798,234.288,234.731,235.254,235.897 ,235.918,235.928,235.914,235.893, 235.879,235.864,235.842,235.827,235.812 ,235.797,235.781,235.765,235.749, 235.724,235.707,235.682,235.656,235.638 ,235.611,235.592,235.564,235.545, 235.526,235.496,235.476,235.455,235.435 ,235.413,235.392,235.37,235.348,235.326 ,235.303,235.28,235.256,235.22,235.183, 235.158,235.133,235.107,235.081,235.054 ,235.027,234.999,234.957,234.928, 234.913,234.9)
ORBIT_NUMBER = 20065
ORBITAL_ECCENTRICITY = 0.572
ORBITAL_INCLINATION = 87.0
ORBITAL_SEMIMAJOR_AXIS = 8781.04
PERIAPSIS_ALTITUDE = 378.9
PERIAPSIS_ARGUMENT_ANGLE = 123.03
PERIAPSIS_TIME = 2019-11-13T23:35:40.000Z
SPACECRAFT_ORIENTATION = (0.0,-1.0,0.0)
^MEX_ORIENTATION_DESC = "MEX_ORIENTATION_DESC.TXT"
SPACECRAFT_POINTING_MODE = INERT
^MEX_POINTING_DESC = "MEX_POINTING_DESC.TXT"
RIGHT_ASCENSION = 193.586
DECLINATION = -52.453
OFFSET_ANGLE = -1e+32
SPACECRAFT_SOLAR_DISTANCE = 2.44594e+08
TARGET_NAME = MARS
/* CAMERA DATA ELEMENTS */
DETECTOR_TEMPERATURE = 18.5744
FOCAL_PLANE_TEMPERATURE = 9.195
INST_CMPRS_NAME = "DISCRETE COSINE TRANSFORMATION (DCT)"
INST_CMPRS_RATIO = 7.46014
INST_CMPRS_QUALITY = 0
INST_CMPRS_QUANTZ_TBL_ID = 0
INSTRUMENT_TEMPERATURE = 11.6418
LENS_TEMPERATURE = 9.195
MACROPIXEL_SIZE = 1
MISSING_FRAMES = 0
PIXEL_SUBSAMPLING_FLAG = N
SIGNAL_CHAIN_ID = 0
/* RADIOMETRIC DATA ELEMENTS */
BANDWIDTH = 177.0
CENTER_FILTER_WAVELENGTH = 677.5
RADIANCE_OFFSET = 3.63738
RADIANCE_SCALING_FACTOR = 0.0213964
REFLECTANCE_SCALING_FACTOR = 0.000680013
MEX:REFLECTANCE_OFFSET = 0.115602
/* IMAGE OBJECT DEFINITIONS */
OBJECT = IMAGE
  INTERCHANGE_FORMAT = BINARY
  LINES = 48031
  LINE_SAMPLES = 10112
  SAMPLE_TYPE = UNSIGNED_INTEGER
  SAMPLE_BITS = 8
  BANDS = 1
  BAND_STORAGE_TYPE = BAND_SEQUENTIAL
  MAXIMUM = 255
  MEAN = 138.182
  MINIMUM = 1
  STANDARD_DEVIATION = 21.4664
END_OBJECT = IMAGE
/* MAP OBJECT DEFINITIONS */
OBJECT = IMAGE_MAP_PROJECTION
  ^DATA_SET_MAP_PROJECTION_CATALOG= "DSMAP.CAT"
  A_AXIS_RADIUS = 3396.0
  B_AXIS_RADIUS = 3396.0
  C_AXIS_RADIUS = 3396.0
  CENTER_LATITUDE = 0.0
  CENTER_LONGITUDE = 234.0
  COORDINATE_SYSTEM_NAME = PLANETOGRAPHIC
  COORDINATE_SYSTEM_TYPE = "BODY-FIXED ROTATING"
  EASTERNMOST_LONGITUDE = 235.928
  FIRST_STANDARD_PARALLEL = "N/A"
  LINE_FIRST_PIXEL = 1
  LINE_LAST_PIXEL = 48031
  LINE_PROJECTION_OFFSET = 286064.0
  MAP_PROJECTION_ROTATION = 0.0
  MAP_PROJECTION_TYPE = SINUSOIDAL
  MAP_RESOLUTION = 4741.71043093333
  MAP_SCALE = 0.0125
  MAXIMUM_LATITUDE = 60.3098
  MINIMUM_LATITUDE = 50.1998
  POSITIVE_LONGITUDE_DIRECTION = EAST
  REFERENCE_LATITUDE = "N/A"
  REFERENCE_LONGITUDE = "N/A"
  SAMPLE_FIRST_PIXEL = 1
  SAMPLE_LAST_PIXEL = 10112
  SAMPLE_PROJECTION_OFFSET = 4275.0
  SECOND_STANDARD_PARALLEL = "N/A"
  WESTERNMOST_LONGITUDE = 232.187
END_OBJECT = IMAGE_MAP_PROJECTION
END
