PDS_VERSION_ID = PDS3
/* FILE DATA ELEMENTS */
RECORD_TYPE = UNDEFINED
/* POINTERS TO DATA OBJECTS */
^IMAGE = ("HK052_0000_ND4.TIF")
/* IDENTIFICATION DATA ELEMENTS */
DATA_SET_ID = "MEX-M-HRSC-4-REFDR-MAPPROJECT-EXT7-V4.0"
DATA_SET_NAME = "MARS EXPRESS HRSC MAP PROJECTED REFDR EXTENSION7 V4.0"
DETECTOR_ID = MEX_HRSC_NADIR
EVENT_TYPE = "MARS-REGIONAL-MAPPING-Vo-Tc-Ts"
INSTRUMENT_HOST_ID = MEX
INSTRUMENT_HOST_NAME = "MARS EXPRESS"
INSTRUMENT_ID = HRSC
INSTRUMENT_NAME = "HIGH RESOLUTION STEREO CAMERA"
MISSION_NAME = "MARS EXPRESS"
MISSION_PHASE_NAME = ME_Phase_41
PROCESSING_LEVEL_ID = 4
PRODUCT_CREATION_TIME = 2023-01-28T19:11:08.000Z
PRODUCT_ID = "HK052_0000_ND4.TIF"
RELEASE_ID = 0003
REVISION_ID = 0000
/* QUALITY DATA ELEMENTS */
DATA_QUALITY_ID = 1
DATA_QUALITY_DESC = "Data calculated based on original SPICE kernels"
/* TIME DATA ELEMENTS */
SPACECRAFT_CLOCK_START_COUNT = "1/0521441552.25042"
SPACECRAFT_CLOCK_STOP_COUNT = "1/0521441828.39916"
START_TIME = 2019-11-10T04:53:45.375Z
STOP_TIME = 2019-11-10T04:56:38.345Z
/* ORBITAL DATA ELEMENTS */
ASCENDING_NODE_LONGITUDE = 198.56
MAXIMUM_RESOLUTION = 0.0179
FOOTPRINT_POINT_LATITUDE = (36.8089,36.8149,36.8187,36.8214, 36.8232,36.8242,36.8244,36.8244,36.8253 ,36.3313,35.9115,35.5811,35.2347,34.963 ,34.6283,34.1899,33.8487,33.5817, 33.1495,32.9735,32.7953,32.6219,32.4487 ,32.1026,31.9268,31.7504,31.4836, 31.3076,31.1222,30.8378,30.6053,30.4262 ,30.1749,29.9948,29.8125,29.4707, 29.2817,29.0993,28.9142,28.5721,28.2954 ,28.0957,27.8902,27.5458,27.2755,27.085 ,26.8947,26.4427,26.346,26.3441,26.3407 ,26.3365,26.3315,26.3255,26.3184, 26.3082,26.3076,26.3077,26.8576,27.0483 ,27.2392,27.5101,27.8553,28.0612, 28.2613,28.5385,28.8813,29.0668,29.2496 ,29.439,29.7815,29.9641,30.1446,30.3964 ,30.5758,30.8088,31.0937,31.2794, 31.4558,31.7231,31.8999,32.076,32.4227, 32.5962,32.7699,32.9485,33.1248,33.5577 ,33.8253,34.167,34.6062,34.9414,35.2136 ,35.5606,35.8916,36.2252,36.4769, 36.7244,36.8069,36.8089)
FOOTPRINT_POINT_LONGITUDE = (127.077,126.655,126.325,126.002, 125.686,125.375,125.07,125.051,125.079, 125.069,125.061,125.054,125.046,125.04, 125.033,125.022,125.014,125.008,124.997 ,124.992,124.987,124.983,124.978, 124.969,124.964,124.959,124.952,124.946 ,124.941,124.933,124.926,124.92,124.913 ,124.907,124.902,124.891,124.885, 124.879,124.873,124.861,124.852,124.845 ,124.838,124.826,124.817,124.81,124.803 ,124.787,124.783,124.783,125.122, 125.465,125.814,126.169,126.53,126.991, 127.014,127.025,127.031,127.033,127.035 ,127.038,127.042,127.045,127.047, 127.051,127.055,127.057,127.059,127.062 ,127.066,127.068,127.071,127.074, 127.077,127.08,127.083,127.086,127.089, 127.093,127.095,127.098,127.102,127.105 ,127.107,127.109,127.112,127.119, 127.124,127.128,127.135,127.141,127.145 ,127.15,127.156,127.162,127.166,127.17, 127.171,127.077)
ORBIT_NUMBER = 20052
ORBITAL_ECCENTRICITY = 0.572
ORBITAL_INCLINATION = 86.99
ORBITAL_SEMIMAJOR_AXIS = 8787.95
PERIAPSIS_ALTITUDE = 378.46
PERIAPSIS_ARGUMENT_ANGLE = 125.3
PERIAPSIS_TIME = 2019-11-10T04:49:05.000Z
SPACECRAFT_ORIENTATION = (0.0,-1.0,0.0)
^MEX_ORIENTATION_DESC = "MEX_ORIENTATION_DESC.TXT"
SPACECRAFT_POINTING_MODE = ACROSSTRACK
^MEX_POINTING_DESC = "MEX_POINTING_DESC.TXT"
RIGHT_ASCENSION = -1e+32
DECLINATION = -1e+32
OFFSET_ANGLE = 1.831
SPACECRAFT_SOLAR_DISTANCE = 2.45013e+08
TARGET_NAME = MARS
/* CAMERA DATA ELEMENTS */
DETECTOR_TEMPERATURE = 18.5744
FOCAL_PLANE_TEMPERATURE = 8.9911
INST_CMPRS_NAME = "DISCRETE COSINE TRANSFORMATION (DCT)"
INST_CMPRS_RATIO = 5.94969
INST_CMPRS_QUALITY = 0
INST_CMPRS_QUANTZ_TBL_ID = 0
INSTRUMENT_TEMPERATURE = 11.4379
LENS_TEMPERATURE = 9.3989
MACROPIXEL_SIZE = 1
MISSING_FRAMES = 698
PIXEL_SUBSAMPLING_FLAG = N
SIGNAL_CHAIN_ID = 0
/* RADIOMETRIC DATA ELEMENTS */
BANDWIDTH = 177.0
CENTER_FILTER_WAVELENGTH = 677.5
RADIANCE_OFFSET = 5.49618
RADIANCE_SCALING_FACTOR = 0.0150631
REFLECTANCE_SCALING_FACTOR = 0.00048037
MEX:REFLECTANCE_OFFSET = 0.175276
/* IMAGE OBJECT DEFINITIONS */
OBJECT = IMAGE
  INTERCHANGE_FORMAT = BINARY
  LINES = 49874
  LINE_SAMPLES = 9617
  SAMPLE_TYPE = UNSIGNED_INTEGER
  SAMPLE_BITS = 8
  BANDS = 1
  BAND_STORAGE_TYPE = BAND_SEQUENTIAL
  MAXIMUM = 255
  MEAN = 153.307
  MINIMUM = 1
  STANDARD_DEVIATION = 20.1502
END_OBJECT = IMAGE
/* MAP OBJECT DEFINITIONS */
OBJECT = IMAGE_MAP_PROJECTION
  ^DATA_SET_MAP_PROJECTION_CATALOG= "DSMAP.CAT"
  A_AXIS_RADIUS = 3396.0
  B_AXIS_RADIUS = 3396.0
  C_AXIS_RADIUS = 3396.0
  CENTER_LATITUDE = 0.0
  CENTER_LONGITUDE = 126.0
  COORDINATE_SYSTEM_NAME = PLANETOGRAPHIC
  COORDINATE_SYSTEM_TYPE = "BODY-FIXED ROTATING"
  EASTERNMOST_LONGITUDE = 127.171
  FIRST_STANDARD_PARALLEL = "N/A"
  LINE_FIRST_PIXEL = 1
  LINE_LAST_PIXEL = 49874
  LINE_PROJECTION_OFFSET = 174616.0
  MAP_PROJECTION_ROTATION = 0.0
  MAP_PROJECTION_TYPE = SINUSOIDAL
  MAP_RESOLUTION = 4741.71043093333
  MAP_SCALE = 0.0125
  MAXIMUM_LATITUDE = 36.8253
  MINIMUM_LATITUDE = 26.3076
  POSITIVE_LONGITUDE_DIRECTION = EAST
  REFERENCE_LATITUDE = "N/A"
  REFERENCE_LONGITUDE = "N/A"
  SAMPLE_FIRST_PIXEL = 1
  SAMPLE_LAST_PIXEL = 9617
  SAMPLE_PROJECTION_OFFSET = 5169.0
  SECOND_STANDARD_PARALLEL = "N/A"
  WESTERNMOST_LONGITUDE = 124.783
END_OBJECT = IMAGE_MAP_PROJECTION
END
