PDS_VERSION_ID = PDS3
/* FILE DATA ELEMENTS */
RECORD_TYPE = UNDEFINED
/* POINTERS TO DATA OBJECTS */
^IMAGE = ("HK040_0000_ND4.TIF")
/* IDENTIFICATION DATA ELEMENTS */
DATA_SET_ID = "MEX-M-HRSC-4-REFDR-MAPPROJECT-EXT7-V4.0"
DATA_SET_NAME = "MARS EXPRESS HRSC MAP PROJECTED REFDR EXTENSION7 V4.0"
DETECTOR_ID = MEX_HRSC_NADIR
EVENT_TYPE = "MARS-REGIONAL-STEREO-Vo-Te"
INSTRUMENT_HOST_ID = MEX
INSTRUMENT_HOST_NAME = "MARS EXPRESS"
INSTRUMENT_ID = HRSC
INSTRUMENT_NAME = "HIGH RESOLUTION STEREO CAMERA"
MISSION_NAME = "MARS EXPRESS"
MISSION_PHASE_NAME = ME_Phase_41
PROCESSING_LEVEL_ID = 4
PRODUCT_CREATION_TIME = 2023-01-28T19:11:08.000Z
PRODUCT_ID = "HK040_0000_ND4.TIF"
RELEASE_ID = 0003
REVISION_ID = 0000
/* QUALITY DATA ELEMENTS */
DATA_QUALITY_ID = 1
DATA_QUALITY_DESC = "Data calculated based on original SPICE kernels"
/* TIME DATA ELEMENTS */
SPACECRAFT_CLOCK_START_COUNT = "1/0521139582.23982"
SPACECRAFT_CLOCK_STOP_COUNT = "1/0521139769.33403"
START_TIME = 2019-11-06T17:00:49.356Z
STOP_TIME = 2019-11-06T17:02:44.347Z
/* ORBITAL DATA ELEMENTS */
ASCENDING_NODE_LONGITUDE = 198.78
MAXIMUM_RESOLUTION = 0.0151
FOOTPRINT_POINT_LATITUDE = (55.0405,55.0297,55.0214,55.0115, 55.0006,54.9918,54.9767,54.9758,54.9755 ,54.6812,54.3133,54.0188,53.798,53.6507 ,53.5035,53.3562,53.1353,52.988,52.8407 ,52.6934,52.4724,52.325,52.1777,52.0304 ,51.883,51.7357,51.5883,51.441,51.2937, 50.999,50.8516,50.7043,50.336,50.0413, 49.7467,49.4522,49.1576,48.8632,48.5688 ,48.2744,47.9801,47.6859,47.6124, 47.6038,47.6137,47.6239,47.6308,47.6375 ,47.6417,47.6456,47.6459,47.6463, 47.9413,48.0888,48.2364,48.3839,48.5315 ,48.6792,48.8268,48.9744,49.1221, 49.2698,49.4175,49.5652,49.7129,49.8607 ,50.0084,50.1562,50.304,50.4518,50.5996 ,50.8213,51.0431,51.1909,51.3387, 51.4866,51.6344,51.7823,52.0041,52.152, 52.2998,52.4477,52.6695,52.8913,53.0391 ,53.187,53.3348,53.4827,53.6305,53.7783 ,53.9261,54.074,54.2218,54.3696,54.5174 ,54.6651,54.8129,54.9606,55.0345, 55.0405)
FOOTPRINT_POINT_LONGITUDE = (269.77,269.283,268.952,268.6,268.249, 267.987,267.571,267.55,267.509,267.544, 267.586,267.619,267.644,267.66,267.676, 267.691,267.714,267.729,267.744,267.758 ,267.78,267.794,267.808,267.822,267.836 ,267.849,267.862,267.875,267.888, 267.914,267.926,267.939,267.969,267.992 ,268.015,268.036,268.058,268.078, 268.098,268.117,268.136,268.154,268.159 ,268.159,268.507,268.915,269.226, 269.578,269.832,270.107,270.127,270.137 ,270.127,270.122,270.117,270.112, 270.107,270.102,270.097,270.092,270.087 ,270.081,270.076,270.071,270.065,270.06 ,270.054,270.05,270.043,270.038,270.032 ,270.024,270.016,270.009,270.004, 269.998,269.992,269.985,269.976,269.97, 269.965,269.958,269.948,269.938,269.931 ,269.924,269.917,269.91,269.903,269.896 ,269.889,269.881,269.874,269.867, 269.859,269.851,269.843,269.835,269.832 ,269.77)
ORBIT_NUMBER = 20040
ORBITAL_ECCENTRICITY = 0.572
ORBITAL_INCLINATION = 86.98
ORBITAL_SEMIMAJOR_AXIS = 8790.86
PERIAPSIS_ALTITUDE = 377.24
PERIAPSIS_ARGUMENT_ANGLE = 127.36
PERIAPSIS_TIME = 2019-11-06T17:01:27.000Z
SPACECRAFT_ORIENTATION = (0.0,-1.0,0.0)
^MEX_ORIENTATION_DESC = "MEX_ORIENTATION_DESC.TXT"
SPACECRAFT_POINTING_MODE = ACROSSTRACK
^MEX_POINTING_DESC = "MEX_POINTING_DESC.TXT"
RIGHT_ASCENSION = -1e+32
DECLINATION = -1e+32
OFFSET_ANGLE = 0.2
SPACECRAFT_SOLAR_DISTANCE = 2.45384e+08
TARGET_NAME = MARS
/* CAMERA DATA ELEMENTS */
DETECTOR_TEMPERATURE = 18.1666
FOCAL_PLANE_TEMPERATURE = 7.9716
INST_CMPRS_NAME = "DISCRETE COSINE TRANSFORMATION (DCT)"
INST_CMPRS_RATIO = 6.812
INST_CMPRS_QUALITY = 0
INST_CMPRS_QUANTZ_TBL_ID = 0
INSTRUMENT_TEMPERATURE = 11.0301
LENS_TEMPERATURE = 8.3794
MACROPIXEL_SIZE = 1
MISSING_FRAMES = 0
PIXEL_SUBSAMPLING_FLAG = N
SIGNAL_CHAIN_ID = 0
/* RADIOMETRIC DATA ELEMENTS */
BANDWIDTH = 177.0
CENTER_FILTER_WAVELENGTH = 677.5
RADIANCE_OFFSET = 4.40005
RADIANCE_SCALING_FACTOR = 0.017025
REFLECTANCE_SCALING_FACTOR = 0.000544585
MEX:REFLECTANCE_OFFSET = 0.140746
/* IMAGE OBJECT DEFINITIONS */
OBJECT = IMAGE
  INTERCHANGE_FORMAT = BINARY
  LINES = 35275
  LINE_SAMPLES = 7691
  SAMPLE_TYPE = UNSIGNED_INTEGER
  SAMPLE_BITS = 8
  BANDS = 1
  BAND_STORAGE_TYPE = BAND_SEQUENTIAL
  MAXIMUM = 255
  MEAN = 114.9
  MINIMUM = 1
  STANDARD_DEVIATION = 27.254
END_OBJECT = IMAGE
/* MAP OBJECT DEFINITIONS */
OBJECT = IMAGE_MAP_PROJECTION
  ^DATA_SET_MAP_PROJECTION_CATALOG= "DSMAP.CAT"
  A_AXIS_RADIUS = 3396.0
  B_AXIS_RADIUS = 3396.0
  C_AXIS_RADIUS = 3396.0
  CENTER_LATITUDE = 0.0
  CENTER_LONGITUDE = 269.0
  COORDINATE_SYSTEM_NAME = PLANETOGRAPHIC
  COORDINATE_SYSTEM_TYPE = "BODY-FIXED ROTATING"
  EASTERNMOST_LONGITUDE = 270.137
  FIRST_STANDARD_PARALLEL = "N/A"
  LINE_FIRST_PIXEL = 1
  LINE_LAST_PIXEL = 35275
  LINE_PROJECTION_OFFSET = 260998.0
  MAP_PROJECTION_ROTATION = 0.0
  MAP_PROJECTION_TYPE = SINUSOIDAL
  MAP_RESOLUTION = 4741.71043093333
  MAP_SCALE = 0.0125
  MAXIMUM_LATITUDE = 55.0405
  MINIMUM_LATITUDE = 47.6038
  POSITIVE_LONGITUDE_DIRECTION = EAST
  REFERENCE_LATITUDE = "N/A"
  REFERENCE_LONGITUDE = "N/A"
  SAMPLE_FIRST_PIXEL = 1
  SAMPLE_LAST_PIXEL = 7691
  SAMPLE_PROJECTION_OFFSET = 4058.0
  SECOND_STANDARD_PARALLEL = "N/A"
  WESTERNMOST_LONGITUDE = 267.509
END_OBJECT = IMAGE_MAP_PROJECTION
END
