PDS_VERSION_ID = PDS3
/* FILE DATA ELEMENTS */
RECORD_TYPE = UNDEFINED
/* POINTERS TO DATA OBJECTS */
^IMAGE = ("HK039_0000_S14.TIF")
/* IDENTIFICATION DATA ELEMENTS */
DATA_SET_ID = "MEX-M-HRSC-4-REFDR-MAPPROJECT-EXT7-V4.0"
DATA_SET_NAME = "MARS EXPRESS HRSC MAP PROJECTED REFDR EXTENSION7 V4.0"
DETECTOR_ID = MEX_HRSC_S1
EVENT_TYPE = "MARS-REGIONAL-MAPPING-Fl-Gl-Pf"
INSTRUMENT_HOST_ID = MEX
INSTRUMENT_HOST_NAME = "MARS EXPRESS"
INSTRUMENT_ID = HRSC
INSTRUMENT_NAME = "HIGH RESOLUTION STEREO CAMERA"
MISSION_NAME = "MARS EXPRESS"
MISSION_PHASE_NAME = ME_Phase_41
PROCESSING_LEVEL_ID = 4
PRODUCT_CREATION_TIME = 2023-01-28T19:11:08.000Z
PRODUCT_ID = "HK039_0000_S14.TIF"
RELEASE_ID = 0003
REVISION_ID = 0000
/* QUALITY DATA ELEMENTS */
DATA_QUALITY_ID = 1
DATA_QUALITY_DESC = "Data calculated based on original SPICE kernels"
/* TIME DATA ELEMENTS */
SPACECRAFT_CLOCK_START_COUNT = "1/0521114490.23947"
SPACECRAFT_CLOCK_STOP_COUNT = "1/0521114700.40278"
START_TIME = 2019-11-06T10:02:02.474Z
STOP_TIME = 2019-11-06T10:04:24.994Z
/* ORBITAL DATA ELEMENTS */
ASCENDING_NODE_LONGITUDE = 198.8
MAXIMUM_RESOLUTION = 0.0321
FOOTPRINT_POINT_LATITUDE = (51.8389,51.7957,51.7478,51.6846, 51.6828,51.5847,51.1764,50.6651,50.2558 ,49.7431,49.5377,49.2292,49.0235, 48.7145,48.4052,48.1987,47.9917,47.7845 ,47.5782,47.3707,47.1642,46.9568, 46.7498,46.5419,46.3335,46.1251,45.9163 ,45.6036,45.3947,45.1848,44.9755, 44.7677,44.5587,44.3497,44.1404,43.9298 ,43.7172,43.5065,43.295,43.0864,42.8749 ,42.6642,42.454,42.2428,41.9259,41.7137 ,41.5011,41.2857,41.178,41.1465,41.1954 ,41.2359,41.2679,41.3038,41.3051, 41.3062,41.6305,41.845,42.0564,42.2696, 42.48,42.6914,42.9012,43.2181,43.5334, 43.8489,44.0593,44.2689,44.5816,44.7908 ,45.0005,45.2089,45.4183,45.7326, 45.9411,46.1482,46.3567,46.5655,46.7735 ,47.0855,47.2931,47.4998,47.8106,48.018 ,48.2251,48.4312,48.6378,48.8439, 49.0504,49.3601,49.5657,49.8745,50.0796 ,50.2851,50.5928,50.7981,51.2078,51.617 ,51.7194,51.8389)
FOOTPRINT_POINT_LONGITUDE = (11.1229,10.4934,9.85849,9.09684, 9.07668,9.00317,9.04947,9.10502,9.14798 ,9.19938,9.2193,9.24843,9.26753,9.29537 ,9.32255,9.34018,9.35732,9.37415, 9.39117,9.40737,9.42385,9.43966,9.45549 ,9.47063,9.48529,9.49977,9.51387,9.5349 ,9.54845,9.56136,9.57439,9.58793, 9.60067,9.61329,9.6256,9.63716,9.64772, 9.65891,9.66962,9.68135,9.69172,9.70227 ,9.71287,9.72294,9.73769,9.74696, 9.75594,9.76375,9.76761,9.76906,10.2652 ,10.7373,11.1313,11.6904,11.7089, 11.7156,11.7022,11.6934,11.685,11.6762, 11.6677,11.6589,11.6503,11.6367,11.623, 11.609,11.5995,11.5899,11.5757,11.5659, 11.5558,11.5458,11.5355,11.5196,11.509, 11.4986,11.4877,11.4765,11.4654,11.4484 ,11.4369,11.4254,11.4076,11.3956, 11.3833,11.3712,11.3587,11.3461,11.3332 ,11.3135,11.3004,11.2802,11.2666, 11.2527,11.2316,11.2172,11.188,11.158, 11.1503,11.1229)
ORBIT_NUMBER = 20039
ORBITAL_ECCENTRICITY = 0.572
ORBITAL_INCLINATION = 86.99
ORBITAL_SEMIMAJOR_AXIS = 8788.07
PERIAPSIS_ALTITUDE = 377.71
PERIAPSIS_ARGUMENT_ANGLE = 127.53
PERIAPSIS_TIME = 2019-11-06T10:02:24.000Z
SPACECRAFT_ORIENTATION = (0.0,-1.0,0.0)
^MEX_ORIENTATION_DESC = "MEX_ORIENTATION_DESC.TXT"
SPACECRAFT_POINTING_MODE = INERT
^MEX_POINTING_DESC = "MEX_POINTING_DESC.TXT"
RIGHT_ASCENSION = 199.869
DECLINATION = -50.307
OFFSET_ANGLE = -1e+32
SPACECRAFT_SOLAR_DISTANCE = 2.45414e+08
TARGET_NAME = MARS
/* CAMERA DATA ELEMENTS */
DETECTOR_TEMPERATURE = 17.5549
FOCAL_PLANE_TEMPERATURE = 9.195
INST_CMPRS_NAME = "DISCRETE COSINE TRANSFORMATION (DCT)"
INST_CMPRS_RATIO = 8.72329
INST_CMPRS_QUALITY = 0
INST_CMPRS_QUANTZ_TBL_ID = 0
INSTRUMENT_TEMPERATURE = 11.6418
LENS_TEMPERATURE = 9.8067
MACROPIXEL_SIZE = 2
MISSING_FRAMES = 0
PIXEL_SUBSAMPLING_FLAG = N
SIGNAL_CHAIN_ID = 1
/* RADIOMETRIC DATA ELEMENTS */
BANDWIDTH = 180.0
CENTER_FILTER_WAVELENGTH = 677.0
RADIANCE_OFFSET = 3.11915
RADIANCE_SCALING_FACTOR = 0.020593
REFLECTANCE_SCALING_FACTOR = 0.000647084
MEX:REFLECTANCE_OFFSET = 0.0980113
/* IMAGE OBJECT DEFINITIONS */
OBJECT = IMAGE
  INTERCHANGE_FORMAT = BINARY
  LINES = 25063
  LINE_SAMPLES = 4468
  SAMPLE_TYPE = UNSIGNED_INTEGER
  SAMPLE_BITS = 8
  BANDS = 1
  BAND_STORAGE_TYPE = BAND_SEQUENTIAL
  MAXIMUM = 255
  MEAN = 132.735
  MINIMUM = 1
  STANDARD_DEVIATION = 35.3385
END_OBJECT = IMAGE
/* MAP OBJECT DEFINITIONS */
OBJECT = IMAGE_MAP_PROJECTION
  ^DATA_SET_MAP_PROJECTION_CATALOG= "DSMAP.CAT"
  A_AXIS_RADIUS = 3396.0
  B_AXIS_RADIUS = 3396.0
  C_AXIS_RADIUS = 3396.0
  CENTER_LATITUDE = 0.0
  CENTER_LONGITUDE = 10.0
  COORDINATE_SYSTEM_NAME = PLANETOGRAPHIC
  COORDINATE_SYSTEM_TYPE = "BODY-FIXED ROTATING"
  EASTERNMOST_LONGITUDE = 11.7156
  FIRST_STANDARD_PARALLEL = "N/A"
  LINE_FIRST_PIXEL = 1
  LINE_LAST_PIXEL = 25063
  LINE_PROJECTION_OFFSET = 122692.75
  MAP_PROJECTION_ROTATION = 0.0
  MAP_PROJECTION_TYPE = SINUSOIDAL
  MAP_RESOLUTION = 2370.85521546667
  MAP_SCALE = 0.025
  MAXIMUM_LATITUDE = 51.8389
  MINIMUM_LATITUDE = 41.1465
  POSITIVE_LONGITUDE_DIRECTION = EAST
  REFERENCE_LATITUDE = "N/A"
  REFERENCE_LONGITUDE = "N/A"
  SAMPLE_FIRST_PIXEL = 1
  SAMPLE_LAST_PIXEL = 4468
  SAMPLE_PROJECTION_OFFSET = 1670.25
  SECOND_STANDARD_PARALLEL = "N/A"
  WESTERNMOST_LONGITUDE = 9.003170000000001
END_OBJECT = IMAGE_MAP_PROJECTION
END
