PDS_VERSION_ID = PDS3
/* FILE DATA ELEMENTS */
RECORD_TYPE = UNDEFINED
/* POINTERS TO DATA OBJECTS */
^IMAGE = ("HK026_0000_S14.TIF")
/* IDENTIFICATION DATA ELEMENTS */
DATA_SET_ID = "MEX-M-HRSC-4-REFDR-MAPPROJECT-EXT7-V4.0"
DATA_SET_NAME = "MARS EXPRESS HRSC MAP PROJECTED REFDR EXTENSION7 V4.0"
DETECTOR_ID = MEX_HRSC_S1
EVENT_TYPE = "MARS-REGIONAL-STEREO-Vo-Te-Fl"
INSTRUMENT_HOST_ID = MEX
INSTRUMENT_HOST_NAME = "MARS EXPRESS"
INSTRUMENT_ID = HRSC
INSTRUMENT_NAME = "HIGH RESOLUTION STEREO CAMERA"
MISSION_NAME = "MARS EXPRESS"
MISSION_PHASE_NAME = ME_Phase_41
PROCESSING_LEVEL_ID = 4
PRODUCT_CREATION_TIME = 2023-01-28T19:11:08.000Z
PRODUCT_ID = "HK026_0000_S14.TIF"
RELEASE_ID = 0003
REVISION_ID = 0000
/* QUALITY DATA ELEMENTS */
DATA_QUALITY_ID = 1
DATA_QUALITY_DESC = "Data calculated based on original SPICE kernels"
/* TIME DATA ELEMENTS */
SPACECRAFT_CLOCK_START_COUNT = "1/0520787651.25696"
SPACECRAFT_CLOCK_STOP_COUNT = "1/0520787847.18728"
START_TIME = 2019-11-02T15:14:43.491Z
STOP_TIME = 2019-11-02T15:16:46.596Z
/* ORBITAL DATA ELEMENTS */
ASCENDING_NODE_LONGITUDE = 199.04
MAXIMUM_RESOLUTION = 0.0159
FOOTPRINT_POINT_LATITUDE = (52.275,52.2516,52.2268,52.2005,52.1726 ,52.1431,52.1039,52.1019,52.0146,51.784 ,51.4744,51.1646,51.0091,50.7765, 50.4673,50.1564,49.9234,49.7678,49.6123 ,49.3788,49.2232,49.0676,48.834,48.6006 ,48.4448,48.2886,48.055,47.8207,47.6645 ,47.4304,47.274,47.1174,46.8824,46.6483 ,46.4922,46.3352,46.1787,46.0224, 45.8657,45.6305,45.3958,45.2389,45.0042 ,44.7683,44.6115,44.4549,44.2979,44.219 ,44.1961,44.2351,44.2582,44.2817, 44.3003,44.3295,44.3307,44.3316,44.5655 ,44.7265,44.8856,45.0432,45.2,45.3595, 45.5181,45.6761,45.8338,45.9916,46.149, 46.3066,46.5417,46.6995,46.9361,47.0941 ,47.2509,47.4079,47.5644,47.722,47.8794 ,48.1156,48.2725,48.4294,48.5863, 48.7431,48.8997,49.135,49.2918,49.4483, 49.6047,49.7611,49.9175,50.0737,50.2298 ,50.3861,50.542,50.7759,51.0095,51.3989 ,51.7096,52.0975,52.175,52.275)
FOOTPRINT_POINT_LONGITUDE = (257.744,257.414,257.08,256.743,256.402 ,256.058,255.621,255.599,255.501, 255.536,255.58,255.622,255.643,255.674, 255.716,255.755,255.785,255.804,255.823 ,255.852,255.87,255.889,255.916,255.944 ,255.962,255.979,256.005,256.031, 256.048,256.073,256.089,256.105,256.129 ,256.153,256.169,256.184,256.199, 256.214,256.229,256.251,256.273,256.287 ,256.309,256.329,256.343,256.357,256.37 ,256.376,256.378,256.87,257.169,257.502 ,257.777,258.229,258.247,258.256, 258.243,258.235,258.227,258.218,258.209 ,258.201,258.192,258.184,258.175, 258.166,258.156,258.147,258.133,258.124 ,258.11,258.1,258.09,258.081,258.071, 258.061,258.051,258.036,258.025,258.015 ,258.004,257.994,257.983,257.967, 257.956,257.945,257.934,257.923,257.911 ,257.9,257.888,257.877,257.865,257.847, 257.829,257.798,257.773,257.741,257.735 ,257.744)
ORBIT_NUMBER = 20026
ORBITAL_ECCENTRICITY = 0.573
ORBITAL_INCLINATION = 86.98
ORBITAL_SEMIMAJOR_AXIS = 8795.87
PERIAPSIS_ALTITUDE = 375.81
PERIAPSIS_ARGUMENT_ANGLE = 129.77
PERIAPSIS_TIME = 2019-11-02T15:15:50.000Z
SPACECRAFT_ORIENTATION = (0.0,-1.0,0.0)
^MEX_ORIENTATION_DESC = "MEX_ORIENTATION_DESC.TXT"
SPACECRAFT_POINTING_MODE = ACROSSTRACK
^MEX_POINTING_DESC = "MEX_POINTING_DESC.TXT"
RIGHT_ASCENSION = -1e+32
DECLINATION = -1e+32
OFFSET_ANGLE = -0.956
SPACECRAFT_SOLAR_DISTANCE = 2.45796e+08
TARGET_NAME = MARS
/* CAMERA DATA ELEMENTS */
DETECTOR_TEMPERATURE = 17.351
FOCAL_PLANE_TEMPERATURE = 7.5638
INST_CMPRS_NAME = "DISCRETE COSINE TRANSFORMATION (DCT)"
INST_CMPRS_RATIO = 7.12472
INST_CMPRS_QUALITY = 0
INST_CMPRS_QUANTZ_TBL_ID = 0
INSTRUMENT_TEMPERATURE = 11.234
LENS_TEMPERATURE = 8.1755
MACROPIXEL_SIZE = 1
MISSING_FRAMES = 0
PIXEL_SUBSAMPLING_FLAG = N
SIGNAL_CHAIN_ID = 2
/* RADIOMETRIC DATA ELEMENTS */
BANDWIDTH = 180.0
CENTER_FILTER_WAVELENGTH = 677.0
RADIANCE_OFFSET = 4.13429
RADIANCE_SCALING_FACTOR = 0.0239036
REFLECTANCE_SCALING_FACTOR = 0.000753453
MEX:REFLECTANCE_OFFSET = 0.130315
/* IMAGE OBJECT DEFINITIONS */
OBJECT = IMAGE
  INTERCHANGE_FORMAT = BINARY
  LINES = 37710
  LINE_SAMPLES = 8641
  SAMPLE_TYPE = UNSIGNED_INTEGER
  SAMPLE_BITS = 8
  BANDS = 1
  BAND_STORAGE_TYPE = BAND_SEQUENTIAL
  MAXIMUM = 255
  MEAN = 121.357
  MINIMUM = 1
  STANDARD_DEVIATION = 16.4491
END_OBJECT = IMAGE
/* MAP OBJECT DEFINITIONS */
OBJECT = IMAGE_MAP_PROJECTION
  ^DATA_SET_MAP_PROJECTION_CATALOG= "DSMAP.CAT"
  A_AXIS_RADIUS = 3396.0
  B_AXIS_RADIUS = 3396.0
  C_AXIS_RADIUS = 3396.0
  CENTER_LATITUDE = 0.0
  CENTER_LONGITUDE = 257.0
  COORDINATE_SYSTEM_NAME = PLANETOGRAPHIC
  COORDINATE_SYSTEM_TYPE = "BODY-FIXED ROTATING"
  EASTERNMOST_LONGITUDE = 258.256
  FIRST_STANDARD_PARALLEL = "N/A"
  LINE_FIRST_PIXEL = 1
  LINE_LAST_PIXEL = 37710
  LINE_PROJECTION_OFFSET = 247335.0
  MAP_PROJECTION_ROTATION = 0.0
  MAP_PROJECTION_TYPE = SINUSOIDAL
  MAP_RESOLUTION = 4741.71043093333
  MAP_SCALE = 0.0125
  MAXIMUM_LATITUDE = 52.275
  MINIMUM_LATITUDE = 44.1961
  POSITIVE_LONGITUDE_DIRECTION = EAST
  REFERENCE_LATITUDE = "N/A"
  REFERENCE_LONGITUDE = "N/A"
  SAMPLE_FIRST_PIXEL = 1
  SAMPLE_LAST_PIXEL = 8641
  SAMPLE_PROJECTION_OFFSET = 4332.0
  SECOND_STANDARD_PARALLEL = "N/A"
  WESTERNMOST_LONGITUDE = 255.501
END_OBJECT = IMAGE_MAP_PROJECTION
END
