PDS_VERSION_ID = PDS3
/* FILE DATA ELEMENTS */
RECORD_TYPE = UNDEFINED
/* POINTERS TO DATA OBJECTS */
^IMAGE = ("HK012_0000_P24.TIF")
/* IDENTIFICATION DATA ELEMENTS */
DATA_SET_ID = "MEX-M-HRSC-4-REFDR-MAPPROJECT-EXT7-V4.0"
DATA_SET_NAME = "MARS EXPRESS HRSC MAP PROJECTED REFDR EXTENSION7 V4.0"
DETECTOR_ID = MEX_HRSC_P2
EVENT_TYPE = "MARS-REGIONAL-STEREO-Vo-Te-Fl"
INSTRUMENT_HOST_ID = MEX
INSTRUMENT_HOST_NAME = "MARS EXPRESS"
INSTRUMENT_ID = HRSC
INSTRUMENT_NAME = "HIGH RESOLUTION STEREO CAMERA"
MISSION_NAME = "MARS EXPRESS"
MISSION_PHASE_NAME = ME_Phase_41
PROCESSING_LEVEL_ID = 4
PRODUCT_CREATION_TIME = 2023-01-28T19:11:08.000Z
PRODUCT_ID = "HK012_0000_P24.TIF"
RELEASE_ID = 0003
REVISION_ID = 0000
/* QUALITY DATA ELEMENTS */
DATA_QUALITY_ID = 1
DATA_QUALITY_DESC = "Data calculated based on original SPICE kernels"
/* TIME DATA ELEMENTS */
SPACECRAFT_CLOCK_START_COUNT = "1/0520435681.24872"
SPACECRAFT_CLOCK_STOP_COUNT = "1/0520435877.25397"
START_TIME = 2019-10-29T13:29:30.988Z
STOP_TIME = 2019-10-29T13:31:35.320Z
/* ORBITAL DATA ELEMENTS */
ASCENDING_NODE_LONGITUDE = 199.3
MAXIMUM_RESOLUTION = 0.0306
FOOTPRINT_POINT_LATITUDE = (51.288,51.2751,51.265,51.2543,51.243, 51.2311,51.2186,51.2178,51.2698,51.1096 ,50.8693,50.6292,50.3894,50.2294, 50.0694,49.9097,49.7498,49.59,49.3502, 49.1903,49.0304,48.8706,48.7109,48.4715 ,48.3119,48.1521,47.9923,47.7525, 47.5926,47.3528,47.1928,46.9532,46.7929 ,46.6328,46.4725,46.2326,46.0732, 45.9131,45.7539,45.5939,45.4339,45.2731 ,44.9547,44.7164,44.398,44.0814,43.6864 ,43.371,43.2923,43.2671,43.2764,43.2851 ,43.2933,43.3038,43.3112,43.3185, 43.3189,43.3197,43.7943,44.0317,44.3482 ,44.6653,44.9826,45.1424,45.3815, 45.5426,45.7037,45.8642,46.024,46.1842, 46.3435,46.5043,46.6646,46.9052,47.0658 ,47.2269,47.4681,47.7086,47.8691, 48.0296,48.1898,48.4305,48.591,48.751, 48.9116,49.1521,49.3926,49.553,49.713, 49.8733,50.0335,50.1939,50.3544,50.5146 ,50.6752,50.8359,51.0769,51.2373, 51.3179,51.288)
FOOTPRINT_POINT_LONGITUDE = (250.096,249.647,249.325,249.004, 248.686,248.371,248.058,248.038,248.026 ,248.038,248.056,248.073,248.089,248.1, 248.111,248.122,248.132,248.142,248.158 ,248.167,248.177,248.187,248.196,248.21 ,248.219,248.228,248.236,248.249, 248.258,248.27,248.278,248.29,248.297, 248.305,248.312,248.323,248.33,248.337, 248.344,248.351,248.358,248.364,248.377 ,248.386,248.398,248.409,248.422, 248.432,248.435,248.435,248.712,248.99, 249.271,249.642,249.928,250.234,250.252 ,250.259,250.254,250.251,250.247, 250.244,250.24,250.239,250.237,250.238, 250.239,250.238,250.237,250.236,250.234 ,250.234,250.233,250.232,250.231,250.23 ,250.229,250.227,250.226,250.224, 250.222,250.219,250.218,250.215,250.213 ,250.21,250.206,250.203,250.2,250.198, 250.195,250.192,250.189,250.186,250.183 ,250.18,250.175,250.172,250.171, 250.096)
ORBIT_NUMBER = 20012
ORBITAL_ECCENTRICITY = 0.573
ORBITAL_INCLINATION = 86.99
ORBITAL_SEMIMAJOR_AXIS = 8800.42
PERIAPSIS_ALTITUDE = 374.38
PERIAPSIS_ARGUMENT_ANGLE = 132.18
PERIAPSIS_TIME = 2019-10-29T13:30:03.000Z
SPACECRAFT_ORIENTATION = (0.0,-1.0,0.0)
^MEX_ORIENTATION_DESC = "MEX_ORIENTATION_DESC.TXT"
SPACECRAFT_POINTING_MODE = ACROSSTRACK
^MEX_POINTING_DESC = "MEX_POINTING_DESC.TXT"
RIGHT_ASCENSION = -1e+32
DECLINATION = -1e+32
OFFSET_ANGLE = 0.6
SPACECRAFT_SOLAR_DISTANCE = 2.46187e+08
TARGET_NAME = MARS
/* CAMERA DATA ELEMENTS */
DETECTOR_TEMPERATURE = 17.7588
FOCAL_PLANE_TEMPERATURE = 7.3599
INST_CMPRS_NAME = "DISCRETE COSINE TRANSFORMATION (DCT)"
INST_CMPRS_RATIO = 5.23664
INST_CMPRS_QUALITY = 0
INST_CMPRS_QUANTZ_TBL_ID = 0
INSTRUMENT_TEMPERATURE = 10.6223
LENS_TEMPERATURE = 7.3599
MACROPIXEL_SIZE = 2
MISSING_FRAMES = 0
PIXEL_SUBSAMPLING_FLAG = N
SIGNAL_CHAIN_ID = 3
/* RADIOMETRIC DATA ELEMENTS */
BANDWIDTH = 177.0
CENTER_FILTER_WAVELENGTH = 676.5
RADIANCE_OFFSET = 3.33078
RADIANCE_SCALING_FACTOR = 0.0264969
REFLECTANCE_SCALING_FACTOR = 0.000851493
MEX:REFLECTANCE_OFFSET = 0.107036
/* IMAGE OBJECT DEFINITIONS */
OBJECT = IMAGE
  INTERCHANGE_FORMAT = BINARY
  LINES = 18995
  LINE_SAMPLES = 3598
  SAMPLE_TYPE = UNSIGNED_INTEGER
  SAMPLE_BITS = 8
  BANDS = 1
  BAND_STORAGE_TYPE = BAND_SEQUENTIAL
  MAXIMUM = 255
  MEAN = 140.62
  MINIMUM = 1
  STANDARD_DEVIATION = 14.191
END_OBJECT = IMAGE
/* MAP OBJECT DEFINITIONS */
OBJECT = IMAGE_MAP_PROJECTION
  ^DATA_SET_MAP_PROJECTION_CATALOG= "DSMAP.CAT"
  A_AXIS_RADIUS = 3396.0
  B_AXIS_RADIUS = 3396.0
  C_AXIS_RADIUS = 3396.0
  CENTER_LATITUDE = 0.0
  CENTER_LONGITUDE = 249.0
  COORDINATE_SYSTEM_NAME = PLANETOGRAPHIC
  COORDINATE_SYSTEM_TYPE = "BODY-FIXED ROTATING"
  EASTERNMOST_LONGITUDE = 250.259
  FIRST_STANDARD_PARALLEL = "N/A"
  LINE_FIRST_PIXEL = 1
  LINE_LAST_PIXEL = 18995
  LINE_PROJECTION_OFFSET = 121686.75
  MAP_PROJECTION_ROTATION = 0.0
  MAP_PROJECTION_TYPE = SINUSOIDAL
  MAP_RESOLUTION = 2370.85521546667
  MAP_SCALE = 0.025
  MAXIMUM_LATITUDE = 51.3179
  MINIMUM_LATITUDE = 43.2671
  POSITIVE_LONGITUDE_DIRECTION = EAST
  REFERENCE_LATITUDE = "N/A"
  REFERENCE_LONGITUDE = "N/A"
  SAMPLE_FIRST_PIXEL = 1
  SAMPLE_LAST_PIXEL = 3598
  SAMPLE_PROJECTION_OFFSET = 1452.75
  SECOND_STANDARD_PARALLEL = "N/A"
  WESTERNMOST_LONGITUDE = 248.026
END_OBJECT = IMAGE_MAP_PROJECTION
END
