PDS_VERSION_ID = PDS3
/* FILE DATA ELEMENTS */
RECORD_TYPE = UNDEFINED
/* POINTERS TO DATA OBJECTS */
^IMAGE = ("HK008_0000_P24.TIF")
/* IDENTIFICATION DATA ELEMENTS */
DATA_SET_ID = "MEX-M-HRSC-4-REFDR-MAPPROJECT-EXT7-V4.0"
DATA_SET_NAME = "MARS EXPRESS HRSC MAP PROJECTED REFDR EXTENSION7 V4.0"
DETECTOR_ID = MEX_HRSC_P2
EVENT_TYPE = "MARS-REGIONAL-STEREO-Te"
INSTRUMENT_HOST_ID = MEX
INSTRUMENT_HOST_NAME = "MARS EXPRESS"
INSTRUMENT_ID = HRSC
INSTRUMENT_NAME = "HIGH RESOLUTION STEREO CAMERA"
MISSION_NAME = "MARS EXPRESS"
MISSION_PHASE_NAME = ME_Phase_41
PROCESSING_LEVEL_ID = 4
PRODUCT_CREATION_TIME = 2023-01-28T19:11:08.000Z
PRODUCT_ID = "HK008_0000_P24.TIF"
RELEASE_ID = 0003
REVISION_ID = 0000
/* QUALITY DATA ELEMENTS */
DATA_QUALITY_ID = 1
DATA_QUALITY_DESC = "Data calculated based on original SPICE kernels"
/* TIME DATA ELEMENTS */
SPACECRAFT_CLOCK_START_COUNT = "1/0520335139.25690"
SPACECRAFT_CLOCK_STOP_COUNT = "1/0520335266.57637"
START_TIME = 2019-10-28T09:33:42.112Z
STOP_TIME = 2019-10-28T09:34:46.831Z
/* ORBITAL DATA ELEMENTS */
ASCENDING_NODE_LONGITUDE = 199.37
MAXIMUM_RESOLUTION = 0.0306
FOOTPRINT_POINT_LATITUDE = (50.4575,50.4474,50.4399,50.4293, 50.4154,50.4073,50.399,50.3852,50.3765, 50.3631,50.3528,50.3517,50.4074,50.2676 ,50.1739,50.0801,49.9867,49.8932, 49.7533,49.66,49.5667,49.4269,49.3336, 49.1941,49.0551,48.962,48.8688,48.7756, 48.6827,48.5432,48.4501,48.3104,48.1715 ,47.9422,47.7577,47.5736,47.4801, 47.3384,47.2432,47.1009,46.8686,46.6828 ,46.5443,46.3594,46.2206,45.989,45.8499 ,45.8039,45.7589,45.7684,45.7768, 45.7871,45.7952,45.806,45.8149,45.8242, 45.839,45.8489,45.8575,45.8584,45.8592, 46.0447,46.323,46.5087,46.6479,46.7874, 46.973,47.066,47.159,47.2984,47.4841, 47.5772,47.7164,47.8097,47.903,48.0889, 48.1823,48.2758,48.4186,48.5132,48.6076 ,48.701,48.7956,48.9363,49.1193,49.2563 ,49.3497,49.4436,49.5371,49.6304, 49.7241,49.8638,49.9575,50.0513,50.1453 ,50.2393,50.3333,50.4273,50.4746, 50.4575)
FOOTPRINT_POINT_LONGITUDE = (297.529,297.315,297.159,296.945, 296.673,296.518,296.362,296.11,295.955, 295.722,295.547,295.528,295.473,295.487 ,295.497,295.507,295.517,295.526,295.54 ,295.549,295.558,295.572,295.58,295.593 ,295.606,295.614,295.623,295.632,295.64 ,295.652,295.66,295.673,295.684,295.701 ,295.716,295.729,295.738,295.751, 295.761,295.775,295.793,295.808,295.818 ,295.831,295.841,295.858,295.868, 295.871,295.874,296.036,296.18,296.361, 296.505,296.703,296.865,297.046,297.335 ,297.534,297.715,297.733,297.739, 297.733,297.724,297.717,297.713,297.708 ,297.701,297.698,297.695,297.69,297.683 ,297.679,297.674,297.671,297.667,297.66 ,297.657,297.653,297.65,297.647,297.644 ,297.641,297.638,297.632,297.623, 297.615,297.611,297.608,297.604,297.6, 297.596,297.59,297.586,297.582,297.579, 297.575,297.571,297.567,297.565, 297.529)
ORBIT_NUMBER = 20008
ORBITAL_ECCENTRICITY = 0.573
ORBITAL_INCLINATION = 86.99
ORBITAL_SEMIMAJOR_AXIS = 8796.42
PERIAPSIS_ALTITUDE = 374.58
PERIAPSIS_ARGUMENT_ANGLE = 132.92
PERIAPSIS_TIME = 2019-10-28T09:34:12.000Z
SPACECRAFT_ORIENTATION = (0.0,-1.0,0.0)
^MEX_ORIENTATION_DESC = "MEX_ORIENTATION_DESC.TXT"
SPACECRAFT_POINTING_MODE = INERT
^MEX_POINTING_DESC = "MEX_POINTING_DESC.TXT"
RIGHT_ASCENSION = 202.342
DECLINATION = -44.853
OFFSET_ANGLE = -1e+32
SPACECRAFT_SOLAR_DISTANCE = 2.46294e+08
TARGET_NAME = MARS
/* CAMERA DATA ELEMENTS */
DETECTOR_TEMPERATURE = 18.5744
FOCAL_PLANE_TEMPERATURE = 7.7677
INST_CMPRS_NAME = "DISCRETE COSINE TRANSFORMATION (DCT)"
INST_CMPRS_RATIO = 5.05431
INST_CMPRS_QUALITY = 0
INST_CMPRS_QUANTZ_TBL_ID = 0
INSTRUMENT_TEMPERATURE = 10.8262
LENS_TEMPERATURE = 8.1755
MACROPIXEL_SIZE = 2
MISSING_FRAMES = 0
PIXEL_SUBSAMPLING_FLAG = N
SIGNAL_CHAIN_ID = 3
/* RADIOMETRIC DATA ELEMENTS */
BANDWIDTH = 177.0
CENTER_FILTER_WAVELENGTH = 676.5
RADIANCE_OFFSET = 1.97911
RADIANCE_SCALING_FACTOR = 0.0228891
REFLECTANCE_SCALING_FACTOR = 0.000736198
MEX:REFLECTANCE_OFFSET = 0.0636557
/* IMAGE OBJECT DEFINITIONS */
OBJECT = IMAGE
  INTERCHANGE_FORMAT = BINARY
  LINES = 11257
  LINE_SAMPLES = 3545
  SAMPLE_TYPE = UNSIGNED_INTEGER
  SAMPLE_BITS = 8
  BANDS = 1
  BAND_STORAGE_TYPE = BAND_SEQUENTIAL
  MAXIMUM = 255
  MEAN = 161.153
  MINIMUM = 1
  STANDARD_DEVIATION = 22.5314
END_OBJECT = IMAGE
/* MAP OBJECT DEFINITIONS */
OBJECT = IMAGE_MAP_PROJECTION
  ^DATA_SET_MAP_PROJECTION_CATALOG= "DSMAP.CAT"
  A_AXIS_RADIUS = 3396.0
  B_AXIS_RADIUS = 3396.0
  C_AXIS_RADIUS = 3396.0
  CENTER_LATITUDE = 0.0
  CENTER_LONGITUDE = 297.0
  COORDINATE_SYSTEM_NAME = PLANETOGRAPHIC
  COORDINATE_SYSTEM_TYPE = "BODY-FIXED ROTATING"
  EASTERNMOST_LONGITUDE = 297.739
  FIRST_STANDARD_PARALLEL = "N/A"
  LINE_FIRST_PIXEL = 1
  LINE_LAST_PIXEL = 11257
  LINE_PROJECTION_OFFSET = 119756.25
  MAP_PROJECTION_ROTATION = 0.0
  MAP_PROJECTION_TYPE = SINUSOIDAL
  MAP_RESOLUTION = 2370.85521546667
  MAP_SCALE = 0.025
  MAXIMUM_LATITUDE = 50.4746
  MINIMUM_LATITUDE = 45.7589
  POSITIVE_LONGITUDE_DIRECTION = EAST
  REFERENCE_LATITUDE = "N/A"
  REFERENCE_LONGITUDE = "N/A"
  SAMPLE_FIRST_PIXEL = 1
  SAMPLE_LAST_PIXEL = 3545
  SAMPLE_PROJECTION_OFFSET = 2174.75
  SECOND_STANDARD_PARALLEL = "N/A"
  WESTERNMOST_LONGITUDE = 295.473
END_OBJECT = IMAGE_MAP_PROJECTION
END
