PDS_VERSION_ID = PDS3
/* FILE DATA ELEMENTS */
RECORD_TYPE = UNDEFINED
/* POINTERS TO DATA OBJECTS */
^IMAGE = ("HK008_0000_GR4.TIF")
/* IDENTIFICATION DATA ELEMENTS */
DATA_SET_ID = "MEX-M-HRSC-4-REFDR-MAPPROJECT-EXT7-V4.0"
DATA_SET_NAME = "MARS EXPRESS HRSC MAP PROJECTED REFDR EXTENSION7 V4.0"
DETECTOR_ID = MEX_HRSC_GREEN
EVENT_TYPE = "MARS-REGIONAL-STEREO-Te"
INSTRUMENT_HOST_ID = MEX
INSTRUMENT_HOST_NAME = "MARS EXPRESS"
INSTRUMENT_ID = HRSC
INSTRUMENT_NAME = "HIGH RESOLUTION STEREO CAMERA"
MISSION_NAME = "MARS EXPRESS"
MISSION_PHASE_NAME = ME_Phase_41
PROCESSING_LEVEL_ID = 4
PRODUCT_CREATION_TIME = 2023-01-28T19:11:08.000Z
PRODUCT_ID = "HK008_0000_GR4.TIF"
RELEASE_ID = 0003
REVISION_ID = 0000
/* QUALITY DATA ELEMENTS */
DATA_QUALITY_ID = 1
DATA_QUALITY_DESC = "Data calculated based on original SPICE kernels"
/* TIME DATA ELEMENTS */
SPACECRAFT_CLOCK_START_COUNT = "1/0520335139.25690"
SPACECRAFT_CLOCK_STOP_COUNT = "1/0520335266.57637"
START_TIME = 2019-10-28T09:33:16.659Z
STOP_TIME = 2019-10-28T09:34:21.686Z
/* ORBITAL DATA ELEMENTS */
ASCENDING_NODE_LONGITUDE = 199.37
MAXIMUM_RESOLUTION = 0.0601
FOOTPRINT_POINT_LATITUDE = (50.5084,50.4985,50.4855,50.4746, 50.4671,50.4526,50.4446,50.4332,50.4204 ,50.4061,50.405,50.3985,50.3062,50.1218 ,49.9374,49.8452,49.7069,49.6146, 49.4763,49.2918,49.1995,49.061,48.8765, 48.7381,48.6458,48.5535,48.369,48.2768, 48.1841,48.0448,47.9525,47.86,47.7209, 47.6285,47.444,47.2617,47.0313,46.8929, 46.7083,46.5235,46.431,46.3386,46.2462, 46.1538,46.0614,45.9689,45.8304,45.7841 ,45.7638,45.7783,45.7873,45.799,45.8112 ,45.8184,45.8273,45.8365,45.8487, 45.8595,45.8603,45.8617,46.0468,46.1394 ,46.2319,46.3245,46.4634,46.5559, 46.6948,46.8337,46.9724,47.065,47.2038, 47.2962,47.4351,47.5739,47.6665,47.8052 ,47.8977,47.9902,48.0827,48.2213, 48.4524,48.6368,48.7292,48.9141,49.0528 ,49.192,49.2848,49.3773,49.4698,49.6084 ,49.7009,49.7934,49.8859,49.9784, 50.0709,50.2096,50.3483,50.4408,50.487, 50.5084)
FOOTPRINT_POINT_LONGITUDE = (297.625,297.401,297.122,296.899,296.75 ,296.472,296.324,296.12,295.897,295.656 ,295.637,295.594,295.603,295.622,295.64 ,295.649,295.662,295.671,295.684,295.7, 295.708,295.721,295.737,295.749,295.757 ,295.765,295.781,295.788,295.795, 295.804,295.812,295.819,295.829,295.836 ,295.851,295.87,295.888,295.899,295.913 ,295.926,295.932,295.939,295.945, 295.952,295.958,295.964,295.974,295.977 ,295.978,296.221,296.378,296.587, 296.814,296.954,297.128,297.321,297.583 ,297.828,297.846,297.852,297.845, 297.842,297.838,297.835,297.83,297.827, 297.821,297.816,297.811,297.807,297.802 ,297.799,297.793,297.788,297.784, 297.778,297.775,297.771,297.767,297.762 ,297.753,297.749,297.745,297.738, 297.733,297.724,297.718,297.714,297.71, 297.705,297.7,297.697,297.692,297.688, 297.684,297.678,297.672,297.668,297.666 ,297.625)
ORBIT_NUMBER = 20008
ORBITAL_ECCENTRICITY = 0.573
ORBITAL_INCLINATION = 86.99
ORBITAL_SEMIMAJOR_AXIS = 8796.42
PERIAPSIS_ALTITUDE = 374.58
PERIAPSIS_ARGUMENT_ANGLE = 132.92
PERIAPSIS_TIME = 2019-10-28T09:34:12.000Z
SPACECRAFT_ORIENTATION = (0.0,-1.0,0.0)
^MEX_ORIENTATION_DESC = "MEX_ORIENTATION_DESC.TXT"
SPACECRAFT_POINTING_MODE = INERT
^MEX_POINTING_DESC = "MEX_POINTING_DESC.TXT"
RIGHT_ASCENSION = 202.342
DECLINATION = -44.853
OFFSET_ANGLE = -1e+32
SPACECRAFT_SOLAR_DISTANCE = 2.46294e+08
TARGET_NAME = MARS
/* CAMERA DATA ELEMENTS */
DETECTOR_TEMPERATURE = 18.3705
FOCAL_PLANE_TEMPERATURE = 7.7677
INST_CMPRS_NAME = "DISCRETE COSINE TRANSFORMATION (DCT)"
INST_CMPRS_RATIO = 8.23594
INST_CMPRS_QUALITY = 0
INST_CMPRS_QUANTZ_TBL_ID = 0
INSTRUMENT_TEMPERATURE = 10.8262
LENS_TEMPERATURE = 8.1755
MACROPIXEL_SIZE = 4
MISSING_FRAMES = 0
PIXEL_SUBSAMPLING_FLAG = N
SIGNAL_CHAIN_ID = 2
/* RADIOMETRIC DATA ELEMENTS */
BANDWIDTH = 88.0
CENTER_FILTER_WAVELENGTH = 538.0
RADIANCE_OFFSET = 0.941741
RADIANCE_SCALING_FACTOR = 0.00494012
REFLECTANCE_SCALING_FACTOR = 0.000258009
MEX:REFLECTANCE_OFFSET = 0.0491846
/* IMAGE OBJECT DEFINITIONS */
OBJECT = IMAGE
  INTERCHANGE_FORMAT = BINARY
  LINES = 5629
  LINE_SAMPLES = 1773
  SAMPLE_TYPE = UNSIGNED_INTEGER
  SAMPLE_BITS = 8
  BANDS = 1
  BAND_STORAGE_TYPE = BAND_SEQUENTIAL
  MAXIMUM = 255
  MEAN = 155.552
  MINIMUM = 1
  STANDARD_DEVIATION = 18.955
END_OBJECT = IMAGE
/* MAP OBJECT DEFINITIONS */
OBJECT = IMAGE_MAP_PROJECTION
  ^DATA_SET_MAP_PROJECTION_CATALOG= "DSMAP.CAT"
  A_AXIS_RADIUS = 3396.0
  B_AXIS_RADIUS = 3396.0
  C_AXIS_RADIUS = 3396.0
  CENTER_LATITUDE = 0.0
  CENTER_LONGITUDE = 297.0
  COORDINATE_SYSTEM_NAME = PLANETOGRAPHIC
  COORDINATE_SYSTEM_TYPE = "BODY-FIXED ROTATING"
  EASTERNMOST_LONGITUDE = 297.852
  FIRST_STANDARD_PARALLEL = "N/A"
  LINE_FIRST_PIXEL = 1
  LINE_LAST_PIXEL = 5629
  LINE_PROJECTION_OFFSET = 59877.875
  MAP_PROJECTION_ROTATION = 0.0
  MAP_PROJECTION_TYPE = SINUSOIDAL
  MAP_RESOLUTION = 1185.42760773333
  MAP_SCALE = 0.05
  MAXIMUM_LATITUDE = 50.5084
  MINIMUM_LATITUDE = 45.7638
  POSITIVE_LONGITUDE_DIRECTION = EAST
  REFERENCE_LATITUDE = "N/A"
  REFERENCE_LONGITUDE = "N/A"
  SAMPLE_FIRST_PIXEL = 1
  SAMPLE_LAST_PIXEL = 1773
  SAMPLE_PROJECTION_OFFSET = 1087.125
  SECOND_STANDARD_PARALLEL = "N/A"
  WESTERNMOST_LONGITUDE = 295.594
END_OBJECT = IMAGE_MAP_PROJECTION
END
