PDS_VERSION_ID = PDS3
/* FILE DATA ELEMENTS */
RECORD_TYPE = UNDEFINED
/* POINTERS TO DATA OBJECTS */
^IMAGE = ("HK007_0000_P14.TIF")
/* IDENTIFICATION DATA ELEMENTS */
DATA_SET_ID = "MEX-M-HRSC-4-REFDR-MAPPROJECT-EXT7-V4.0"
DATA_SET_NAME = "MARS EXPRESS HRSC MAP PROJECTED REFDR EXTENSION7 V4.0"
DETECTOR_ID = MEX_HRSC_P1
EVENT_TYPE = "MARS-REGIONAL-STEREO-Gl-Pf-Mw"
INSTRUMENT_HOST_ID = MEX
INSTRUMENT_HOST_NAME = "MARS EXPRESS"
INSTRUMENT_ID = HRSC
INSTRUMENT_NAME = "HIGH RESOLUTION STEREO CAMERA"
MISSION_NAME = "MARS EXPRESS"
MISSION_PHASE_NAME = ME_Phase_41
PROCESSING_LEVEL_ID = 4
PRODUCT_CREATION_TIME = 2023-01-28T19:11:08.000Z
PRODUCT_ID = "HK007_0000_P14.TIF"
RELEASE_ID = 0003
REVISION_ID = 0000
/* QUALITY DATA ELEMENTS */
DATA_QUALITY_ID = 1
DATA_QUALITY_DESC = "Data calculated based on original SPICE kernels"
/* TIME DATA ELEMENTS */
SPACECRAFT_CLOCK_START_COUNT = "1/0520309904.25038"
SPACECRAFT_CLOCK_STOP_COUNT = "1/0520310120.31908"
START_TIME = 2019-10-28T02:32:29.358Z
STOP_TIME = 2019-10-28T02:34:54.087Z
/* ORBITAL DATA ELEMENTS */
ASCENDING_NODE_LONGITUDE = 199.38
MAXIMUM_RESOLUTION = 0.0309
FOOTPRINT_POINT_LATITUDE = (55.6544,55.6398,55.6281,55.6166, 55.6031,55.5753,55.5743,55.5049,55.2355 ,54.8757,54.4255,54.0645,53.7935, 53.6128,53.4318,53.2506,53.0692,52.7972 ,52.5249,52.3432,52.0702,51.7971,51.615 ,51.4329,51.1588,50.8851,50.7023, 50.5198,50.3369,50.1537,49.9704,49.7871 ,49.6039,49.4203,49.237,48.9614,48.7777 ,48.5938,48.4099,48.226,48.0417,47.7651 ,47.5807,47.3041,47.0269,46.7497, 46.4726,46.3802,46.363,46.3846,46.4005, 46.4103,46.411,46.4116,46.597,46.8739, 47.0592,47.2443,47.4293,47.6146,47.7998 ,47.9841,48.169,48.3539,48.5386,48.817, 49.0925,49.2771,49.4612,49.6445,49.8293 ,50.0126,50.1964,50.3804,50.5639, 50.7472,50.9303,51.1138,51.2972,51.4805 ,51.6637,51.9383,52.3017,52.5783,52.851 ,53.0331,53.2156,53.3975,53.5796, 53.7618,53.943,54.1246,54.3059,54.4872, 54.6683,54.8497,55.121,55.4825,55.5727, 55.6544)
FOOTPRINT_POINT_LONGITUDE = (39.5261,38.9473,38.5539,38.2073, 37.8379,37.1683,37.1452,37.0921,37.1313 ,37.1823,37.2442,37.2919,37.327,37.3499 ,37.3725,37.3947,37.4165,37.4489, 37.4805,37.5012,37.5315,37.5613,37.5809 ,37.6002,37.6282,37.656,37.6741,37.6921 ,37.7097,37.7269,37.7439,37.7606, 37.7772,37.7934,37.8096,37.8331,37.8485 ,37.8637,37.8786,37.8935,37.9078,37.929 ,37.9428,37.9633,37.9831,38.0024, 38.0215,38.0277,38.0289,38.6225,39.289, 39.92,39.9383,39.945,39.9398,39.9327, 39.9273,39.9219,39.9165,39.9108,39.905, 39.8997,39.8939,39.8879,39.882,39.8718, 39.8635,39.857,39.8508,39.8451,39.838, 39.832,39.8254,39.8186,39.8119,39.8052, 39.7986,39.7915,39.7842,39.7769,39.7694 ,39.7582,39.7448,39.7308,39.7196, 39.7117,39.7033,39.6951,39.6866,39.6778 ,39.6696,39.6609,39.6522,39.6433, 39.6343,39.6249,39.611,39.5919,39.5871, 39.5261)
ORBIT_NUMBER = 20007
ORBITAL_ECCENTRICITY = 0.573
ORBITAL_INCLINATION = 86.98
ORBITAL_SEMIMAJOR_AXIS = 8799.94
PERIAPSIS_ALTITUDE = 374.54
PERIAPSIS_ARGUMENT_ANGLE = 133.08
PERIAPSIS_TIME = 2019-10-28T02:35:09.000Z
SPACECRAFT_ORIENTATION = (0.0,-1.0,0.0)
^MEX_ORIENTATION_DESC = "MEX_ORIENTATION_DESC.TXT"
SPACECRAFT_POINTING_MODE = NADIR
^MEX_POINTING_DESC = "MEX_POINTING_DESC.TXT"
RIGHT_ASCENSION = -1e+32
DECLINATION = -1e+32
OFFSET_ANGLE = -1e+32
SPACECRAFT_SOLAR_DISTANCE = 2.46321e+08
TARGET_NAME = MARS
/* CAMERA DATA ELEMENTS */
DETECTOR_TEMPERATURE = 17.1471
FOCAL_PLANE_TEMPERATURE = 7.9716
INST_CMPRS_NAME = "DISCRETE COSINE TRANSFORMATION (DCT)"
INST_CMPRS_RATIO = 7.69346
INST_CMPRS_QUALITY = 0
INST_CMPRS_QUANTZ_TBL_ID = 0
INSTRUMENT_TEMPERATURE = 10.8262
LENS_TEMPERATURE = 8.3794
MACROPIXEL_SIZE = 2
MISSING_FRAMES = 0
PIXEL_SUBSAMPLING_FLAG = N
SIGNAL_CHAIN_ID = 3
/* RADIOMETRIC DATA ELEMENTS */
BANDWIDTH = 174.0
CENTER_FILTER_WAVELENGTH = 675.0
RADIANCE_OFFSET = 3.10408
RADIANCE_SCALING_FACTOR = 0.0209221
REFLECTANCE_SCALING_FACTOR = 0.000682798
MEX:REFLECTANCE_OFFSET = 0.101302
/* IMAGE OBJECT DEFINITIONS */
OBJECT = IMAGE
  INTERCHANGE_FORMAT = BINARY
  LINES = 21872
  LINE_SAMPLES = 4079
  SAMPLE_TYPE = UNSIGNED_INTEGER
  SAMPLE_BITS = 8
  BANDS = 1
  BAND_STORAGE_TYPE = BAND_SEQUENTIAL
  MAXIMUM = 255
  MEAN = 101.601
  MINIMUM = 1
  STANDARD_DEVIATION = 24.0535
END_OBJECT = IMAGE
/* MAP OBJECT DEFINITIONS */
OBJECT = IMAGE_MAP_PROJECTION
  ^DATA_SET_MAP_PROJECTION_CATALOG= "DSMAP.CAT"
  A_AXIS_RADIUS = 3396.0
  B_AXIS_RADIUS = 3396.0
  C_AXIS_RADIUS = 3396.0
  CENTER_LATITUDE = 0.0
  CENTER_LONGITUDE = 39.0
  COORDINATE_SYSTEM_NAME = PLANETOGRAPHIC
  COORDINATE_SYSTEM_TYPE = "BODY-FIXED ROTATING"
  EASTERNMOST_LONGITUDE = 39.945
  FIRST_STANDARD_PARALLEL = "N/A"
  LINE_FIRST_PIXEL = 1
  LINE_LAST_PIXEL = 21872
  LINE_PROJECTION_OFFSET = 131811.75
  MAP_PROJECTION_ROTATION = 0.0
  MAP_PROJECTION_TYPE = SINUSOIDAL
  MAP_RESOLUTION = 2370.85521546667
  MAP_SCALE = 0.025
  MAXIMUM_LATITUDE = 55.6544
  MINIMUM_LATITUDE = 46.363
  POSITIVE_LONGITUDE_DIRECTION = EAST
  REFERENCE_LATITUDE = "N/A"
  REFERENCE_LONGITUDE = "N/A"
  SAMPLE_FIRST_PIXEL = 1
  SAMPLE_LAST_PIXEL = 4079
  SAMPLE_PROJECTION_OFFSET = 2542.25
  SECOND_STANDARD_PARALLEL = "N/A"
  WESTERNMOST_LONGITUDE = 37.0921
END_OBJECT = IMAGE_MAP_PROJECTION
END
