PDS_VERSION_ID = PDS3
/* FILE DATA ELEMENTS */
RECORD_TYPE = UNDEFINED
/* POINTERS TO DATA OBJECTS */
^IMAGE = ("HK004_0000_S24.TIF")
/* IDENTIFICATION DATA ELEMENTS */
DATA_SET_ID = "MEX-M-HRSC-4-REFDR-MAPPROJECT-EXT7-V4.0"
DATA_SET_NAME = "MARS EXPRESS HRSC MAP PROJECTED REFDR EXTENSION7 V4.0"
DETECTOR_ID = MEX_HRSC_S2
EVENT_TYPE = "MARS-REGIONAL-MAPPING-Lc-Mw"
INSTRUMENT_HOST_ID = MEX
INSTRUMENT_HOST_NAME = "MARS EXPRESS"
INSTRUMENT_ID = HRSC
INSTRUMENT_NAME = "HIGH RESOLUTION STEREO CAMERA"
MISSION_NAME = "MARS EXPRESS"
MISSION_PHASE_NAME = ME_Phase_41
PROCESSING_LEVEL_ID = 4
PRODUCT_CREATION_TIME = 2023-01-28T19:11:08.000Z
PRODUCT_ID = "HK004_0000_S24.TIF"
RELEASE_ID = 0003
REVISION_ID = 0000
/* QUALITY DATA ELEMENTS */
DATA_QUALITY_ID = 1
DATA_QUALITY_DESC = "Data calculated based on original SPICE kernels"
/* TIME DATA ELEMENTS */
SPACECRAFT_CLOCK_START_COUNT = "1/0520234311.25687"
SPACECRAFT_CLOCK_STOP_COUNT = "1/0520234537.16268"
START_TIME = 2019-10-27T05:33:39.737Z
STOP_TIME = 2019-10-27T05:36:07.366Z
/* ORBITAL DATA ELEMENTS */
ASCENDING_NODE_LONGITUDE = 199.44
MAXIMUM_RESOLUTION = 0.0324
FOOTPRINT_POINT_LATITUDE = (66.4355,66.3975,66.3689,66.3148, 66.2814,66.2394,66.2372,66.3811,66.0314 ,65.8011,65.5713,65.2264,64.9968, 64.7674,64.5403,64.3169,64.0936,63.8704 ,63.6472,63.4244,63.2016,62.9791, 62.7609,62.5444,62.3276,62.111,61.7869, 61.5708,61.2468,61.031,60.8189,60.6091, 60.3991,60.1895,59.9799,59.7705,59.561, 59.3518,59.0379,58.7241,58.4112,58.2024 ,57.9937,57.5767,57.1604,56.7441, 56.5357,56.1199,55.7044,55.6006,55.5835 ,55.6068,55.6413,55.6639,55.7067, 55.7077,55.7087,56.2304,56.6481,57.0665 ,57.59,57.7995,58.0091,58.219,58.429, 58.639,58.8492,59.0593,59.3751,59.5856, 59.7965,60.0072,60.3239,60.5351,60.7463 ,60.9577,61.1711,61.3884,61.6061,61.933 ,62.151,62.3691,62.5872,62.8058,63.0244 ,63.2468,63.4718,63.6967,63.9219, 64.2599,64.4855,64.824,65.1723,65.4045, 65.6371,65.8698,66.1027,66.4532,66.5728 ,66.4355)
FOOTPRINT_POINT_LONGITUDE = (344.647,343.802,343.216,342.194, 341.611,340.92,340.884,340.709,340.846, 340.934,341.02,341.146,341.227,341.306, 341.383,341.457,341.53,341.601,341.67, 341.738,341.805,341.87,341.932,341.993, 342.053,342.112,342.197,342.253,342.334 ,342.387,342.438,342.488,342.537, 342.585,342.632,342.678,342.723,342.767 ,342.833,342.896,342.958,342.998, 343.037,343.114,343.188,343.26,343.295, 343.363,343.428,343.444,343.447,343.835 ,344.452,344.888,345.783,345.806, 345.814,345.779,345.751,345.722,345.684 ,345.668,345.652,345.636,345.619, 345.603,345.586,345.568,345.542,345.524 ,345.506,345.487,345.459,345.439,345.42 ,345.4,345.379,345.358,345.336,345.303, 345.28,345.257,345.233,345.209,345.184, 345.159,345.133,345.106,345.079,345.037 ,345.008,344.964,344.917,344.885, 344.853,344.82,344.785,344.733,344.714, 344.647)
ORBIT_NUMBER = 20004
ORBITAL_ECCENTRICITY = 0.573
ORBITAL_INCLINATION = 86.99
ORBITAL_SEMIMAJOR_AXIS = 8795.22
PERIAPSIS_ALTITUDE = 374.2
PERIAPSIS_ARGUMENT_ANGLE = 133.57
PERIAPSIS_TIME = 2019-10-27T05:38:11.000Z
SPACECRAFT_ORIENTATION = (0.0,-1.0,0.0)
^MEX_ORIENTATION_DESC = "MEX_ORIENTATION_DESC.TXT"
SPACECRAFT_POINTING_MODE = INERT
^MEX_POINTING_DESC = "MEX_POINTING_DESC.TXT"
RIGHT_ASCENSION = 184.145
DECLINATION = -50.364
OFFSET_ANGLE = -1e+32
SPACECRAFT_SOLAR_DISTANCE = 2.464e+08
TARGET_NAME = MARS
/* CAMERA DATA ELEMENTS */
DETECTOR_TEMPERATURE = 18.3705
FOCAL_PLANE_TEMPERATURE = 7.5638
INST_CMPRS_NAME = "DISCRETE COSINE TRANSFORMATION (DCT)"
INST_CMPRS_RATIO = 11.8516
INST_CMPRS_QUALITY = 0
INST_CMPRS_QUANTZ_TBL_ID = 0
INSTRUMENT_TEMPERATURE = 11.234
LENS_TEMPERATURE = 7.9716
MACROPIXEL_SIZE = 2
MISSING_FRAMES = 0
PIXEL_SUBSAMPLING_FLAG = N
SIGNAL_CHAIN_ID = 1
/* RADIOMETRIC DATA ELEMENTS */
BANDWIDTH = 178.0
CENTER_FILTER_WAVELENGTH = 679.0
RADIANCE_OFFSET = 3.0932
RADIANCE_SCALING_FACTOR = 0.0106003
REFLECTANCE_SCALING_FACTOR = 0.000340823
MEX:REFLECTANCE_OFFSET = 0.0994534
/* IMAGE OBJECT DEFINITIONS */
OBJECT = IMAGE
  INTERCHANGE_FORMAT = BINARY
  LINES = 26143
  LINE_SAMPLES = 5704
  SAMPLE_TYPE = UNSIGNED_INTEGER
  SAMPLE_BITS = 8
  BANDS = 1
  BAND_STORAGE_TYPE = BAND_SEQUENTIAL
  MAXIMUM = 255
  MEAN = 127.642
  MINIMUM = 1
  STANDARD_DEVIATION = 57.7091
END_OBJECT = IMAGE
/* MAP OBJECT DEFINITIONS */
OBJECT = IMAGE_MAP_PROJECTION
  ^DATA_SET_MAP_PROJECTION_CATALOG= "DSMAP.CAT"
  A_AXIS_RADIUS = 3396.0
  B_AXIS_RADIUS = 3396.0
  C_AXIS_RADIUS = 3396.0
  CENTER_LATITUDE = 0.0
  CENTER_LONGITUDE = 344.0
  COORDINATE_SYSTEM_NAME = PLANETOGRAPHIC
  COORDINATE_SYSTEM_TYPE = "BODY-FIXED ROTATING"
  EASTERNMOST_LONGITUDE = 345.814
  FIRST_STANDARD_PARALLEL = "N/A"
  LINE_FIRST_PIXEL = 1
  LINE_LAST_PIXEL = 26143
  LINE_PROJECTION_OFFSET = 157848.75
  MAP_PROJECTION_ROTATION = 0.0
  MAP_PROJECTION_TYPE = SINUSOIDAL
  MAP_RESOLUTION = 2370.85521546667
  MAP_SCALE = 0.025
  MAXIMUM_LATITUDE = 66.5728
  MINIMUM_LATITUDE = 55.5835
  POSITIVE_LONGITUDE_DIRECTION = EAST
  REFERENCE_LATITUDE = "N/A"
  REFERENCE_LONGITUDE = "N/A"
  SAMPLE_FIRST_PIXEL = 1
  SAMPLE_LAST_PIXEL = 5704
  SAMPLE_PROJECTION_OFFSET = 3011.75
  SECOND_STANDARD_PARALLEL = "N/A"
  WESTERNMOST_LONGITUDE = 340.709
END_OBJECT = IMAGE_MAP_PROJECTION
END
