PDS_VERSION_ID = PDS3
/* FILE DATA ELEMENTS */
RECORD_TYPE = UNDEFINED
/* POINTERS TO DATA OBJECTS */
^IMAGE = ("HK004_0000_RE4.TIF")
/* IDENTIFICATION DATA ELEMENTS */
DATA_SET_ID = "MEX-M-HRSC-4-REFDR-MAPPROJECT-EXT7-V4.0"
DATA_SET_NAME = "MARS EXPRESS HRSC MAP PROJECTED REFDR EXTENSION7 V4.0"
DETECTOR_ID = MEX_HRSC_RED
EVENT_TYPE = "MARS-REGIONAL-MAPPING-Lc-Mw"
INSTRUMENT_HOST_ID = MEX
INSTRUMENT_HOST_NAME = "MARS EXPRESS"
INSTRUMENT_ID = HRSC
INSTRUMENT_NAME = "HIGH RESOLUTION STEREO CAMERA"
MISSION_NAME = "MARS EXPRESS"
MISSION_PHASE_NAME = ME_Phase_41
PROCESSING_LEVEL_ID = 4
PRODUCT_CREATION_TIME = 2023-01-28T19:11:08.000Z
PRODUCT_ID = "HK004_0000_RE4.TIF"
RELEASE_ID = 0003
REVISION_ID = 0000
/* QUALITY DATA ELEMENTS */
DATA_QUALITY_ID = 1
DATA_QUALITY_DESC = "Data calculated based on original SPICE kernels"
/* TIME DATA ELEMENTS */
SPACECRAFT_CLOCK_START_COUNT = "1/0520234311.25687"
SPACECRAFT_CLOCK_STOP_COUNT = "1/0520234537.16268"
START_TIME = 2019-10-27T05:33:33.365Z
STOP_TIME = 2019-10-27T05:36:02.555Z
/* ORBITAL DATA ELEMENTS */
ASCENDING_NODE_LONGITUDE = 199.44
MAXIMUM_RESOLUTION = 0.0643
FOOTPRINT_POINT_LATITUDE = (66.4625,66.4194,66.3843,66.3525, 66.2655,66.2633,66.3858,66.1522,65.9188 ,65.6871,65.4596,65.2322,64.8913, 64.5507,64.3237,64.0993,63.8783,63.6572 ,63.4365,63.2157,62.9951,62.6644, 62.4455,62.2309,62.0162,61.6948,61.4804 ,61.2663,60.9452,60.7312,60.5181, 60.3097,60.1017,59.7897,59.4778,59.1661 ,58.8547,58.6469,58.4396,58.2321, 58.0248,57.7138,57.5067,57.0929,56.6789 ,56.0583,55.7482,55.6449,55.5609, 55.5862,55.6197,55.6439,55.6849,55.6859 ,55.6873,56.1026,56.6221,56.83,57.142, 57.35,57.5584,57.7667,57.975,58.1836, 58.4965,58.7052,58.914,59.1229,59.4365, 59.6456,59.855,60.0642,60.2737,60.4833, 60.693,60.9082,61.2317,61.4473,61.6633, 61.8794,62.2037,62.42,62.6364,62.9689, 63.1913,63.5256,63.8601,64.083,64.3064, 64.5337,64.7628,64.9927,65.2222,65.4521 ,65.6823,65.9124,66.1476,66.384,66.5021 ,66.4625)
FOOTPRINT_POINT_LONGITUDE = (344.672,343.714,343.007,342.408, 340.932,340.897,340.734,340.827,340.917 ,341.004,341.087,341.169,341.289, 341.404,341.479,341.552,341.622,341.69, 341.757,341.823,341.887,341.982,342.042 ,342.101,342.158,342.242,342.296,342.35 ,342.428,342.479,342.529,342.577, 342.624,342.692,342.759,342.824,342.888 ,342.929,342.97,343.01,343.049,343.106, 343.144,343.216,343.287,343.388,343.437 ,343.453,343.466,343.885,344.483, 344.949,345.816,345.839,345.846,345.819 ,345.783,345.769,345.747,345.732, 345.717,345.701,345.685,345.669,345.645 ,345.628,345.611,345.594,345.568,345.55 ,345.532,345.513,345.494,345.475, 345.456,345.435,345.404,345.383,345.361 ,345.339,345.305,345.282,345.259, 345.222,345.196,345.157,345.117,345.09, 345.062,345.033,345.003,344.973,344.942 ,344.91,344.877,344.844,344.81,344.774, 344.756,344.672)
ORBIT_NUMBER = 20004
ORBITAL_ECCENTRICITY = 0.573
ORBITAL_INCLINATION = 86.99
ORBITAL_SEMIMAJOR_AXIS = 8795.22
PERIAPSIS_ALTITUDE = 374.2
PERIAPSIS_ARGUMENT_ANGLE = 133.57
PERIAPSIS_TIME = 2019-10-27T05:38:11.000Z
SPACECRAFT_ORIENTATION = (0.0,-1.0,0.0)
^MEX_ORIENTATION_DESC = "MEX_ORIENTATION_DESC.TXT"
SPACECRAFT_POINTING_MODE = INERT
^MEX_POINTING_DESC = "MEX_POINTING_DESC.TXT"
RIGHT_ASCENSION = 184.145
DECLINATION = -50.364
OFFSET_ANGLE = -1e+32
SPACECRAFT_SOLAR_DISTANCE = 2.464e+08
TARGET_NAME = MARS
/* CAMERA DATA ELEMENTS */
DETECTOR_TEMPERATURE = 18.3705
FOCAL_PLANE_TEMPERATURE = 7.5638
INST_CMPRS_NAME = "DISCRETE COSINE TRANSFORMATION (DCT)"
INST_CMPRS_RATIO = 17.3352
INST_CMPRS_QUALITY = 0
INST_CMPRS_QUANTZ_TBL_ID = 0
INSTRUMENT_TEMPERATURE = 11.234
LENS_TEMPERATURE = 7.9716
MACROPIXEL_SIZE = 4
MISSING_FRAMES = 0
PIXEL_SUBSAMPLING_FLAG = N
SIGNAL_CHAIN_ID = 2
/* RADIOMETRIC DATA ELEMENTS */
BANDWIDTH = 48.0
CENTER_FILTER_WAVELENGTH = 748.0
RADIANCE_OFFSET = 0.793051
RADIANCE_SCALING_FACTOR = 0.00314049
REFLECTANCE_SCALING_FACTOR = 0.000435116
MEX:REFLECTANCE_OFFSET = 0.109877
/* IMAGE OBJECT DEFINITIONS */
OBJECT = IMAGE
  INTERCHANGE_FORMAT = BINARY
  LINES = 13072
  LINE_SAMPLES = 2852
  SAMPLE_TYPE = UNSIGNED_INTEGER
  SAMPLE_BITS = 8
  BANDS = 1
  BAND_STORAGE_TYPE = BAND_SEQUENTIAL
  MAXIMUM = 255
  MEAN = 125.926
  MINIMUM = 1
  STANDARD_DEVIATION = 58.9151
END_OBJECT = IMAGE
/* MAP OBJECT DEFINITIONS */
OBJECT = IMAGE_MAP_PROJECTION
  ^DATA_SET_MAP_PROJECTION_CATALOG= "DSMAP.CAT"
  A_AXIS_RADIUS = 3396.0
  B_AXIS_RADIUS = 3396.0
  C_AXIS_RADIUS = 3396.0
  CENTER_LATITUDE = 0.0
  CENTER_LONGITUDE = 344.0
  COORDINATE_SYSTEM_NAME = PLANETOGRAPHIC
  COORDINATE_SYSTEM_TYPE = "BODY-FIXED ROTATING"
  EASTERNMOST_LONGITUDE = 345.846
  FIRST_STANDARD_PARALLEL = "N/A"
  LINE_FIRST_PIXEL = 1
  LINE_LAST_PIXEL = 13072
  LINE_PROJECTION_OFFSET = 78924.125
  MAP_PROJECTION_ROTATION = 0.0
  MAP_PROJECTION_TYPE = SINUSOIDAL
  MAP_RESOLUTION = 1185.42760773333
  MAP_SCALE = 0.05
  MAXIMUM_LATITUDE = 66.5021
  MINIMUM_LATITUDE = 55.5609
  POSITIVE_LONGITUDE_DIRECTION = EAST
  REFERENCE_LATITUDE = "N/A"
  REFERENCE_LONGITUDE = "N/A"
  SAMPLE_FIRST_PIXEL = 1
  SAMPLE_LAST_PIXEL = 2852
  SAMPLE_PROJECTION_OFFSET = 1505.625
  SECOND_STANDARD_PARALLEL = "N/A"
  WESTERNMOST_LONGITUDE = 340.734
END_OBJECT = IMAGE_MAP_PROJECTION
END
