PDS_VERSION_ID = PDS3
/* FILE DATA ELEMENTS */
RECORD_TYPE = UNDEFINED
/* POINTERS TO DATA OBJECTS */
^IMAGE = ("HJ993_0000_P14.TIF")
/* IDENTIFICATION DATA ELEMENTS */
DATA_SET_ID = "MEX-M-HRSC-4-REFDR-MAPPROJECT-EXT7-V4.0"
DATA_SET_NAME = "MARS EXPRESS HRSC MAP PROJECTED REFDR EXTENSION7 V4.0"
DETECTOR_ID = MEX_HRSC_P1
EVENT_TYPE = "MARS-REGIONAL-MAPPING-Im-Gl-Eo"
INSTRUMENT_HOST_ID = MEX
INSTRUMENT_HOST_NAME = "MARS EXPRESS"
INSTRUMENT_ID = HRSC
INSTRUMENT_NAME = "HIGH RESOLUTION STEREO CAMERA"
MISSION_NAME = "MARS EXPRESS"
MISSION_PHASE_NAME = ME_Phase_41
PROCESSING_LEVEL_ID = 4
PRODUCT_CREATION_TIME = 2023-01-26T14:38:39.000Z
PRODUCT_ID = "HJ993_0000_P14.TIF"
RELEASE_ID = 0002
REVISION_ID = 0000
/* QUALITY DATA ELEMENTS */
DATA_QUALITY_ID = 1
DATA_QUALITY_DESC = "Data calculated based on original SPICE kernels"
/* TIME DATA ELEMENTS */
SPACECRAFT_CLOCK_START_COUNT = "1/0519957935.25671"
SPACECRAFT_CLOCK_STOP_COUNT = "1/0519958149.25999"
START_TIME = 2019-10-24T00:46:18.984Z
STOP_TIME = 2019-10-24T00:48:48.107Z
/* ORBITAL DATA ELEMENTS */
ASCENDING_NODE_LONGITUDE = 199.64
MAXIMUM_RESOLUTION = 0.0317
FOOTPRINT_POINT_LATITUDE = (56.0486,56.0538,56.0559,56.0566, 56.0558,56.0538,56.0506,56.0503,56.0175 ,55.8021,55.5886,55.375,55.0546,54.7339 ,54.5202,54.3063,53.8855,53.5733, 53.1571,52.9485,52.7398,52.3247,52.1062 ,51.8976,51.5821,51.1646,50.952,50.7376 ,50.5255,50.2116,50.0023,49.5891, 49.3789,49.167,48.8508,48.6421,48.3334, 48.124,47.9129,47.5964,47.3857,47.0714, 46.8612,46.5454,46.3304,46.12,45.9078, 45.5883,45.4824,45.4404,45.444,45.4358, 45.4316,45.417,45.4165,45.4169,45.7348, 45.9524,46.2685,46.4801,46.7977,47.1144 ,47.3255,47.5365,47.8529,48.0638, 48.2745,48.4851,48.6961,48.9089,49.12, 49.3295,49.5404,49.8543,50.0646,50.2734 ,50.4841,50.9034,51.2161,51.4255, 51.7388,52.0526,52.2619,52.5847,52.7934 ,53.1063,53.315,53.5242,53.8364,54.045, 54.2571,54.4714,54.7927,55.0068,55.2208 ,55.435,55.649,55.8628,55.9706,56.0486)
FOOTPRINT_POINT_LONGITUDE = (31.9137,31.3437,30.9372,30.5374, 30.1442,29.757,29.3757,29.352,29.4086, 29.4218,29.4346,29.4473,29.466,29.4845, 29.4964,29.5082,29.5305,29.5466,29.5672 ,29.5778,29.5884,29.6061,29.6174, 29.6271,29.6442,29.6625,29.6755,29.6899 ,29.7017,29.7147,29.7232,29.7347, 29.7436,29.7538,29.7673,29.7743,29.7809 ,29.7882,29.7967,29.8091,29.8168, 29.8269,29.834,29.8447,29.8548,29.8615, 29.8693,29.8786,29.8822,29.8837,30.3714 ,30.7448,31.219,31.8976,31.9185,31.9261 ,31.9261,31.9241,31.9271,31.9276, 31.9275,31.9292,31.9302,31.9313,31.9331 ,31.9344,31.9357,31.9375,31.9381, 31.9347,31.9347,31.9383,31.9389,31.9452 ,31.9468,31.952,31.9523,31.9585,31.9678 ,31.9713,31.9789,31.985,31.9887,31.9946 ,32.0,32.0086,32.0141,32.0178,32.0289, 32.0345,32.0401,32.0458,32.0548,32.061, 32.0676,32.0734,32.0796,32.0875,32.0908 ,31.9137)
ORBIT_NUMBER = 19993
ORBITAL_ECCENTRICITY = 0.573
ORBITAL_INCLINATION = 86.98
ORBITAL_SEMIMAJOR_AXIS = 8803.08
PERIAPSIS_ALTITUDE = 373.24
PERIAPSIS_ARGUMENT_ANGLE = 135.5
PERIAPSIS_TIME = 2019-10-24T00:49:32.000Z
SPACECRAFT_ORIENTATION = (0.0,-1.0,0.0)
^MEX_ORIENTATION_DESC = "MEX_ORIENTATION_DESC.TXT"
SPACECRAFT_POINTING_MODE = INERT
^MEX_POINTING_DESC = "MEX_POINTING_DESC.TXT"
RIGHT_ASCENSION = 192.115
DECLINATION = -35.206
OFFSET_ANGLE = -1e+32
SPACECRAFT_SOLAR_DISTANCE = 2.4668e+08
TARGET_NAME = MARS
/* CAMERA DATA ELEMENTS */
DETECTOR_TEMPERATURE = 17.7588
FOCAL_PLANE_TEMPERATURE = 8.5833
INST_CMPRS_NAME = "DISCRETE COSINE TRANSFORMATION (DCT)"
INST_CMPRS_RATIO = 6.94043
INST_CMPRS_QUALITY = 0
INST_CMPRS_QUANTZ_TBL_ID = 0
INSTRUMENT_TEMPERATURE = 11.4379
LENS_TEMPERATURE = 9.3989
MACROPIXEL_SIZE = 2
PIXEL_SUBSAMPLING_FLAG = N
SIGNAL_CHAIN_ID = 3
/* RADIOMETRIC DATA ELEMENTS */
BANDWIDTH = 174.0
CENTER_FILTER_WAVELENGTH = 675.0
RADIANCE_OFFSET = 2.14096
RADIANCE_SCALING_FACTOR = 0.0242973
REFLECTANCE_SCALING_FACTOR = 0.000795264
MEX:REFLECTANCE_OFFSET = 0.0700748
/* IMAGE OBJECT DEFINITIONS */
OBJECT = IMAGE
  INTERCHANGE_FORMAT = BINARY
  LINES = 25257
  LINE_SAMPLES = 3575
  SAMPLE_TYPE = UNSIGNED_INTEGER
  SAMPLE_BITS = 8
  BANDS = 1
  BAND_STORAGE_TYPE = BAND_SEQUENTIAL
  MAXIMUM = 255
  MEAN = 117.279
  MINIMUM = 1
  STANDARD_DEVIATION = 25.5859
END_OBJECT = IMAGE
/* MAP OBJECT DEFINITIONS */
OBJECT = IMAGE_MAP_PROJECTION
  ^DATA_SET_MAP_PROJECTION_CATALOG= "DSMAP.CAT"
  A_AXIS_RADIUS = 3396.0
  B_AXIS_RADIUS = 3396.0
  C_AXIS_RADIUS = 3396.0
  CENTER_LATITUDE = 0.0
  CENTER_LONGITUDE = 31.0
  COORDINATE_SYSTEM_NAME = PLANETOGRAPHIC
  COORDINATE_SYSTEM_TYPE = "BODY-FIXED ROTATING"
  EASTERNMOST_LONGITUDE = 32.0908
  FIRST_STANDARD_PARALLEL = "N/A"
  LINE_FIRST_PIXEL = 1
  LINE_LAST_PIXEL = 25257
  LINE_PROJECTION_OFFSET = 132934.25
  MAP_PROJECTION_ROTATION = 0.0
  MAP_PROJECTION_TYPE = SINUSOIDAL
  MAP_RESOLUTION = 2370.85521546667
  MAP_SCALE = 0.025
  MAXIMUM_LATITUDE = 56.0566
  MINIMUM_LATITUDE = 45.4165
  POSITIVE_LONGITUDE_DIRECTION = EAST
  REFERENCE_LATITUDE = "N/A"
  REFERENCE_LONGITUDE = "N/A"
  SAMPLE_FIRST_PIXEL = 1
  SAMPLE_LAST_PIXEL = 3575
  SAMPLE_PROJECTION_OFFSET = 2190.75
  SECOND_STANDARD_PARALLEL = "N/A"
  WESTERNMOST_LONGITUDE = 29.352
END_OBJECT = IMAGE_MAP_PROJECTION
END
