PDS_VERSION_ID = PDS3
/* FILE DATA ELEMENTS */
RECORD_TYPE = UNDEFINED
/* POINTERS TO DATA OBJECTS */
^IMAGE = ("HJ982_0000_S24.TIF")
/* IDENTIFICATION DATA ELEMENTS */
DATA_SET_ID = "MEX-M-HRSC-4-REFDR-MAPPROJECT-EXT7-V4.0"
DATA_SET_NAME = "MARS EXPRESS HRSC MAP PROJECTED REFDR EXTENSION7 V4.0"
DETECTOR_ID = MEX_HRSC_S2
EVENT_TYPE = "MARS-LOCAL-STEREO-Te-Tc-Ts"
INSTRUMENT_HOST_ID = MEX
INSTRUMENT_HOST_NAME = "MARS EXPRESS"
INSTRUMENT_ID = HRSC
INSTRUMENT_NAME = "HIGH RESOLUTION STEREO CAMERA"
MISSION_NAME = "MARS EXPRESS"
MISSION_PHASE_NAME = ME_Phase_41
PROCESSING_LEVEL_ID = 4
PRODUCT_CREATION_TIME = 2023-01-26T14:38:39.000Z
PRODUCT_ID = "HJ982_0000_S24.TIF"
RELEASE_ID = 0002
REVISION_ID = 0000
/* QUALITY DATA ELEMENTS */
DATA_QUALITY_ID = 1
DATA_QUALITY_DESC = "Data calculated based on original SPICE kernels"
/* TIME DATA ELEMENTS */
SPACECRAFT_CLOCK_START_COUNT = "1/0519681883.25700"
SPACECRAFT_CLOCK_STOP_COUNT = "1/0519682132.41961"
START_TIME = 2019-10-20T20:06:43.483Z
STOP_TIME = 2019-10-20T20:09:22.737Z
/* ORBITAL DATA ELEMENTS */
ASCENDING_NODE_LONGITUDE = 199.84
MAXIMUM_RESOLUTION = 0.0203
FOOTPRINT_POINT_LATITUDE = (23.2247,23.1953,23.1723,23.1497, 23.1277,23.106,23.0847,23.0834,23.1005, 22.7687,22.2658,21.9293,21.6779,21.3433 ,20.9205,20.5806,20.3204,20.1465, 19.8084,19.6363,19.4617,19.1982,19.0225 ,18.8481,18.6719,18.4953,18.319,18.1427 ,17.9646,17.786,17.6079,17.4304,17.25, 16.9777,16.7953,16.6165,16.433,16.25, 15.9759,15.6969,15.5109,15.3249,15.1372 ,14.9487,14.7613,14.5724,14.3824, 14.2878,14.272,14.2859,14.3047,14.3229, 14.3449,14.3667,14.38,14.4001,14.4124, 14.4138,14.4149,14.6046,14.7954,14.9828 ,15.1713,15.4529,15.7294,15.914,16.0967 ,16.2791,16.4578,16.6435,16.8316, 17.0118,17.1913,17.3748,17.5561,17.7323 ,17.9115,18.181,18.3535,18.5325,18.7093 ,18.9723,19.1476,19.3199,19.5813, 19.7564,20.0176,20.1893,20.375,20.5475, 20.8894,21.2157,21.6417,21.9769,22.313, 22.4855,22.8193,23.1503,23.2315, 23.2247)
FOOTPRINT_POINT_LONGITUDE = (75.6474,75.2419,74.9256,74.6161, 74.3134,74.0166,73.7254,73.7074,73.7074 ,73.6963,73.6776,73.6662,73.6577, 73.6469,73.6333,73.6211,73.6112,73.6043 ,73.5943,73.5883,73.5819,73.5714, 73.5643,73.5578,73.5514,73.5447,73.5379 ,73.531,73.5243,73.5174,73.5106,73.5038 ,73.4965,73.4853,73.4773,73.4707, 73.4631,73.4556,73.444,73.4319,73.4237, 73.4154,73.4071,73.3986,73.3903,73.3817 ,73.3732,73.369,73.3683,73.5998,73.899, 74.202,74.5546,74.8917,75.0969,75.3978, 75.5852,75.6086,75.6201,75.6205,75.6217 ,75.6224,75.6238,75.6247,75.6244,75.624 ,75.6217,75.6219,75.6182,75.621,75.6268 ,75.627,75.6262,75.6291,75.6304,75.6289 ,75.6301,75.6322,75.6279,75.6315, 75.6325,75.6313,75.6326,75.6317,75.6328 ,75.6341,75.6378,75.6385,75.6541, 75.6552,75.6576,75.6455,75.65,75.6531, 75.6564,75.6626,75.6686,75.672,75.6709, 75.6474)
ORBIT_NUMBER = 19982
ORBITAL_ECCENTRICITY = 0.573
ORBITAL_INCLINATION = 87.0
ORBITAL_SEMIMAJOR_AXIS = 8808.83
PERIAPSIS_ALTITUDE = 371.34
PERIAPSIS_ARGUMENT_ANGLE = 137.39
PERIAPSIS_TIME = 2019-10-20T20:00:52.000Z
SPACECRAFT_ORIENTATION = (0.0,-1.0,0.0)
^MEX_ORIENTATION_DESC = "MEX_ORIENTATION_DESC.TXT"
SPACECRAFT_POINTING_MODE = ACROSSTRACK
^MEX_POINTING_DESC = "MEX_POINTING_DESC.TXT"
RIGHT_ASCENSION = -1e+32
DECLINATION = -1e+32
OFFSET_ANGLE = 2.0
SPACECRAFT_SOLAR_DISTANCE = 2.46947e+08
TARGET_NAME = MARS
/* CAMERA DATA ELEMENTS */
DETECTOR_TEMPERATURE = 18.5744
FOCAL_PLANE_TEMPERATURE = 8.3794
INST_CMPRS_NAME = "DISCRETE COSINE TRANSFORMATION (DCT)"
INST_CMPRS_RATIO = 5.945
INST_CMPRS_QUALITY = 0
INST_CMPRS_QUANTZ_TBL_ID = 0
INSTRUMENT_TEMPERATURE = 11.4379
LENS_TEMPERATURE = 8.5833
MACROPIXEL_SIZE = 1
MISSING_FRAMES = 0
PIXEL_SUBSAMPLING_FLAG = N
SIGNAL_CHAIN_ID = 1
/* RADIOMETRIC DATA ELEMENTS */
BANDWIDTH = 178.0
CENTER_FILTER_WAVELENGTH = 679.0
RADIANCE_OFFSET = 2.20313
RADIANCE_SCALING_FACTOR = 0.0152466
REFLECTANCE_SCALING_FACTOR = 0.000492391
MEX:REFLECTANCE_OFFSET = 0.0711505
/* IMAGE OBJECT DEFINITIONS */
OBJECT = IMAGE
  INTERCHANGE_FORMAT = BINARY
  LINES = 42065
  LINE_SAMPLES = 9742
  SAMPLE_TYPE = UNSIGNED_INTEGER
  SAMPLE_BITS = 8
  BANDS = 1
  BAND_STORAGE_TYPE = BAND_SEQUENTIAL
  MAXIMUM = 255
  MEAN = 108.242
  MINIMUM = 1
  STANDARD_DEVIATION = 34.6494
END_OBJECT = IMAGE
/* MAP OBJECT DEFINITIONS */
OBJECT = IMAGE_MAP_PROJECTION
  ^DATA_SET_MAP_PROJECTION_CATALOG= "DSMAP.CAT"
  A_AXIS_RADIUS = 3396.0
  B_AXIS_RADIUS = 3396.0
  C_AXIS_RADIUS = 3396.0
  CENTER_LATITUDE = 0.0
  CENTER_LONGITUDE = 75.0
  COORDINATE_SYSTEM_NAME = PLANETOGRAPHIC
  COORDINATE_SYSTEM_TYPE = "BODY-FIXED ROTATING"
  EASTERNMOST_LONGITUDE = 75.672
  FIRST_STANDARD_PARALLEL = "N/A"
  LINE_FIRST_PIXEL = 1
  LINE_LAST_PIXEL = 42065
  LINE_PROJECTION_OFFSET = 109953.0
  MAP_PROJECTION_ROTATION = 0.0
  MAP_PROJECTION_TYPE = SINUSOIDAL
  MAP_RESOLUTION = 4741.71043093333
  MAP_SCALE = 0.0125
  MAXIMUM_LATITUDE = 23.2315
  MINIMUM_LATITUDE = 14.272
  POSITIVE_LONGITUDE_DIRECTION = EAST
  REFERENCE_LATITUDE = "N/A"
  REFERENCE_LONGITUDE = "N/A"
  SAMPLE_FIRST_PIXEL = 1
  SAMPLE_LAST_PIXEL = 9742
  SAMPLE_PROJECTION_OFFSET = 7168.0
  SECOND_STANDARD_PARALLEL = "N/A"
  WESTERNMOST_LONGITUDE = 73.3683
END_OBJECT = IMAGE_MAP_PROJECTION
END
