PDS_VERSION_ID = PDS3
/* FILE DATA ELEMENTS */
RECORD_TYPE = UNDEFINED
/* POINTERS TO DATA OBJECTS */
^IMAGE = ("HJ979_0000_S14.TIF")
/* IDENTIFICATION DATA ELEMENTS */
DATA_SET_ID = "MEX-M-HRSC-4-REFDR-MAPPROJECT-EXT7-V4.0"
DATA_SET_NAME = "MARS EXPRESS HRSC MAP PROJECTED REFDR EXTENSION7 V4.0"
DETECTOR_ID = MEX_HRSC_S1
EVENT_TYPE = "MARS-REGIONAL-MAPPING-Im-Gl-Pf"
INSTRUMENT_HOST_ID = MEX
INSTRUMENT_HOST_NAME = "MARS EXPRESS"
INSTRUMENT_ID = HRSC
INSTRUMENT_NAME = "HIGH RESOLUTION STEREO CAMERA"
MISSION_NAME = "MARS EXPRESS"
MISSION_PHASE_NAME = ME_Phase_41
PROCESSING_LEVEL_ID = 4
PRODUCT_CREATION_TIME = 2023-01-26T14:38:39.000Z
PRODUCT_ID = "HJ979_0000_S14.TIF"
RELEASE_ID = 0002
REVISION_ID = 0000
/* QUALITY DATA ELEMENTS */
DATA_QUALITY_ID = 1
DATA_QUALITY_DESC = "Data calculated based on original SPICE kernels"
/* TIME DATA ELEMENTS */
SPACECRAFT_CLOCK_START_COUNT = "1/0519606043.25698"
SPACECRAFT_CLOCK_STOP_COUNT = "1/0519606157.64135"
START_TIME = 2019-10-19T23:01:15.500Z
STOP_TIME = 2019-10-19T23:02:05.948Z
/* ORBITAL DATA ELEMENTS */
ASCENDING_NODE_LONGITUDE = 199.9
MAXIMUM_RESOLUTION = 0.0329
FOOTPRINT_POINT_LATITUDE = (50.4903,50.4916,50.493,50.4941,50.4949 ,50.4954,50.4957,50.4956,50.4953, 50.4946,50.4937,50.4925,50.4911,50.4894 ,50.4892,50.4149,50.2048,50.0645, 49.8897,49.7844,49.6088,49.4686,49.3635 ,49.223,49.118,49.0132,48.9428,48.872, 48.7663,48.6609,48.5202,48.4498,48.3442 ,48.2737,48.168,47.9925,47.8521,47.7466 ,47.6409,47.5705,47.5,47.3942,47.3235, 47.2528,47.1821,47.1112,47.0054,46.9, 46.8646,46.8494,46.8498,46.8505,46.8513 ,46.8521,46.8524,46.8521,46.8505, 46.8506,46.8497,46.848,46.8463,46.8442, 46.8424,46.8421,46.8426,46.9132,46.9839 ,47.0898,47.1603,47.2661,47.3367, 47.4077,47.4786,47.6195,47.6903,47.7609 ,47.8669,47.9725,48.0786,48.185,48.3607 ,48.4668,48.5377,48.6431,48.7136, 48.8193,48.9207,49.0615,49.1713,49.2774 ,49.3822,49.5576,49.6981,49.8033, 49.9438,50.0492,50.2245,50.3648,50.3998 ,50.4903)
FOOTPRINT_POINT_LONGITUDE = (20.8793,20.7507,20.5802,20.4107, 20.2421,20.0745,19.9077,19.742,19.5773, 19.4136,19.2507,19.0886,18.9273,18.7669 ,18.7469,18.7686,18.781,18.7893,18.7993 ,18.8054,18.8154,18.8232,18.829,18.8368 ,18.8424,18.8479,18.8517,18.8557, 18.8614,18.867,18.8743,18.878,18.8835, 18.8872,18.8926,18.9013,18.9082,18.9134 ,18.9186,18.9221,18.9255,18.9306, 18.9341,18.9375,18.9409,18.9444,18.9493 ,18.9541,18.9558,18.9565,19.09,19.2248, 19.36,19.4958,19.6322,19.7891,20.007, 20.1258,20.2657,20.5067,20.6687,20.8318 ,20.975,20.9955,21.0029,21.0027,21.0025 ,21.0023,21.0023,21.0022,21.002,21.0014 ,21.0008,21.0008,21.0004,21.0001, 20.9997,20.9997,20.999,20.9979,20.9982, 20.9975,20.9968,20.9969,20.9966,20.9964 ,21.002,21.0016,20.9955,20.9945,20.9955 ,20.9957,20.9956,20.9958,20.9957, 20.9954,20.9957,20.9957,20.9958, 20.8793)
ORBIT_NUMBER = 19979
ORBITAL_ECCENTRICITY = 0.573
ORBITAL_INCLINATION = 86.98
ORBITAL_SEMIMAJOR_AXIS = 8806.3
PERIAPSIS_ALTITUDE = 371.98
PERIAPSIS_ARGUMENT_ANGLE = 137.91
PERIAPSIS_TIME = 2019-10-19T23:03:55.000Z
SPACECRAFT_ORIENTATION = (0.0,-1.0,0.0)
^MEX_ORIENTATION_DESC = "MEX_ORIENTATION_DESC.TXT"
SPACECRAFT_POINTING_MODE = INERT
^MEX_POINTING_DESC = "MEX_POINTING_DESC.TXT"
RIGHT_ASCENSION = 196.507
DECLINATION = -37.865
OFFSET_ANGLE = -1e+32
SPACECRAFT_SOLAR_DISTANCE = 2.47018e+08
TARGET_NAME = MARS
/* CAMERA DATA ELEMENTS */
DETECTOR_TEMPERATURE = 18.3705
FOCAL_PLANE_TEMPERATURE = 7.5638
INST_CMPRS_NAME = "DISCRETE COSINE TRANSFORMATION (DCT)"
INST_CMPRS_RATIO = 9.47272
INST_CMPRS_QUALITY = 0
INST_CMPRS_QUANTZ_TBL_ID = 0
INSTRUMENT_TEMPERATURE = 10.4184
LENS_TEMPERATURE = 7.9716
MACROPIXEL_SIZE = 2
MISSING_FRAMES = 0
PIXEL_SUBSAMPLING_FLAG = N
SIGNAL_CHAIN_ID = 1
/* RADIOMETRIC DATA ELEMENTS */
BANDWIDTH = 180.0
CENTER_FILTER_WAVELENGTH = 677.0
RADIANCE_OFFSET = 2.57117
RADIANCE_SCALING_FACTOR = 0.0170973
REFLECTANCE_SCALING_FACTOR = 0.000544284
MEX:REFLECTANCE_OFFSET = 0.0818519
/* IMAGE OBJECT DEFINITIONS */
OBJECT = IMAGE
  INTERCHANGE_FORMAT = BINARY
  LINES = 8651
  LINE_SAMPLES = 3406
  SAMPLE_TYPE = UNSIGNED_INTEGER
  SAMPLE_BITS = 8
  BANDS = 1
  BAND_STORAGE_TYPE = BAND_SEQUENTIAL
  MAXIMUM = 255
  MEAN = 148.219
  MINIMUM = 1
  STANDARD_DEVIATION = 26.6783
END_OBJECT = IMAGE
/* MAP OBJECT DEFINITIONS */
OBJECT = IMAGE_MAP_PROJECTION
  ^DATA_SET_MAP_PROJECTION_CATALOG= "DSMAP.CAT"
  A_AXIS_RADIUS = 3396.0
  B_AXIS_RADIUS = 3396.0
  C_AXIS_RADIUS = 3396.0
  CENTER_LATITUDE = 0.0
  CENTER_LONGITUDE = 20.0
  COORDINATE_SYSTEM_NAME = PLANETOGRAPHIC
  COORDINATE_SYSTEM_TYPE = "BODY-FIXED ROTATING"
  EASTERNMOST_LONGITUDE = 21.0029
  FIRST_STANDARD_PARALLEL = "N/A"
  LINE_FIRST_PIXEL = 1
  LINE_LAST_PIXEL = 8651
  LINE_PROJECTION_OFFSET = 119681.25
  MAP_PROJECTION_ROTATION = 0.0
  MAP_PROJECTION_TYPE = SINUSOIDAL
  MAP_RESOLUTION = 2370.85521546667
  MAP_SCALE = 0.025
  MAXIMUM_LATITUDE = 50.4957
  MINIMUM_LATITUDE = 46.8421
  POSITIVE_LONGITUDE_DIRECTION = EAST
  REFERENCE_LATITUDE = "N/A"
  REFERENCE_LONGITUDE = "N/A"
  SAMPLE_FIRST_PIXEL = 1
  SAMPLE_LAST_PIXEL = 3406
  SAMPLE_PROJECTION_OFFSET = 2030.25
  SECOND_STANDARD_PARALLEL = "N/A"
  WESTERNMOST_LONGITUDE = 18.7469
END_OBJECT = IMAGE_MAP_PROJECTION
END
