PDS_VERSION_ID = PDS3
/* FILE DATA ELEMENTS */
RECORD_TYPE = UNDEFINED
/* POINTERS TO DATA OBJECTS */
^IMAGE = ("HJ979_0000_RE4.TIF")
/* IDENTIFICATION DATA ELEMENTS */
DATA_SET_ID = "MEX-M-HRSC-4-REFDR-MAPPROJECT-EXT7-V4.0"
DATA_SET_NAME = "MARS EXPRESS HRSC MAP PROJECTED REFDR EXTENSION7 V4.0"
DETECTOR_ID = MEX_HRSC_RED
EVENT_TYPE = "MARS-REGIONAL-MAPPING-Im-Gl-Pf"
INSTRUMENT_HOST_ID = MEX
INSTRUMENT_HOST_NAME = "MARS EXPRESS"
INSTRUMENT_ID = HRSC
INSTRUMENT_NAME = "HIGH RESOLUTION STEREO CAMERA"
MISSION_NAME = "MARS EXPRESS"
MISSION_PHASE_NAME = ME_Phase_41
PROCESSING_LEVEL_ID = 4
PRODUCT_CREATION_TIME = 2023-01-26T14:38:39.000Z
PRODUCT_ID = "HJ979_0000_RE4.TIF"
RELEASE_ID = 0002
REVISION_ID = 0000
/* QUALITY DATA ELEMENTS */
DATA_QUALITY_ID = 1
DATA_QUALITY_DESC = "Data calculated based on original SPICE kernels"
/* TIME DATA ELEMENTS */
SPACECRAFT_CLOCK_START_COUNT = "1/0519606043.25698"
SPACECRAFT_CLOCK_STOP_COUNT = "1/0519606157.64135"
START_TIME = 2019-10-19T23:02:14.098Z
STOP_TIME = 2019-10-19T23:03:03.212Z
/* ORBITAL DATA ELEMENTS */
ASCENDING_NODE_LONGITUDE = 199.9
MAXIMUM_RESOLUTION = 0.0625
FOOTPRINT_POINT_LATITUDE = (50.4309,50.4187,50.4087,50.3987, 50.3885,50.3783,50.3679,50.3575,50.347, 50.3364,50.3257,50.3149,50.304,50.2929, 50.2916,50.3699,50.2985,50.2271,50.1558 ,50.0487,49.9772,49.8701,49.7628, 49.6915,49.6203,49.5488,49.4415,49.2989 ,49.1212,49.0139,48.9423,48.7998, 48.6935,48.6223,48.5154,48.3732,48.267, 48.0894,47.9826,47.8406,47.663,47.5563, 47.3789,47.2371,47.0596,46.8471,46.8117 ,46.8003,46.809,46.8192,46.8287,46.8389 ,46.8465,46.8551,46.865,46.8794,46.8943 ,46.9037,46.9144,46.9215,46.9321, 46.9332,46.9348,47.077,47.2193,47.326, 47.3973,47.5041,47.6819,47.8242,47.9309 ,48.0022,48.0737,48.1807,48.2876, 48.4301,48.5368,48.6082,48.7153,48.8576 ,48.9289,49.036,49.1424,49.2144,49.2859 ,49.3578,49.4651,49.5727,49.6446, 49.7522,49.824,49.8956,49.9672,50.0744, 50.1822,50.2898,50.3616,50.4691,50.5051 ,50.4309)
FOOTPRINT_POINT_LONGITUDE = (20.6435,20.4416,20.2813,20.1222, 19.9639,19.8066,19.6501,19.4947,19.3402 ,19.1867,19.0341,18.8821,18.7309, 18.5804,18.5616,18.5686,18.5728,18.5768 ,18.5809,18.587,18.5909,18.5969,18.6028 ,18.6067,18.6106,18.6145,18.6202, 18.6278,18.6373,18.6428,18.6464,18.6537 ,18.6593,18.6629,18.6682,18.6753, 18.6807,18.6894,18.6945,18.7014,18.7098 ,18.7148,18.723,18.7295,18.7375,18.7471 ,18.7487,18.7492,18.8713,19.0131, 19.1379,19.281,19.3888,19.515,19.6601, 19.8618,20.0834,20.2317,20.3997,20.5124 ,20.6827,20.7017,20.7081,20.7095, 20.7111,20.7121,20.713,20.7142,20.7158, 20.7171,20.718,20.7189,20.72,20.7213, 20.7224,20.7238,20.7247,20.7255,20.7269 ,20.7278,20.7287,20.7298,20.7302, 20.7317,20.7327,20.7341,20.7356,20.7374 ,20.7387,20.7405,20.7417,20.7428, 20.7436,20.7449,20.7468,20.7484,20.7496 ,20.751,20.7518,20.6435)
ORBIT_NUMBER = 19979
ORBITAL_ECCENTRICITY = 0.573
ORBITAL_INCLINATION = 86.98
ORBITAL_SEMIMAJOR_AXIS = 8806.3
PERIAPSIS_ALTITUDE = 371.98
PERIAPSIS_ARGUMENT_ANGLE = 137.91
PERIAPSIS_TIME = 2019-10-19T23:03:55.000Z
SPACECRAFT_ORIENTATION = (0.0,-1.0,0.0)
^MEX_ORIENTATION_DESC = "MEX_ORIENTATION_DESC.TXT"
SPACECRAFT_POINTING_MODE = INERT
^MEX_POINTING_DESC = "MEX_POINTING_DESC.TXT"
RIGHT_ASCENSION = 196.507
DECLINATION = -37.865
OFFSET_ANGLE = -1e+32
SPACECRAFT_SOLAR_DISTANCE = 2.47018e+08
TARGET_NAME = MARS
/* CAMERA DATA ELEMENTS */
DETECTOR_TEMPERATURE = 18.1666
FOCAL_PLANE_TEMPERATURE = 7.5638
INST_CMPRS_NAME = "DISCRETE COSINE TRANSFORMATION (DCT)"
INST_CMPRS_RATIO = 14.5121
INST_CMPRS_QUALITY = 0
INST_CMPRS_QUANTZ_TBL_ID = 0
INSTRUMENT_TEMPERATURE = 10.4184
LENS_TEMPERATURE = 7.9716
MACROPIXEL_SIZE = 4
MISSING_FRAMES = 0
PIXEL_SUBSAMPLING_FLAG = N
SIGNAL_CHAIN_ID = 2
/* RADIOMETRIC DATA ELEMENTS */
BANDWIDTH = 48.0
CENTER_FILTER_WAVELENGTH = 748.0
RADIANCE_OFFSET = 0.697116
RADIANCE_SCALING_FACTOR = 0.0043232
REFLECTANCE_SCALING_FACTOR = 0.000601989
MEX:REFLECTANCE_OFFSET = 0.0970708
/* IMAGE OBJECT DEFINITIONS */
OBJECT = IMAGE
  INTERCHANGE_FORMAT = BINARY
  LINES = 4326
  LINE_SAMPLES = 1703
  SAMPLE_TYPE = UNSIGNED_INTEGER
  SAMPLE_BITS = 8
  BANDS = 1
  BAND_STORAGE_TYPE = BAND_SEQUENTIAL
  MAXIMUM = 255
  MEAN = 149.07
  MINIMUM = 1
  STANDARD_DEVIATION = 29.7774
END_OBJECT = IMAGE
/* MAP OBJECT DEFINITIONS */
OBJECT = IMAGE_MAP_PROJECTION
  ^DATA_SET_MAP_PROJECTION_CATALOG= "DSMAP.CAT"
  A_AXIS_RADIUS = 3396.0
  B_AXIS_RADIUS = 3396.0
  C_AXIS_RADIUS = 3396.0
  CENTER_LATITUDE = 0.0
  CENTER_LONGITUDE = 20.0
  COORDINATE_SYSTEM_NAME = PLANETOGRAPHIC
  COORDINATE_SYSTEM_TYPE = "BODY-FIXED ROTATING"
  EASTERNMOST_LONGITUDE = 20.7518
  FIRST_STANDARD_PARALLEL = "N/A"
  LINE_FIRST_PIXEL = 1
  LINE_LAST_PIXEL = 4326
  LINE_PROJECTION_OFFSET = 59840.375
  MAP_PROJECTION_ROTATION = 0.0
  MAP_PROJECTION_TYPE = SINUSOIDAL
  MAP_RESOLUTION = 1185.42760773333
  MAP_SCALE = 0.05
  MAXIMUM_LATITUDE = 50.5051
  MINIMUM_LATITUDE = 46.8003
  POSITIVE_LONGITUDE_DIRECTION = EAST
  REFERENCE_LATITUDE = "N/A"
  REFERENCE_LONGITUDE = "N/A"
  SAMPLE_FIRST_PIXEL = 1
  SAMPLE_LAST_PIXEL = 1703
  SAMPLE_PROJECTION_OFFSET = 1014.875
  SECOND_STANDARD_PARALLEL = "N/A"
  WESTERNMOST_LONGITUDE = 18.5616
END_OBJECT = IMAGE_MAP_PROJECTION
END
